Workbook
Name OLE_LINK1: EH!#REF!
Name OLE_LINK1: 'II_Części zamienne'!#REF!
Name OLE_LINK1: III_Automatyka!#REF!
Name OLE_LINK1: 'IV_Urządzenia strzałowe'!$AC$4
Name OLE_LINK1: 'VIII_Części RSPC'!#REF!

Sheet EH
A1: CENNIK ISTOTNYCH DLA ZAMAWIAJĄCEGO NOWYCH CZĘŚCI ZAMIENNYCH
A2: Lp. | B2: Cennik części zamiennych i podzespołów nowych - 2020 i 2021r | C2: Typ | D2: Indeks | E2: Nr Rysunku | F2: Rbh wyrób | I2: Rbh półwyroby | L2: Wycena 2019 | AA2: Cena jednostkowa netto [PLN/JM] | AB2: Usługi wycena 2019
A3: 1 | B3: Dławik gumowy Wkd… Wkd | D3: 700-161-0001 ÷ 700-161-0020 | L3: 10 | N3: =(M3-L3)/L3 -> -1 | O3: 0 | P3: =F3*Dane!$C$14+G3*Dane!$C$15+H3*Dane!$C$17 -> 0 | Q3: =F3*Dane!$F$14+G3*Dane!$F$15+H3*Dane!$F$17 -> 0 | R3: =F3*Dane!$H$14+G3*Dane!$H$15+H3*Dane!$H$16+(F3+G3+H3)*Dane!$C$22 -> 0 | S3: =SUM(L3,O3:R3) -> 10 | T3: =S3*Dane!$D$2 -> 2 | U3: 0 | V3: =SUM(S3:U3) -> 12 | W3: =V3*0.1 -> 1.2 | X3: =V3*0.2 -> 2.4 | Y3: =SUM(V3:W3) -> 13.2 | Z3: =SUM(V3,X3) -> 14.4 | AB3: =IFERROR(IF(#REF!="W",$AA3*Dane!$D$6,"-"),"-") -> - | AC3: =IFERROR(IF(#REF!="W",$AA3*Dane!$D$7,"-"),"-") -> - | AD3: =IFERROR(IF(#REF!="W",$AA3*Dane!$D$8,"-"),"-") -> -
A4: 2 | B4: Gniazdo EA-2 / ZLS | D4: 729-318-0410 | L4: 113.006 | M4: =VLOOKUP($D4,Materiał!$B$2:$E$1153,3,0) -> 113.006 | N4: =(M4-L4)/L4 -> 0 | O4: 0 | P4: =F4*Dane!$C$14+G4*Dane!$C$15+H4*Dane!$C$17 -> 0 | Q4: =F4*Dane!$F$14+G4*Dane!$F$15+H4*Dane!$F$17 -> 0 | R4: =F4*Dane!$H$14+G4*Dane!$H$15+H4*Dane!$H$16+(F4+G4+H4)*Dane!$C$22 -> 0 | S4: =SUM(L4,O4:R4) -> 113.006 | T4: =S4*Dane!$D$2 -> 22.6012 | U4: 0 | V4: =SUM(S4:U4) -> 135.6072 | W4: =V4*0.1 -> 13.56072 | X4: =V4*0.2 -> 27.12144 | Y4: =SUM(V4:W4) -> 149.16792 | Z4: =SUM(V4,X4) -> 162.72864 | AB4: =IFERROR(IF(#REF!="W",$AA4*Dane!$D$6,"-"),"-") -> - | AC4: =IFERROR(IF(#REF!="W",$AA4*Dane!$D$7,"-"),"-") -> - | AD4: =IFERROR(IF(#REF!="W",$AA4*Dane!$D$8,"-"),"-") -> -
A5: 3 | B5: Izolator prądowy przepustowy E16-M42 (C40) (2000V 450A),zacisk przyłączeniowy P18-1A (Ag) | C5: =MID(B5,FIND("E1",B5,1),50) -> E16-M42 (C40) (2000V 450A),zacisk przyłączeniowy P | D5: 687-471-0140 | L5: 397.5675 | M5: =VLOOKUP($D5,Materiał!$B$2:$E$1153,3,0) -> 332.5 | N5: =(M5-L5)/L5 -> -0.16366403 | O5: 0 | P5: =F5*Dane!$C$14+G5*Dane!$C$15+H5*Dane!$C$17 -> 0 | Q5: =F5*Dane!$F$14+G5*Dane!$F$15+H5*Dane!$F$17 -> 0 | R5: =F5*Dane!$H$14+G5*Dane!$H$15+H5*Dane!$H$16+(F5+G5+H5)*Dane!$C$22 -> 0 | S5: =SUM(L5,O5:R5) -> 397.5675 | T5: =S5*Dane!$D$2 -> 79.5135 | U5: 0 | V5: =SUM(S5:U5) -> 477.081 | W5: =V5*0.1 -> 47.7081 | X5: =V5*0.2 -> 95.4162 | Y5: =SUM(V5:W5) -> 524.7891 | Z5: =SUM(V5,X5) -> 572.4972 | AB5: =IFERROR(IF(#REF!="W",$AA5*Dane!$D$6,"-"),"-") -> - | AC5: =IFERROR(IF(#REF!="W",$AA5*Dane!$D$7,"-"),"-") -> - | AD5: =IFERROR(IF(#REF!="W",$AA5*Dane!$D$8,"-"),"-") -> -
A6: 4 | B6: Izolator przepustowy 450A ZEG IPP | D6: 2011-R511694 | F6: 0 | G6: 1.5 | H6: 0.25 | L6: 145.97 | M6: =VLOOKUP($D6,Materiał!$B$2:$E$1153,3,0) -> 145.97 | N6: =(M6-L6)/L6 -> 0 | O6: 0 | P6: =F6*Dane!$C$14+G6*Dane!$C$15+H6*Dane!$C$17 -> 59 | Q6: =F6*Dane!$F$14+G6*Dane!$F$15+H6*Dane!$F$17 -> 8.75 | R6: =F6*Dane!$H$14+G6*Dane!$H$15+H6*Dane!$H$16+(F6+G6+H6)*Dane!$C$22 -> 126 | S6: =SUM(L6,O6:R6) -> 339.72 | T6: =S6*Dane!$D$2 -> 67.944 | U6: 0 | V6: =SUM(S6:U6) -> 407.664 | W6: =V6*0.1 -> 40.7664 | X6: =V6*0.2 -> 81.5328 | Y6: =SUM(V6:W6) -> 448.4304 | Z6: =SUM(V6,X6) -> 489.1968 | AB6: =IFERROR(IF(#REF!="W",$AA6*Dane!$D$6,"-"),"-") -> - | AC6: =IFERROR(IF(#REF!="W",$AA6*Dane!$D$7,"-"),"-") -> - | AD6: =IFERROR(IF(#REF!="W",$AA6*Dane!$D$8,"-"),"-") -> -
A7: 5 | B7: Izolatory prądowe przepustowe ZEG-IPP 450A WI ZEG-IPP 450A WII | D7: 2011-R511694, 2011-R511694.WI | F7: 0 | G7: 1.5 | H7: 0.25 | L7: 150 | N7: =(M7-L7)/L7 -> -1 | O7: 0 | P7: =F7*Dane!$C$14+G7*Dane!$C$15+H7*Dane!$C$17 -> 59 | Q7: =F7*Dane!$F$14+G7*Dane!$F$15+H7*Dane!$F$17 -> 8.75 | R7: =F7*Dane!$H$14+G7*Dane!$H$15+H7*Dane!$H$16+(F7+G7+H7)*Dane!$C$22 -> 126 | S7: =SUM(L7,O7:R7) -> 343.75 | T7: =S7*Dane!$D$2 -> 68.75 | U7: 0 | V7: =SUM(S7:U7) -> 412.5 | W7: =V7*0.1 -> 41.25 | X7: =V7*0.2 -> 82.5 | Y7: =SUM(V7:W7) -> 453.75 | Z7: =SUM(V7,X7) -> 495 | AB7: =IFERROR(IF(#REF!="W",$AA7*Dane!$D$6,"-"),"-") -> - | AC7: =IFERROR(IF(#REF!="W",$AA7*Dane!$D$7,"-"),"-") -> - | AD7: =IFERROR(IF(#REF!="W",$AA7*Dane!$D$8,"-"),"-") -> -
A8: 6 | B8: Napęd przycisków i przełączników ZB4/… | D8: 682-703-1820(60);681-758-0551;682-703-1410(20)(50) | L8: 50 | N8: =(M8-L8)/L8 -> -1 | O8: 0 | P8: =F8*Dane!$C$14+G8*Dane!$C$15+H8*Dane!$C$17 -> 0 | Q8: =F8*Dane!$F$14+G8*Dane!$F$15+H8*Dane!$F$17 -> 0 | R8: =F8*Dane!$H$14+G8*Dane!$H$15+H8*Dane!$H$16+(F8+G8+H8)*Dane!$C$22 -> 0 | S8: =SUM(L8,O8:R8) -> 50 | T8: =S8*Dane!$D$2 -> 10 | U8: 0 | V8: =SUM(S8:U8) -> 60 | W8: =V8*0.1 -> 6 | X8: =V8*0.2 -> 12 | Y8: =SUM(V8:W8) -> 66 | Z8: =SUM(V8,X8) -> 72 | AB8: =IFERROR(IF(#REF!="W",$AA8*Dane!$D$6,"-"),"-") -> - | AC8: =IFERROR(IF(#REF!="W",$AA8*Dane!$D$7,"-"),"-") -> - | AD8: =IFERROR(IF(#REF!="W",$AA8*Dane!$D$8,"-"),"-") -> -
A9: 7 | B9: Podstawa bezpiecznikowa 2A/1200 do bezpiecznika 2A/1200V | D9: 681-930-0151 | L9: 72 | M9: =VLOOKUP($D9,Materiał!$B$2:$E$1153,3,0) -> 72 | N9: =(M9-L9)/L9 -> 0 | O9: 0 | P9: =F9*Dane!$C$14+G9*Dane!$C$15+H9*Dane!$C$17 -> 0 | Q9: =F9*Dane!$F$14+G9*Dane!$F$15+H9*Dane!$F$17 -> 0 | R9: =F9*Dane!$H$14+G9*Dane!$H$15+H9*Dane!$H$16+(F9+G9+H9)*Dane!$C$22 -> 0 | S9: =SUM(L9,O9:R9) -> 72 | T9: =S9*Dane!$D$2 -> 14.4 | U9: 0 | V9: =SUM(S9:U9) -> 86.4 | W9: =V9*0.1 -> 8.64 | X9: =V9*0.2 -> 17.28 | Y9: =SUM(V9:W9) -> 95.04 | Z9: =SUM(V9,X9) -> 103.68 | AB9: =IFERROR(IF(#REF!="W",$AA9*Dane!$D$6,"-"),"-") -> - | AC9: =IFERROR(IF(#REF!="W",$AA9*Dane!$D$7,"-"),"-") -> - | AD9: =IFERROR(IF(#REF!="W",$AA9*Dane!$D$8,"-"),"-") -> -
A10: 8 | B10: Podstawa bezpiecznikowa- PB | D10: 681-930-1730 | L10: 110.715 | N10: =(M10-L10)/L10 -> -1 | O10: 0 | P10: =F10*Dane!$C$14+G10*Dane!$C$15+H10*Dane!$C$17 -> 0 | Q10: =F10*Dane!$F$14+G10*Dane!$F$15+H10*Dane!$F$17 -> 0 | R10: =F10*Dane!$H$14+G10*Dane!$H$15+H10*Dane!$H$16+(F10+G10+H10)*Dane!$C$22 -> 0 | S10: =SUM(L10,O10:R10) -> 110.715 | T10: =S10*Dane!$D$2 -> 22.143 | U10: 0 | V10: =SUM(S10:U10) -> 132.858 | W10: =V10*0.1 -> 13.2858 | X10: =V10*0.2 -> 26.5716 | Y10: =SUM(V10:W10) -> 146.1438 | Z10: =SUM(V10,X10) -> 159.4296 | AB10: =IFERROR(IF(#REF!="W",$AA10*Dane!$D$6,"-"),"-") -> - | AC10: =IFERROR(IF(#REF!="W",$AA10*Dane!$D$7,"-"),"-") -> - | AD10: =IFERROR(IF(#REF!="W",$AA10*Dane!$D$8,"-"),"-") -> -
A11: 9 | B11: Programator PNP | D11: 1999-R405709 | E11: R405709 | F11: 0 | G11: 1 | H11: 0.1 | L11: 29.66 | M11: =VLOOKUP($D11,Materiał!$B$2:$E$1153,3,0) -> 29.66 | N11: =(M11-L11)/L11 -> 0 | O11: 0 | P11: =F11*Dane!$C$14+G11*Dane!$C$15+H11*Dane!$C$17 -> 36.8 | Q11: =F11*Dane!$F$14+G11*Dane!$F$15+H11*Dane!$F$17 -> 5.5 | R11: =F11*Dane!$H$14+G11*Dane!$H$15+H11*Dane!$H$16+(F11+G11+H11)*Dane!$C$22 -> 79.2 | S11: =SUM(L11,O11:R11) -> 151.16 | T11: =S11*Dane!$D$2 -> 30.232 | U11: 0 | V11: =SUM(S11:U11) -> 181.392 | W11: =V11*0.1 -> 18.1392 | X11: =V11*0.2 -> 36.2784 | Y11: =SUM(V11:W11) -> 199.5312 | Z11: =SUM(V11,X11) -> 217.6704 | AB11: =IFERROR(IF(#REF!="W",$AA11*Dane!$D$6,"-"),"-") -> - | AC11: =IFERROR(IF(#REF!="W",$AA11*Dane!$D$7,"-"),"-") -> - | AD11: =IFERROR(IF(#REF!="W",$AA11*Dane!$D$8,"-"),"-") -> -
A12: 10 | B12: Przekaźnik ZLS (czasowy) | C12: ZLS | D12: 687-302-7001 | L12: =113*Dane!$D$4 -> 538.1964 | M12: =VLOOKUP($D12,Materiał!$B$2:$E$1153,3,0) -> 335 | N12: =(M12-L12)/L12 -> -0.37755065 | O12: 0 | P12: =F12*Dane!$C$14+G12*Dane!$C$15+H12*Dane!$C$17 -> 0 | Q12: =F12*Dane!$F$14+G12*Dane!$F$15+H12*Dane!$F$17 -> 0 | R12: =F12*Dane!$H$14+G12*Dane!$H$15+H12*Dane!$H$16+(F12+G12+H12)*Dane!$C$22 -> 0 | S12: =SUM(L12,O12:R12) -> 538.1964 | T12: =S12*Dane!$D$2 -> 107.63928 | U12: 0 | V12: =SUM(S12:U12) -> 645.83568 | W12: =V12*0.1 -> 64.583568 | X12: =V12*0.2 -> 129.16714 | Y12: =SUM(V12:W12) -> 710.41925 | Z12: =SUM(V12,X12) -> 775.00282 | AB12: =$AA12*Dane!$D$6 -> 0 | AC12: =IFERROR(IF(#REF!="W",$AA12*Dane!$D$7,"-"),"-") -> - | AD12: =$AA12*Dane!$D$8 -> 0
A13: 11 | B13: Przekaźnik centralno – blokujący UP6R | D13: 687-302-1012, 687-302-1013, 687-302-1011 | L13: =270*Dane!$D$4 -> 1285.956 | N13: =(M13-L13)/L13 -> -1 | O13: 0 | P13: =F13*Dane!$C$14+G13*Dane!$C$15+H13*Dane!$C$17 -> 0 | Q13: =F13*Dane!$F$14+G13*Dane!$F$15+H13*Dane!$F$17 -> 0 | R13: =F13*Dane!$H$14+G13*Dane!$H$15+H13*Dane!$H$16+(F13+G13+H13)*Dane!$C$22 -> 0 | S13: =SUM(L13,O13:R13) -> 1285.956 | T13: =S13*Dane!$D$2 -> 257.1912 | U13: 0 | V13: =SUM(S13:U13) -> 1543.1472 | W13: =V13*0.1 -> 154.31472 | X13: =V13*0.2 -> 308.62944 | Y13: =SUM(V13:W13) -> 1697.4619 | Z13: =SUM(V13,X13) -> 1851.7766 | AB13: =IFERROR(IF(#REF!="W",$AA13*Dane!$D$6,"-"),"-") -> - | AC13: =IFERROR(IF(#REF!="W",$AA13*Dane!$D$7,"-"),"-") -> - | AD13: =$AA13*Dane!$D$8 -> 0
A14: 12 | B14: Przekaźnik ciągłości uziemienia i temperatury PTC-1a | D14: 2099-R511745 | E14: R511745 R336446 | F14: 0 | G14: 4.8 | H14: 0.1 | L14: 352.76 | M14: =VLOOKUP($D14,Materiał!$B$2:$E$1153,3,0) -> 352.76 | N14: =(M14-L14)/L14 -> 0 | O14: 0 | P14: =F14*Dane!$C$14+G14*Dane!$C$15+H14*Dane!$C$17 -> 162.2 | Q14: =F14*Dane!$F$14+G14*Dane!$F$15+H14*Dane!$F$17 -> 24.5 | R14: =F14*Dane!$H$14+G14*Dane!$H$15+H14*Dane!$H$16+(F14+G14+H14)*Dane!$C$22 -> 352.8 | S14: =SUM(L14,O14:R14) -> 892.26 | T14: =S14*Dane!$D$2 -> 178.452 | U14: 0 | V14: =SUM(S14:U14) -> 1070.712 | W14: =V14*0.1 -> 107.0712 | X14: =V14*0.2 -> 214.1424 | Y14: =SUM(V14:W14) -> 1177.7832 | Z14: =SUM(V14,X14) -> 1284.8544 | AB14: =IFERROR(IF(#REF!="W",$AA14*Dane!$D$6,"-"),"-") -> - | AC14: =IFERROR(IF(#REF!="W",$AA14*Dane!$D$7,"-"),"-") -> - | AD14: =IFERROR(IF(#REF!="W",$AA14*Dane!$D$8,"-"),"-") -> -
A15: 13 | B15: Przekaźnik czasowy FINDER 8211 Tryb pracy A | D15: 687-336-0013 | L15: 130 | M15: =VLOOKUP($D15,Materiał!$B$2:$E$1153,3,0) -> 130 | N15: =(M15-L15)/L15 -> 0 | O15: 0 | P15: =F15*Dane!$C$14+G15*Dane!$C$15+H15*Dane!$C$17 -> 0 | Q15: =F15*Dane!$F$14+G15*Dane!$F$15+H15*Dane!$F$17 -> 0 | R15: =F15*Dane!$H$14+G15*Dane!$H$15+H15*Dane!$H$16+(F15+G15+H15)*Dane!$C$22 -> 0 | S15: =SUM(L15,O15:R15) -> 130 | T15: =S15*Dane!$D$2 -> 26 | U15: 0 | V15: =SUM(S15:U15) -> 156 | W15: =V15*0.1 -> 15.6 | X15: =V15*0.2 -> 31.2 | Y15: =SUM(V15:W15) -> 171.6 | Z15: =SUM(V15,X15) -> 187.2 | AB15: =IFERROR(IF(#REF!="W",$AA15*Dane!$D$6,"-"),"-") -> - | AC15: =IFERROR(IF(#REF!="W",$AA15*Dane!$D$7,"-"),"-") -> - | AD15: =IFERROR(IF(#REF!="W",$AA15*Dane!$D$8,"-"),"-") -> -
A16: 14 | B16: Przekaźnik kontroli ciągłości uziemienia (cz zam) RSL-1 | E16: R411380 R336048 | F16: 0 | G16: 7 | H16: 3 | L16: 297.51133 | M16: =VLOOKUP($D16,Materiał!$B$2:$E$1153,3,0) -> #N/A | N16: =(M16-L16)/L16 -> #N/A | O16: 0 | P16: =F16*Dane!$C$14+G16*Dane!$C$15+H16*Dane!$C$17 -> 345 | Q16: =F16*Dane!$F$14+G16*Dane!$F$15+H16*Dane!$F$17 -> 50 | R16: =F16*Dane!$H$14+G16*Dane!$H$15+H16*Dane!$H$16+(F16+G16+H16)*Dane!$C$22 -> 720 | S16: =SUM(L16,O16:R16) -> 1412.5113 | T16: =S16*Dane!$D$2 -> 282.50227 | U16: 0 | V16: =SUM(S16:U16) -> 1695.0136 | W16: =V16*0.1 -> 169.50136 | X16: =V16*0.2 -> 339.00272 | Y16: =SUM(V16:W16) -> 1864.515 | Z16: =SUM(V16,X16) -> 2034.0163 | AB16: =IFERROR(IF(#REF!="W",$AA16*Dane!$D$6,"-"),"-") -> - | AC16: =IFERROR(IF(#REF!="W",$AA16*Dane!$D$7,"-"),"-") -> - | AD16: =IFERROR(IF(#REF!="W",$AA16*Dane!$D$8,"-"),"-") -> -
A17: 15 | B17: Przekaźnik nadmiarowo-prądowy PNP-1 | D17: 2092-R405703 | E17: R405703 R426052 | F17: 0 | G17: 5.34 | H17: 0.1 | L17: 589.81 | M17: =VLOOKUP($D17,Materiał!$B$2:$E$1153,3,0) -> 589.81 | N17: =(M17-L17)/L17 -> 0 | O17: 0 | P17: =F17*Dane!$C$14+G17*Dane!$C$15+H17*Dane!$C$17 -> 180.02 | Q17: =F17*Dane!$F$14+G17*Dane!$F$15+H17*Dane!$F$17 -> 27.2 | R17: =F17*Dane!$H$14+G17*Dane!$H$15+H17*Dane!$H$16+(F17+G17+H17)*Dane!$C$22 -> 391.68 | S17: =SUM(L17,O17:R17) -> 1188.71 | T17: =S17*Dane!$D$2 -> 237.742 | U17: 0 | V17: =SUM(S17:U17) -> 1426.452 | W17: =V17*0.1 -> 142.6452 | X17: =V17*0.2 -> 285.2904 | Y17: =SUM(V17:W17) -> 1569.0972 | Z17: =SUM(V17,X17) -> 1711.7424 | AB17: =IFERROR(IF(#REF!="W",$AA17*Dane!$D$6,"-"),"-") -> - | AC17: =IFERROR(IF(#REF!="W",$AA17*Dane!$D$7,"-"),"-") -> - | AD17: =IFERROR(IF(#REF!="W",$AA17*Dane!$D$8,"-"),"-") -> -
A18: 16 | B18: Przekaźnik separujący iskrobezpieczny PSI-1 | D18: 2094-R511752 | E18: R405692 R424690 | F18: 0 | G18: 4.5 | H18: 0.3 | L18: 127.08 | M18: =VLOOKUP($D18,Materiał!$B$2:$E$1153,3,0) -> 127.08 | N18: =(M18-L18)/L18 -> 0 | O18: 0 | P18: =F18*Dane!$C$14+G18*Dane!$C$15+H18*Dane!$C$17 -> 159.9 | Q18: =F18*Dane!$F$14+G18*Dane!$F$15+H18*Dane!$F$17 -> 24 | R18: =F18*Dane!$H$14+G18*Dane!$H$15+H18*Dane!$H$16+(F18+G18+H18)*Dane!$C$22 -> 345.6 | S18: =SUM(L18,O18:R18) -> 656.58 | T18: =S18*Dane!$D$2 -> 131.316 | U18: 0 | V18: =SUM(S18:U18) -> 787.896 | W18: =V18*0.1 -> 78.7896 | X18: =V18*0.2 -> 157.5792 | Y18: =SUM(V18:W18) -> 866.6856 | Z18: =SUM(V18,X18) -> 945.4752 | AB18: =IFERROR(IF(#REF!="W",$AA18*Dane!$D$6,"-"),"-") -> - | AC18: =IFERROR(IF(#REF!="W",$AA18*Dane!$D$7,"-"),"-") -> - | AD18: =IFERROR(IF(#REF!="W",$AA18*Dane!$D$8,"-"),"-") -> -
A19: 17 | B19: Przekaźnik separujący iskrobezpieczny RExi-3a/24V,42V | D19: 2094-R405713.WYK.01,02 | E19: R405713 R336337 | F19: 0 | G19: 6.55 | H19: 0.1007 | L19: 366.66 | M19: =VLOOKUP($D19,Materiał!$B$2:$E$1153,3,0) -> 366.66 | N19: =(M19-L19)/L19 -> 0 | O19: 0 | P19: =F19*Dane!$C$14+G19*Dane!$C$15+H19*Dane!$C$17 -> 219.9766 | Q19: =F19*Dane!$F$14+G19*Dane!$F$15+H19*Dane!$F$17 -> 33.2535 | R19: =F19*Dane!$H$14+G19*Dane!$H$15+H19*Dane!$H$16+(F19+G19+H19)*Dane!$C$22 -> 478.8504 | S19: =SUM(L19,O19:R19) -> 1098.7405 | T19: =S19*Dane!$D$2 -> 219.7481 | U19: 0 | V19: =SUM(S19:U19) -> 1318.4886 | W19: =V19*0.1 -> 131.84886 | X19: =V19*0.2 -> 263.69772 | Y19: =SUM(V19:W19) -> 1450.3375 | Z19: =SUM(V19,X19) -> 1582.1863 | AB19: =IFERROR(IF(#REF!="W",$AA19*Dane!$D$6,"-"),"-") -> - | AC19: - | AD19: =AA19 -> 0
A20: 18 | B20: Przełącznik CA10-1…… CA10-1 WA… | D20: 729-601-1405, 729-601-1406 | L20: 745.60514 | N20: =(M20-L20)/L20 -> -1 | O20: 0 | P20: =F20*Dane!$C$14+G20*Dane!$C$15+H20*Dane!$C$17 -> 0 | Q20: =F20*Dane!$F$14+G20*Dane!$F$15+H20*Dane!$F$17 -> 0 | R20: =F20*Dane!$H$14+G20*Dane!$H$15+H20*Dane!$H$16+(F20+G20+H20)*Dane!$C$22 -> 0 | S20: =SUM(L20,O20:R20) -> 745.60514 | T20: =S20*Dane!$D$2 -> 149.12103 | U20: 0 | V20: =SUM(S20:U20) -> 894.72616 | W20: =V20*0.1 -> 89.472616 | X20: =V20*0.2 -> 178.94523 | Y20: =SUM(V20:W20) -> 984.19878 | Z20: =SUM(V20,X20) -> 1073.6714 | AB20: =IFERROR(IF(#REF!="W",$AA20*Dane!$D$6,"-"),"-") -> - | AC20: =IFERROR(IF(#REF!="W",$AA20*Dane!$D$7,"-"),"-") -> - | AD20: =IFERROR(IF(#REF!="W",$AA20*Dane!$D$8,"-"),"-") -> -
A21: 19 | B21: Przełącznik CA4-1 A 723-600E CA4-1 A 723-600E | D21: 729-601-1407 | L21: 105.58 | M21: =VLOOKUP($D21,Materiał!$B$2:$E$1153,3,0) -> 105.58 | N21: =(M21-L21)/L21 -> 0 | O21: 0 | P21: =F21*Dane!$C$14+G21*Dane!$C$15+H21*Dane!$C$17 -> 0 | Q21: =F21*Dane!$F$14+G21*Dane!$F$15+H21*Dane!$F$17 -> 0 | R21: =F21*Dane!$H$14+G21*Dane!$H$15+H21*Dane!$H$16+(F21+G21+H21)*Dane!$C$22 -> 0 | S21: =SUM(L21,O21:R21) -> 105.58 | T21: =S21*Dane!$D$2 -> 21.116 | U21: 0 | V21: =SUM(S21:U21) -> 126.696 | W21: =V21*0.1 -> 12.6696 | X21: =V21*0.2 -> 25.3392 | Y21: =SUM(V21:W21) -> 139.3656 | Z21: =SUM(V21,X21) -> 152.0352 | AB21: =IFERROR(IF(#REF!="W",$AA21*Dane!$D$6,"-"),"-") -> - | AC21: =IFERROR(IF(#REF!="W",$AA21*Dane!$D$7,"-"),"-") -> - | AD21: =IFERROR(IF(#REF!="W",$AA21*Dane!$D$8,"-"),"-") -> -
A22: 20 | B22: Przepust wielożyłowy ognioszczelny (Ø35 18 żył - 25 żył) ZEG-PWd 35-18, 35-25 | D22: 2023-R511696.3518 2023-R511696.3525 | E22: R511696 R438333 | F22: 0 | G22: 1.5 | H22: 0.75 | L22: 114 | N22: =(M22-L22)/L22 -> -1 | O22: 0 | P22: =F22*Dane!$C$14+G22*Dane!$C$15+H22*Dane!$C$17 -> 78 | Q22: =F22*Dane!$F$14+G22*Dane!$F$15+H22*Dane!$F$17 -> 11.25 | R22: =F22*Dane!$H$14+G22*Dane!$H$15+H22*Dane!$H$16+(F22+G22+H22)*Dane!$C$22 -> 162 | S22: =SUM(L22,O22:R22) -> 365.25 | T22: =S22*Dane!$D$2 -> 73.05 | U22: 0 | V22: =SUM(S22:U22) -> 438.3 | W22: =V22*0.1 -> 43.83 | X22: =V22*0.2 -> 87.66 | Y22: =SUM(V22:W22) -> 482.13 | Z22: =SUM(V22,X22) -> 525.96 | AB22: =IFERROR(IF(#REF!="W",$AA22*Dane!$D$6,"-"),"-") -> - | AC22: =IFERROR(IF(#REF!="W",$AA22*Dane!$D$7,"-"),"-") -> - | AD22: =IFERROR(IF(#REF!="W",$AA22*Dane!$D$8,"-"),"-") -> -
A23: 21 | B23: Przepust wielożyłowy ognioszczelny (Ø36 18 żył - 25 żył) ZEG-PW 36-18 ZEG-PWd 36-25 | D23: 2023-R511696.3625 2023-R511696.3618 | E23: R511696 R438333 | F23: 0 | G23: 1.5 | H23: 0.75 | L23: 137 | N23: =(M23-L23)/L23 -> -1 | O23: 0 | P23: =F23*Dane!$C$14+G23*Dane!$C$15+H23*Dane!$C$17 -> 78 | Q23: =F23*Dane!$F$14+G23*Dane!$F$15+H23*Dane!$F$17 -> 11.25 | R23: =F23*Dane!$H$14+G23*Dane!$H$15+H23*Dane!$H$16+(F23+G23+H23)*Dane!$C$22 -> 162 | S23: =SUM(L23,O23:R23) -> 388.25 | T23: =S23*Dane!$D$2 -> 77.65 | U23: 0 | V23: =SUM(S23:U23) -> 465.9 | W23: =V23*0.1 -> 46.59 | X23: =V23*0.2 -> 93.18 | Y23: =SUM(V23:W23) -> 512.49 | Z23: =SUM(V23,X23) -> 559.08 | AB23: =IFERROR(IF(#REF!="W",$AA23*Dane!$D$6,"-"),"-") -> - | AC23: =IFERROR(IF(#REF!="W",$AA23*Dane!$D$7,"-"),"-") -> - | AD23: =IFERROR(IF(#REF!="W",$AA23*Dane!$D$8,"-"),"-") -> -
A24: 22 | B24: Przepust wielożyłowy ognioszczelny (Ø42 3 żyły) ZEG-PWd 42-3 | D24: 2023-R406654 | E24: R436047 R406654 | F24: 0 | G24: 1.3 | H24: 0.2 | L24: 285.86 | M24: =VLOOKUP($D24,Materiał!$B$2:$E$1153,3,0) -> 285.86 | N24: =(M24-L24)/L24 -> 0 | O24: 0 | P24: =F24*Dane!$C$14+G24*Dane!$C$15+H24*Dane!$C$17 -> 50.5 | Q24: =F24*Dane!$F$14+G24*Dane!$F$15+H24*Dane!$F$17 -> 7.5 | R24: =F24*Dane!$H$14+G24*Dane!$H$15+H24*Dane!$H$16+(F24+G24+H24)*Dane!$C$22 -> 108 | S24: =SUM(L24,O24:R24) -> 451.86 | T24: =S24*Dane!$D$2 -> 90.372 | U24: 0 | V24: =SUM(S24:U24) -> 542.232 | W24: =V24*0.1 -> 54.2232 | X24: =V24*0.2 -> 108.4464 | Y24: =SUM(V24:W24) -> 596.4552 | Z24: =SUM(V24,X24) -> 650.6784 | AB24: =IFERROR(IF(#REF!="W",$AA24*Dane!$D$6,"-"),"-") -> - | AC24: =IFERROR(IF(#REF!="W",$AA24*Dane!$D$7,"-"),"-") -> - | AD24: =IFERROR(IF(#REF!="W",$AA24*Dane!$D$8,"-"),"-") -> -
A25: 23 | B25: Pulpit sterowniczy ZEG PS-1 | F25: 0 | G25: 0 | H25: 0 | L25: 2664.2558 | M25: =VLOOKUP($D25,Materiał!$B$2:$E$1153,3,0) -> #N/A | N25: =(M25-L25)/L25 -> #N/A | O25: 0 | P25: =F25*Dane!$C$14+G25*Dane!$C$15+H25*Dane!$C$17 -> 0 | Q25: =F25*Dane!$F$14+G25*Dane!$F$15+H25*Dane!$F$17 -> 0 | R25: =F25*Dane!$H$14+G25*Dane!$H$15+H25*Dane!$H$16+(F25+G25+H25)*Dane!$C$22 -> 0 | S25: =SUM(L25,O25:R25) -> 2664.2558 | T25: =S25*Dane!$D$2 -> 532.85117 | U25: 0 | V25: =SUM(S25:U25) -> 3197.107 | W25: =V25*0.1 -> 319.7107 | X25: =V25*0.2 -> 639.4214 | Y25: =SUM(V25:W25) -> 3516.8177 | Z25: =SUM(V25,X25) -> 3836.5284 | AB25: =IFERROR(IF(#REF!="W",$AA25*Dane!$D$6,"-"),"-") -> - | AC25: =IFERROR(IF(#REF!="W",$AA25*Dane!$D$7,"-"),"-") -> - | AD25: =IFERROR(IF(#REF!="W",$AA25*Dane!$D$8,"-"),"-") -> -
A26: 24 | B26: Pulpit sterowniczy ZEG PS-2.1 | D26: 1321-R513435.PZP | F26: 0 | G26: 10 | H26: 0.5 | L26: 1128.6 | M26: =VLOOKUP($D26,Materiał!$B$2:$E$1153,3,0) -> 1128.6 | N26: =(M26-L26)/L26 -> 0 | O26: 0 | P26: =F26*Dane!$C$14+G26*Dane!$C$15+H26*Dane!$C$17 -> 349 | Q26: =F26*Dane!$F$14+G26*Dane!$F$15+H26*Dane!$F$17 -> 52.5 | R26: =F26*Dane!$H$14+G26*Dane!$H$15+H26*Dane!$H$16+(F26+G26+H26)*Dane!$C$22 -> 756 | S26: =SUM(L26,O26:R26) -> 2286.1 | T26: =S26*Dane!$D$2 -> 457.22 | U26: 0 | V26: =SUM(S26:U26) -> 2743.32 | W26: =V26*0.1 -> 274.332 | X26: =V26*0.2 -> 548.664 | Y26: =SUM(V26:W26) -> 3017.652 | Z26: =SUM(V26,X26) -> 3291.984 | AB26: =IFERROR(IF(#REF!="W",$AA26*Dane!$D$6,"-"),"-") -> - | AC26: =IFERROR(IF(#REF!="W",$AA26*Dane!$D$7,"-"),"-") -> - | AD26: =IFERROR(IF(#REF!="W",$AA26*Dane!$D$8,"-"),"-") -> -
A27: 25 | B27: Pulpit sterowniczy ZEG PS-3 | D27: 1321-R406663 | F27: 0 | G27: 10 | H27: 0.5 | L27: 1742.22 | M27: =VLOOKUP($D27,Materiał!$B$2:$E$1153,3,0) -> 1742.22 | N27: =(M27-L27)/L27 -> 0 | O27: 0 | P27: =F27*Dane!$C$14+G27*Dane!$C$15+H27*Dane!$C$17 -> 349 | Q27: =F27*Dane!$F$14+G27*Dane!$F$15+H27*Dane!$F$17 -> 52.5 | R27: =F27*Dane!$H$14+G27*Dane!$H$15+H27*Dane!$H$16+(F27+G27+H27)*Dane!$C$22 -> 756 | S27: =SUM(L27,O27:R27) -> 2899.72 | T27: =S27*Dane!$D$2 -> 579.944 | U27: 0 | V27: =SUM(S27:U27) -> 3479.664 | W27: =V27*0.1 -> 347.9664 | X27: =V27*0.2 -> 695.9328 | Y27: =SUM(V27:W27) -> 3827.6304 | Z27: =SUM(V27,X27) -> 4175.5968 | AB27: =IFERROR(IF(#REF!="W",$AA27*Dane!$D$6,"-"),"-") -> - | AC27: =IFERROR(IF(#REF!="W",$AA27*Dane!$D$7,"-"),"-") -> - | AD27: =IFERROR(IF(#REF!="W",$AA27*Dane!$D$8,"-"),"-") -> -
A28: 26 | B28: Stycznik powietrzny LC1 D 25P7 | C28: =MID(B28,FIND("LC",B28,1),50) -> LC1 D 25P7 | D28: 681-152-3141 | L28: 107.97732 | M28: =VLOOKUP($D28,Materiał!$B$2:$E$1153,3,0) -> 86.19 | N28: =(M28-L28)/L28 -> -0.20177682 | O28: 0 | P28: =F28*Dane!$C$14+G28*Dane!$C$15+H28*Dane!$C$17 -> 0 | Q28: =F28*Dane!$F$14+G28*Dane!$F$15+H28*Dane!$F$17 -> 0 | R28: =F28*Dane!$H$14+G28*Dane!$H$15+H28*Dane!$H$16+(F28+G28+H28)*Dane!$C$22 -> 0 | S28: =SUM(L28,O28:R28) -> 107.97732 | T28: =S28*Dane!$D$2 -> 21.595464 | U28: 0 | V28: =SUM(S28:U28) -> 129.57278 | W28: =V28*0.1 -> 12.957278 | X28: =V28*0.2 -> 25.914557 | Y28: =SUM(V28:W28) -> 142.53006 | Z28: =SUM(V28,X28) -> 155.48734 | AB28: =IFERROR(IF(#REF!="W",$AA28*Dane!$D$6,"-"),"-") -> - | AC28: =IFERROR(IF(#REF!="W",$AA28*Dane!$D$7,"-"),"-") -> - | AD28: =IFERROR(IF(#REF!="W",$AA28*Dane!$D$8,"-"),"-") -> -
A29: 27 | B29: Stycznik powietrzny LC1 D 65P7 | C29: =MID(B29,FIND("LC",B29,1),50) -> LC1 D 65P7 | D29: 681-152-3170 | L29: 362.94 | M29: =VLOOKUP($D29,Materiał!$B$2:$E$1153,3,0) -> 362.94 | N29: =(M29-L29)/L29 -> 0 | O29: 0 | P29: =F29*Dane!$C$14+G29*Dane!$C$15+H29*Dane!$C$17 -> 0 | Q29: =F29*Dane!$F$14+G29*Dane!$F$15+H29*Dane!$F$17 -> 0 | R29: =F29*Dane!$H$14+G29*Dane!$H$15+H29*Dane!$H$16+(F29+G29+H29)*Dane!$C$22 -> 0 | S29: =SUM(L29,O29:R29) -> 362.94 | T29: =S29*Dane!$D$2 -> 72.588 | U29: 0 | V29: =SUM(S29:U29) -> 435.528 | W29: =V29*0.1 -> 43.5528 | X29: =V29*0.2 -> 87.1056 | Y29: =SUM(V29:W29) -> 479.0808 | Z29: =SUM(V29,X29) -> 522.6336 | AB29: =IFERROR(IF(#REF!="W",$AA29*Dane!$D$6,"-"),"-") -> - | AC29: =IFERROR(IF(#REF!="W",$AA29*Dane!$D$7,"-"),"-") -> - | AD29: =IFERROR(IF(#REF!="W",$AA29*Dane!$D$8,"-"),"-") -> -
A30: 28 | B30: Stycznik SHV 400 QM AC200V 4A4B | C30: =MID(B30,FIND("SH",B30,1),50) -> SHV 400 QM AC200V 4A4B | D30: 681-200-1010 | L30: 5128.1175 | M30: =VLOOKUP($D30,Materiał!$B$2:$E$1153,3,0) -> 4900 | N30: =(M30-L30)/L30 -> -0.044483673 | O30: 0 | P30: =F30*Dane!$C$14+G30*Dane!$C$15+H30*Dane!$C$17 -> 0 | Q30: =F30*Dane!$F$14+G30*Dane!$F$15+H30*Dane!$F$17 -> 0 | R30: =F30*Dane!$H$14+G30*Dane!$H$15+H30*Dane!$H$16+(F30+G30+H30)*Dane!$C$22 -> 0 | S30: =SUM(L30,O30:R30) -> 5128.1175 | T30: =S30*Dane!$D$2 -> 1025.6235 | U30: 0 | V30: =SUM(S30:U30) -> 6153.741 | W30: =V30*0.1 -> 615.3741 | X30: =V30*0.2 -> 1230.7482 | Y30: =SUM(V30:W30) -> 6769.1151 | Z30: =SUM(V30,X30) -> 7384.4892 | AB30: =IFERROR(IF(#REF!="W",$AA30*Dane!$D$6,"-"),"-") -> - | AC30: =IFERROR(IF(#REF!="W",$AA30*Dane!$D$7,"-"),"-") -> - | AD30: =IFERROR(IF(#REF!="W",$AA30*Dane!$D$8,"-"),"-") -> -
A31: 29 | B31: Styk pomocniczy LA8-DN11 | D31: 689-150-4420 | L31: 14.091 | M31: =VLOOKUP($D31,Materiał!$B$2:$E$1153,3,0) -> 10.1534 | N31: =(M31-L31)/L31 -> -0.27944078 | O31: 0 | P31: =F31*Dane!$C$14+G31*Dane!$C$15+H31*Dane!$C$17 -> 0 | Q31: =F31*Dane!$F$14+G31*Dane!$F$15+H31*Dane!$F$17 -> 0 | R31: =F31*Dane!$H$14+G31*Dane!$H$15+H31*Dane!$H$16+(F31+G31+H31)*Dane!$C$22 -> 0 | S31: =SUM(L31,O31:R31) -> 14.091 | T31: =S31*Dane!$D$2 -> 2.8182 | U31: 0 | V31: =SUM(S31:U31) -> 16.9092 | W31: =V31*0.1 -> 1.69092 | X31: =V31*0.2 -> 3.38184 | Y31: =SUM(V31:W31) -> 18.60012 | Z31: =SUM(V31,X31) -> 20.29104 | AB31: =IFERROR(IF(#REF!="W",$AA31*Dane!$D$6,"-"),"-") -> - | AC31: =IFERROR(IF(#REF!="W",$AA31*Dane!$D$7,"-"),"-") -> - | AD31: =IFERROR(IF(#REF!="W",$AA31*Dane!$D$8,"-"),"-") -> -
A32: 30 | B32: Transformator ET1SG-3oG-9,0 Moc 100VA ET13oG-9,0 | D32: 662-850-3110 | L32: 4544.6998 | N32: =(M32-L32)/L32 -> -1 | O32: 0 | P32: =F32*Dane!$C$14+G32*Dane!$C$15+H32*Dane!$C$17 -> 0 | Q32: =F32*Dane!$F$14+G32*Dane!$F$15+H32*Dane!$F$17 -> 0 | R32: =F32*Dane!$H$14+G32*Dane!$H$15+H32*Dane!$H$16+(F32+G32+H32)*Dane!$C$22 -> 0 | S32: =SUM(L32,O32:R32) -> 4544.6998 | T32: =S32*Dane!$D$2 -> 908.93996 | U32: 0 | V32: =SUM(S32:U32) -> 5453.6397 | W32: =V32*0.1 -> 545.36397 | X32: =V32*0.2 -> 1090.7279 | Y32: =SUM(V32:W32) -> 5999.0037 | Z32: =SUM(V32,X32) -> 6544.3677 | AB32: =IFERROR(IF(#REF!="W",$AA32*Dane!$D$6,"-"),"-") -> - | AC32: =IFERROR(IF(#REF!="W",$AA32*Dane!$D$7,"-"),"-") -> - | AD32: =IFERROR(IF(#REF!="W",$AA32*Dane!$D$8,"-"),"-") -> -
A33: 31 | B33: Transformator pomocniczy ET1SG 100-1500 VA | D33: 662-850-3080 | L33: 720 | M33: =VLOOKUP($D33,Materiał!$B$2:$E$1153,3,0) -> 720 | N33: =(M33-L33)/L33 -> 0 | O33: 0 | P33: =F33*Dane!$C$14+G33*Dane!$C$15+H33*Dane!$C$17 -> 0 | Q33: =F33*Dane!$F$14+G33*Dane!$F$15+H33*Dane!$F$17 -> 0 | R33: =F33*Dane!$H$14+G33*Dane!$H$15+H33*Dane!$H$16+(F33+G33+H33)*Dane!$C$22 -> 0 | S33: =SUM(L33,O33:R33) -> 720 | T33: =S33*Dane!$D$2 -> 144 | U33: 0 | V33: =SUM(S33:U33) -> 864 | W33: =V33*0.1 -> 86.4 | X33: =V33*0.2 -> 172.8 | Y33: =SUM(V33:W33) -> 950.4 | Z33: =SUM(V33,X33) -> 1036.8 | AB33: =IFERROR(IF(#REF!="W",$AA33*Dane!$D$6,"-"),"-") -> - | AC33: =IFERROR(IF(#REF!="W",$AA33*Dane!$D$7,"-"),"-") -> - | AD33: =IFERROR(IF(#REF!="W",$AA33*Dane!$D$8,"-"),"-") -> -
A34: 32 | B34: Wpust kablowy ZEG-Wkd 01,03,04,05 | D34: 2021-R436080, 2021-R436081, 2021-R436082, 2021-R336336 | F34: 0 | G34: 0 | H34: 0 | L34: 187.05802 | M34: =VLOOKUP($D34,Materiał!$B$2:$E$1153,3,0) -> #N/A | N34: =(M34-L34)/L34 -> #N/A | O34: 0 | P34: =F34*Dane!$C$14+G34*Dane!$C$15+H34*Dane!$C$17 -> 0 | Q34: =F34*Dane!$F$14+G34*Dane!$F$15+H34*Dane!$F$17 -> 0 | R34: =F34*Dane!$H$14+G34*Dane!$H$15+H34*Dane!$H$16+(F34+G34+H34)*Dane!$C$22 -> 0 | S34: =SUM(L34,O34:R34) -> 187.05802 | T34: =S34*Dane!$D$2 -> 37.411605 | U34: 0 | V34: =SUM(S34:U34) -> 224.46963 | W34: =V34*0.1 -> 22.446963 | X34: =V34*0.2 -> 44.893926 | Y34: =SUM(V34:W34) -> 246.91659 | Z34: =SUM(V34,X34) -> 269.36356 | AB34: =IFERROR(IF(#REF!="W",$AA34*Dane!$D$6,"-"),"-") -> - | AC34: =IFERROR(IF(#REF!="W",$AA34*Dane!$D$7,"-"),"-") -> - | AD34: =IFERROR(IF(#REF!="W",$AA34*Dane!$D$8,"-"),"-") -> -
A35: 33 | B35: Wziernik ZEG-Wd 01 | D35: 1999-R344058 | E35: R344058 R511688 | F35: 0 | G35: 0.44 | H35: 0.25 | L35: 170.96 | M35: =VLOOKUP($D35,Materiał!$B$2:$E$1153,3,0) -> 170.96 | N35: =(M35-L35)/L35 -> 0 | O35: 0 | P35: =F35*Dane!$C$14+G35*Dane!$C$15+H35*Dane!$C$17 -> 24.02 | Q35: =F35*Dane!$F$14+G35*Dane!$F$15+H35*Dane!$F$17 -> 3.45 | R35: =F35*Dane!$H$14+G35*Dane!$H$15+H35*Dane!$H$16+(F35+G35+H35)*Dane!$C$22 -> 49.68 | S35: =SUM(L35,O35:R35) -> 248.11 | T35: =S35*Dane!$D$2 -> 49.622 | U35: 0 | V35: =SUM(S35:U35) -> 297.732 | W35: =V35*0.1 -> 29.7732 | X35: =V35*0.2 -> 59.5464 | Y35: =SUM(V35:W35) -> 327.5052 | Z35: =SUM(V35,X35) -> 357.2784 | AB35: =IFERROR(IF(#REF!="W",$AA35*Dane!$D$6,"-"),"-") -> - | AC35: =IFERROR(IF(#REF!="W",$AA35*Dane!$D$7,"-"),"-") -> - | AD35: =IFERROR(IF(#REF!="W",$AA35*Dane!$D$8,"-"),"-") -> -
A36: 34 | B36: Zasilacz impulsowy ZI-1 42V | D36: 2152-R405725 | F36: 0 | G36: 1.6 | H36: 0.2 | L36: 422.56896 | M36: =VLOOKUP($D36,Materiał!$B$2:$E$1153,3,0) -> 373.05 | N36: =(M36-L36)/L36 -> -0.11718551 | O36: 0 | P36: =F36*Dane!$C$14+G36*Dane!$C$15+H36*Dane!$C$17 -> 60.4 | Q36: =F36*Dane!$F$14+G36*Dane!$F$15+H36*Dane!$F$17 -> 9 | R36: =F36*Dane!$H$14+G36*Dane!$H$15+H36*Dane!$H$16+(F36+G36+H36)*Dane!$C$22 -> 129.6 | S36: =SUM(L36,O36:R36) -> 621.56896 | T36: =S36*Dane!$D$2 -> 124.31379 | U36: 0 | V36: =SUM(S36:U36) -> 745.88275 | W36: =V36*0.1 -> 74.588275 | X36: =V36*0.2 -> 149.17655 | Y36: =SUM(V36:W36) -> 820.47103 | Z36: =SUM(V36,X36) -> 895.0593 | AB36: =IFERROR(IF(#REF!="W",$AA36*Dane!$D$6,"-"),"-") -> - | AC36: - | AD36: =AA36 -> 0
A37: 35 | B37: Zespół dławików sztucznego zera ZD-11-3 | D37: 2091-R406721 | E37: R405721 R336347 | F37: 0 | G37: 2.1 | H37: 0.3 | L37: 545.07007 | M37: =VLOOKUP($D37,Materiał!$B$2:$E$1153,3,0) -> 410.38 | N37: =(M37-L37)/L37 -> -0.24710598 | O37: 0 | P37: =F37*Dane!$C$14+G37*Dane!$C$15+H37*Dane!$C$17 -> 80.7 | Q37: =F37*Dane!$F$14+G37*Dane!$F$15+H37*Dane!$F$17 -> 12 | R37: =F37*Dane!$H$14+G37*Dane!$H$15+H37*Dane!$H$16+(F37+G37+H37)*Dane!$C$22 -> 172.8 | S37: =SUM(L37,O37:R37) -> 810.57008 | T37: =S37*Dane!$D$2 -> 162.11402 | U37: 0 | V37: =SUM(S37:U37) -> 972.68409 | W37: =V37*0.1 -> 97.268409 | X37: =V37*0.2 -> 194.53682 | Y37: =SUM(V37:W37) -> 1069.9525 | Z37: =SUM(V37,X37) -> 1167.2209 | AB37: =IFERROR(IF(#REF!="W",$AA37*Dane!$D$6,"-"),"-") -> - | AC37: - | AD37: =AA37 -> 0
A38: 36 | B38: Moduł do USPP (ZLS) typ MW | C38: MW | D38: 1364-W430187 | E38: R225241 W430187 | G38: 9.7 | H38: 0.2 | L38: 585.53 | M38: =VLOOKUP($D38,Materiał!$B$2:$E$1153,3,0) -> 585.53 | N38: =(M38-L38)/L38 -> 0 | O38: 0 | P38: =F38*Dane!$C$14+G38*Dane!$C$15+H38*Dane!$C$17 -> 327.7 | Q38: =F38*Dane!$F$14+G38*Dane!$F$15+H38*Dane!$F$17 -> 49.5 | R38: =F38*Dane!$H$14+G38*Dane!$H$15+H38*Dane!$H$16+(F38+G38+H38)*Dane!$C$22 -> 712.8 | S38: =SUM(L38,O38:R38) -> 1675.53 | T38: =S38*Dane!$D$2 -> 335.106 | U38: 0 | V38: =SUM(S38:U38) -> 2010.636 | W38: =V38*0.1 -> 201.0636 | X38: =V38*0.2 -> 402.1272 | Y38: =SUM(V38:W38) -> 2211.6996 | Z38: =SUM(V38,X38) -> 2412.7632 | AB38: =IFERROR(IF(#REF!="W",$AA38*Dane!$D$6,"-"),"-") -> - | AC38: =IFERROR(IF(#REF!="W",$AA38*Dane!$D$7,"-"),"-") -> - | AD38: =IFERROR(IF(#REF!="W",$AA38*Dane!$D$8,"-"),"-") -> -
A39: 37 | B39: Moduł do USPP (ZLS) typ MS | C39: MS | D39: 1364-W430188 | E39: R405383 W430188 | G39: 10.2 | H39: 0.1 | L39: 785.29 | M39: =VLOOKUP($D39,Materiał!$B$2:$E$1153,3,0) -> 785.29 | N39: =(M39-L39)/L39 -> 0 | O39: 0 | P39: =F39*Dane!$C$14+G39*Dane!$C$15+H39*Dane!$C$17 -> 340.4 | Q39: =F39*Dane!$F$14+G39*Dane!$F$15+H39*Dane!$F$17 -> 51.5 | R39: =F39*Dane!$H$14+G39*Dane!$H$15+H39*Dane!$H$16+(F39+G39+H39)*Dane!$C$22 -> 741.6 | S39: =SUM(L39,O39:R39) -> 1918.79 | T39: =S39*Dane!$D$2 -> 383.758 | U39: 0 | V39: =SUM(S39:U39) -> 2302.548 | W39: =V39*0.1 -> 230.2548 | X39: =V39*0.2 -> 460.5096 | Y39: =SUM(V39:W39) -> 2532.8028 | Z39: =SUM(V39,X39) -> 2763.0576 | AB39: =IFERROR(IF(#REF!="W",$AA39*Dane!$D$6,"-"),"-") -> - | AC39: =IFERROR(IF(#REF!="W",$AA39*Dane!$D$7,"-"),"-") -> - | AD39: =IFERROR(IF(#REF!="W",$AA39*Dane!$D$8,"-"),"-") -> -
A40: 38 | B40: Moduł do USPP (ZLS) typ MG/S | C40: MG/S | D40: 1364-W430393 | G40: 10.25 | H40: 0.02 | L40: 540.04 | M40: =VLOOKUP($D40,Materiał!$B$2:$E$1153,3,0) -> 540.04 | N40: =(M40-L40)/L40 -> 0 | O40: 0 | P40: =F40*Dane!$C$14+G40*Dane!$C$15+H40*Dane!$C$17 -> 339.01 | Q40: =F40*Dane!$F$14+G40*Dane!$F$15+H40*Dane!$F$17 -> 51.35 | R40: =F40*Dane!$H$14+G40*Dane!$H$15+H40*Dane!$H$16+(F40+G40+H40)*Dane!$C$22 -> 739.44 | S40: =SUM(L40,O40:R40) -> 1669.84 | T40: =S40*Dane!$D$2 -> 333.968 | U40: 0 | V40: =SUM(S40:U40) -> 2003.808 | W40: =V40*0.1 -> 200.3808 | X40: =V40*0.2 -> 400.7616 | Y40: =SUM(V40:W40) -> 2204.1888 | Z40: =SUM(V40,X40) -> 2404.5696 | AB40: =IFERROR(IF(#REF!="W",$AA40*Dane!$D$6,"-"),"-") -> - | AC40: =IFERROR(IF(#REF!="W",$AA40*Dane!$D$7,"-"),"-") -> - | AD40: =IFERROR(IF(#REF!="W",$AA40*Dane!$D$8,"-"),"-") -> -
A41: 39 | B41: Moduł do USPP (ZLS) typ MG/Sa | C41: MG/Sa | D41: 1364-R938017 | G41: 7.8 | H41: 0.01 | L41: 501.84 | M41: =VLOOKUP($D41,Materiał!$B$2:$E$1153,3,0) -> 501.84 | N41: =(M41-L41)/L41 -> 0 | O41: 0 | P41: =F41*Dane!$C$14+G41*Dane!$C$15+H41*Dane!$C$17 -> 257.78 | Q41: =F41*Dane!$F$14+G41*Dane!$F$15+H41*Dane!$F$17 -> 39.05 | R41: =F41*Dane!$H$14+G41*Dane!$H$15+H41*Dane!$H$16+(F41+G41+H41)*Dane!$C$22 -> 562.32 | S41: =SUM(L41,O41:R41) -> 1360.99 | T41: =S41*Dane!$D$2 -> 272.198 | U41: 0 | V41: =SUM(S41:U41) -> 1633.188 | W41: =V41*0.1 -> 163.3188 | X41: =V41*0.2 -> 326.6376 | Y41: =SUM(V41:W41) -> 1796.5068 | Z41: =SUM(V41,X41) -> 1959.8256 | AB41: =IFERROR(IF(#REF!="W",$AA41*Dane!$D$6,"-"),"-") -> - | AC41: =IFERROR(IF(#REF!="W",$AA41*Dane!$D$7,"-"),"-") -> - | AD41: =IFERROR(IF(#REF!="W",$AA41*Dane!$D$8,"-"),"-") -> -
A42: 40 | B42: Moduł do USPP (ZLS) typ MS-2 | C42: MS-2 | D42: 1364-W430392 | G42: 11 | H42: 0.01 | L42: 498.9 | M42: =VLOOKUP($D42,Materiał!$B$2:$E$1153,3,0) -> 498.9 | N42: =(M42-L42)/L42 -> 0 | O42: 0 | P42: =F42*Dane!$C$14+G42*Dane!$C$15+H42*Dane!$C$17 -> 363.38 | Q42: =F42*Dane!$F$14+G42*Dane!$F$15+H42*Dane!$F$17 -> 55.05 | R42: =F42*Dane!$H$14+G42*Dane!$H$15+H42*Dane!$H$16+(F42+G42+H42)*Dane!$C$22 -> 792.72 | S42: =SUM(L42,O42:R42) -> 1710.05 | T42: =S42*Dane!$D$2 -> 342.01 | U42: 0 | V42: =SUM(S42:U42) -> 2052.06 | W42: =V42*0.1 -> 205.206 | X42: =V42*0.2 -> 410.412 | Y42: =SUM(V42:W42) -> 2257.266 | Z42: =SUM(V42,X42) -> 2462.472 | AB42: =IFERROR(IF(#REF!="W",$AA42*Dane!$D$6,"-"),"-") -> - | AC42: =IFERROR(IF(#REF!="W",$AA42*Dane!$D$7,"-"),"-") -> - | AD42: =IFERROR(IF(#REF!="W",$AA42*Dane!$D$8,"-"),"-") -> -
A43: 41 | B43: Moduł do USPP (ZLS) typ MS-2a | C43: MS-2a | D43: 1364-R938016 | G43: 11.3 | H43: 0.1 | L43: 447.93 | M43: =VLOOKUP($D43,Materiał!$B$2:$E$1153,3,0) -> 447.93 | N43: =(M43-L43)/L43 -> 0 | O43: 0 | P43: =F43*Dane!$C$14+G43*Dane!$C$15+H43*Dane!$C$17 -> 376.7 | Q43: =F43*Dane!$F$14+G43*Dane!$F$15+H43*Dane!$F$17 -> 57 | R43: =F43*Dane!$H$14+G43*Dane!$H$15+H43*Dane!$H$16+(F43+G43+H43)*Dane!$C$22 -> 820.8 | S43: =SUM(L43,O43:R43) -> 1702.43 | T43: =S43*Dane!$D$2 -> 340.486 | U43: 0 | V43: =SUM(S43:U43) -> 2042.916 | W43: =V43*0.1 -> 204.2916 | X43: =V43*0.2 -> 408.5832 | Y43: =SUM(V43:W43) -> 2247.2076 | Z43: =SUM(V43,X43) -> 2451.4992 | AB43: =IFERROR(IF(#REF!="W",$AA43*Dane!$D$6,"-"),"-") -> - | AC43: =IFERROR(IF(#REF!="W",$AA43*Dane!$D$7,"-"),"-") -> - | AD43: =IFERROR(IF(#REF!="W",$AA43*Dane!$D$8,"-"),"-") -> -
A44: 42 | B44: Moduł do USPP (ZLS) typ MW-2 | C44: MW-2 | D44: 1364-W430394 | G44: 12.3 | H44: 0.02 | L44: 627.02 | M44: =VLOOKUP($D44,Materiał!$B$2:$E$1153,3,0) -> 627.02 | N44: =(M44-L44)/L44 -> 0 | O44: 0 | P44: =F44*Dane!$C$14+G44*Dane!$C$15+H44*Dane!$C$17 -> 406.66 | Q44: =F44*Dane!$F$14+G44*Dane!$F$15+H44*Dane!$F$17 -> 61.6 | R44: =F44*Dane!$H$14+G44*Dane!$H$15+H44*Dane!$H$16+(F44+G44+H44)*Dane!$C$22 -> 887.04 | S44: =SUM(L44,O44:R44) -> 1982.32 | T44: =S44*Dane!$D$2 -> 396.464 | U44: 0 | V44: =SUM(S44:U44) -> 2378.784 | W44: =V44*0.1 -> 237.8784 | X44: =V44*0.2 -> 475.7568 | Y44: =SUM(V44:W44) -> 2616.6624 | Z44: =SUM(V44,X44) -> 2854.5408 | AB44: =IFERROR(IF(#REF!="W",$AA44*Dane!$D$6,"-"),"-") -> - | AC44: =IFERROR(IF(#REF!="W",$AA44*Dane!$D$7,"-"),"-") -> - | AD44: =IFERROR(IF(#REF!="W",$AA44*Dane!$D$8,"-"),"-") -> -
A45: 43 | B45: Moduł do USPP (ZLS) typ MW-2a | C45: MW-2a | D45: 1364-R938015 | G45: 11.9 | H45: 0.1 | L45: 592.79 | M45: =VLOOKUP($D45,Materiał!$B$2:$E$1153,3,0) -> 592.79 | N45: =(M45-L45)/L45 -> 0 | O45: 0 | P45: =F45*Dane!$C$14+G45*Dane!$C$15+H45*Dane!$C$17 -> 396.5 | Q45: =F45*Dane!$F$14+G45*Dane!$F$15+H45*Dane!$F$17 -> 60 | R45: =F45*Dane!$H$14+G45*Dane!$H$15+H45*Dane!$H$16+(F45+G45+H45)*Dane!$C$22 -> 864 | S45: =SUM(L45,O45:R45) -> 1913.29 | T45: =S45*Dane!$D$2 -> 382.658 | U45: 0 | V45: =SUM(S45:U45) -> 2295.948 | W45: =V45*0.1 -> 229.5948 | X45: =V45*0.2 -> 459.1896 | Y45: =SUM(V45:W45) -> 2525.5428 | Z45: =SUM(V45,X45) -> 2755.1376 | AB45: =IFERROR(IF(#REF!="W",$AA45*Dane!$D$6,"-"),"-") -> - | AC45: =IFERROR(IF(#REF!="W",$AA45*Dane!$D$7,"-"),"-") -> - | AD45: =IFERROR(IF(#REF!="W",$AA45*Dane!$D$8,"-"),"-") -> -
A46: 44 | B46: Nadajnik identyfikacji NI/a | C46: NI/a | D46: 1369-R405723.NIA | E46: R405723 R424753 R405704 R525486 | G46: 1.2 | H46: 0.2 | L46: 37.16 | M46: =VLOOKUP($D46,Materiał!$B$2:$E$1153,3,0) -> 37.16 | N46: =(M46-L46)/L46 -> 0 | O46: 0 | P46: =F46*Dane!$C$14+G46*Dane!$C$15+H46*Dane!$C$17 -> 47.2 | Q46: =F46*Dane!$F$14+G46*Dane!$F$15+H46*Dane!$F$17 -> 7 | R46: =F46*Dane!$H$14+G46*Dane!$H$15+H46*Dane!$H$16+(F46+G46+H46)*Dane!$C$22 -> 100.8 | S46: =SUM(L46,O46:R46) -> 192.16 | T46: =S46*Dane!$D$2 -> 38.432 | U46: 0 | V46: =SUM(S46:U46) -> 230.592 | W46: =V46*0.1 -> 23.0592 | X46: =V46*0.2 -> 46.1184 | Y46: =SUM(V46:W46) -> 253.6512 | Z46: =SUM(V46,X46) -> 276.7104 | AB46: =IFERROR(IF(#REF!="W",$AA46*Dane!$D$6,"-"),"-") -> - | AC46: =IFERROR(IF(#REF!="W",$AA46*Dane!$D$7,"-"),"-") -> - | AD46: =IFERROR(IF(#REF!="W",$AA46*Dane!$D$8,"-"),"-") -> -
A47: 45 | B47: Nadajnik identyfikacji NI-K/a | C47: NI-K/a | D47: 1369-R405723.NIKA | E47: R405723 R424753 R405704 R525486 | G47: 1.2 | H47: 0.2 | L47: 34.18 | M47: =VLOOKUP($D47,Materiał!$B$2:$E$1153,3,0) -> 34.18 | N47: =(M47-L47)/L47 -> 0 | O47: 0 | P47: =F47*Dane!$C$14+G47*Dane!$C$15+H47*Dane!$C$17 -> 47.2 | Q47: =F47*Dane!$F$14+G47*Dane!$F$15+H47*Dane!$F$17 -> 7 | R47: =F47*Dane!$H$14+G47*Dane!$H$15+H47*Dane!$H$16+(F47+G47+H47)*Dane!$C$22 -> 100.8 | S47: =SUM(L47,O47:R47) -> 189.18 | T47: =S47*Dane!$D$2 -> 37.836 | U47: 0 | V47: =SUM(S47:U47) -> 227.016 | W47: =V47*0.1 -> 22.7016 | X47: =V47*0.2 -> 45.4032 | Y47: =SUM(V47:W47) -> 249.7176 | Z47: =SUM(V47,X47) -> 272.4192 | AB47: =IFERROR(IF(#REF!="W",$AA47*Dane!$D$6,"-"),"-") -> - | AC47: =IFERROR(IF(#REF!="W",$AA47*Dane!$D$7,"-"),"-") -> - | AD47: =IFERROR(IF(#REF!="W",$AA47*Dane!$D$8,"-"),"-") -> -
A48: 46 | B48: PF-Przycisk sterowniczy (ZLS) MPS-2 wyk.I NO | C48: ZLS | D48: 1362-R405381.WYK.I NO | E48: R405381 K336011/2 | G48: 0.4 | H48: 0 | L48: 47.66 | M48: =VLOOKUP($D48,Materiał!$B$2:$E$1153,3,0) -> 47.66 | N48: =(M48-L48)/L48 -> 0 | O48: 0 | P48: =F48*Dane!$C$14+G48*Dane!$C$15+H48*Dane!$C$17 -> 13.2 | Q48: =F48*Dane!$F$14+G48*Dane!$F$15+H48*Dane!$F$17 -> 2 | R48: =F48*Dane!$H$14+G48*Dane!$H$15+H48*Dane!$H$16+(F48+G48+H48)*Dane!$C$22 -> 28.8 | S48: =SUM(L48,O48:R48) -> 91.66 | T48: =S48*Dane!$D$2 -> 18.332 | U48: 0 | V48: =SUM(S48:U48) -> 109.992 | W48: =V48*0.1 -> 10.9992 | X48: =V48*0.2 -> 21.9984 | Y48: =SUM(V48:W48) -> 120.9912 | Z48: =SUM(V48,X48) -> 131.9904 | AB48: =IFERROR(IF(#REF!="W",$AA48*Dane!$D$6,"-"),"-") -> - | AC48: =IFERROR(IF(#REF!="W",$AA48*Dane!$D$7,"-"),"-") -> - | AD48: =IFERROR(IF(#REF!="W",$AA48*Dane!$D$8,"-"),"-") -> -
A49: 47 | B49: Przełącznik PRS | C49: PRS | D49: 681-840-1301 | E49: 58554 | L49: 89 | M49: =VLOOKUP($D49,Materiał!$B$2:$E$1153,3,0) -> 89 | N49: =(M49-L49)/L49 -> 0 | O49: 0 | P49: =F49*Dane!$C$14+G49*Dane!$C$15+H49*Dane!$C$17 -> 0 | Q49: =F49*Dane!$F$14+G49*Dane!$F$15+H49*Dane!$F$17 -> 0 | R49: =F49*Dane!$H$14+G49*Dane!$H$15+H49*Dane!$H$16+(F49+G49+H49)*Dane!$C$22 -> 0 | S49: =SUM(L49,O49:R49) -> 89 | T49: =S49*Dane!$D$2 -> 17.8 | U49: 0 | V49: =SUM(S49:U49) -> 106.8 | W49: =V49*0.1 -> 10.68 | X49: =V49*0.2 -> 21.36 | Y49: =SUM(V49:W49) -> 117.48 | Z49: =SUM(V49,X49) -> 128.16 | AB49: =IFERROR(IF(#REF!="W",$AA49*Dane!$D$6,"-"),"-") -> - | AC49: =IFERROR(IF(#REF!="W",$AA49*Dane!$D$7,"-"),"-") -> - | AD49: =IFERROR(IF(#REF!="W",$AA49*Dane!$D$8,"-"),"-") -> -
A50: 48 | B50: Przełącznik PRP | C50: PRP | D50: 700-270-1160 | E50: 10-3996 | L50: 87 | M50: =VLOOKUP($D50,Materiał!$B$2:$E$1153,3,0) -> 87 | N50: =(M50-L50)/L50 -> 0 | O50: 0 | P50: =F50*Dane!$C$14+G50*Dane!$C$15+H50*Dane!$C$17 -> 0 | Q50: =F50*Dane!$F$14+G50*Dane!$F$15+H50*Dane!$F$17 -> 0 | R50: =F50*Dane!$H$14+G50*Dane!$H$15+H50*Dane!$H$16+(F50+G50+H50)*Dane!$C$22 -> 0 | S50: =SUM(L50,O50:R50) -> 87 | T50: =S50*Dane!$D$2 -> 17.4 | U50: 0 | V50: =SUM(S50:U50) -> 104.4 | W50: =V50*0.1 -> 10.44 | X50: =V50*0.2 -> 20.88 | Y50: =SUM(V50:W50) -> 114.84 | Z50: =SUM(V50,X50) -> 125.28 | AB50: =IFERROR(IF(#REF!="W",$AA50*Dane!$D$6,"-"),"-") -> - | AC50: =IFERROR(IF(#REF!="W",$AA50*Dane!$D$7,"-"),"-") -> - | AD50: =IFERROR(IF(#REF!="W",$AA50*Dane!$D$8,"-"),"-") -> -
A51: 49 | B51: Wyłącznik awaryjny WAR-1 | C51: WAR-1 | D51: 1366-R405756 WYK.1 | E51: R405756 R336424 | G51: 3.2 | H51: 0.4 | L51: 985.79629 | M51: =VLOOKUP($D51,Materiał!$B$2:$E$1153,3,0) -> 930.63 | N51: =(M51-L51)/L51 -> -0.055961151 | O51: 0 | P51: =F51*Dane!$C$14+G51*Dane!$C$15+H51*Dane!$C$17 -> 120.8 | Q51: =F51*Dane!$F$14+G51*Dane!$F$15+H51*Dane!$F$17 -> 18 | R51: =F51*Dane!$H$14+G51*Dane!$H$15+H51*Dane!$H$16+(F51+G51+H51)*Dane!$C$22 -> 259.2 | S51: =SUM(L51,O51:R51) -> 1383.7963 | T51: =S51*Dane!$D$2 -> 276.75926 | U51: 0 | V51: =SUM(S51:U51) -> 1660.5556 | W51: =V51*0.1 -> 166.05556 | X51: =V51*0.2 -> 332.11111 | Y51: =SUM(V51:W51) -> 1826.6111 | Z51: =SUM(V51,X51) -> 1992.6667 | AB51: =IFERROR(IF(#REF!="W",$AA51*Dane!$D$6,"-"),"-") -> - | AC51: - | AD51: =IFERROR(IF(#REF!="W",$AA51*Dane!$D$8,"-"),"-") -> -
A52: 50 | B52: Wyłącznik awaryjny WAR-3 | C52: WAR-3 | D52: 1366-R405758.WYK.1 | E52: R405758 R336426 | G52: 6.1 | H52: 0.2 | L52: 1834.58 | M52: =VLOOKUP($D52,Materiał!$B$2:$E$1153,3,0) -> 1834.58 | N52: =(M52-L52)/L52 -> 0 | O52: 0 | P52: =F52*Dane!$C$14+G52*Dane!$C$15+H52*Dane!$C$17 -> 208.9 | Q52: =F52*Dane!$F$14+G52*Dane!$F$15+H52*Dane!$F$17 -> 31.5 | R52: =F52*Dane!$H$14+G52*Dane!$H$15+H52*Dane!$H$16+(F52+G52+H52)*Dane!$C$22 -> 453.6 | S52: =SUM(L52,O52:R52) -> 2528.58 | T52: =S52*Dane!$D$2 -> 505.716 | U52: 0 | V52: =SUM(S52:U52) -> 3034.296 | W52: =V52*0.1 -> 303.4296 | X52: =V52*0.2 -> 606.8592 | Y52: =SUM(V52:W52) -> 3337.7256 | Z52: =SUM(V52,X52) -> 3641.1552 | AB52: =IFERROR(IF(#REF!="W",$AA52*Dane!$D$6,"-"),"-") -> - | AC52: - | AD52: =IFERROR(IF(#REF!="W",$AA52*Dane!$D$8,"-"),"-") -> -
A53: Suma cen jednostkowych istotnych dla Zamawiającego części zamiennych nowych

Sheet II_Części zamienne
C1: II - CZĘŚCI ZAMIENNE | J1: =F4*Dane!$D$4 -> 0 | W1: Data aktualizacji: | X1: =EH!Z1 -> 0
A2: Lp. | B2: Klasyf.: Wyrób / Zakup | C2: Nazwa / typ | D2: Indeks | E2: Nr rysunku | F2: Rbh wyrób + półwyroby | G2: Kolumna1 | H2: Kolumna2 | I2: Wycena 2018 | J2: Kolumna3 | K2: Kolumna4 | L2: Kolumna5 | M2: Kolumna6 | N2: Kolumna7 | O2: Kolumna8 | P2: Kolumna9 | Q2: Kolumna10 | R2: Kolumna11 | S2: Kolumna12 | T2: Kolumna13 | U2: Kolumna14 | V2: Kolumna15 | W2: Kolumna16 | X2: Cena oferowana 2018 | Y2: Usługi wycena 2018 | Z2: Kolumna17 | AA2: Kolumna18
F3: TPU | G3: TPE | H3: TKJ | I3: Wartość materiału | J3: Kooperacja | K3: Koszt robocizny bezpośredniej | L3: Koszty wydziałowe zmienne | M3: Koszty wydziałowe stałe | N3: Techniczny koszt wytworzenia | O3: Koszty ogólno-zakładowe | P3: Całkowity koszt wytworzenia | Q3: Koszty sprzedaży zmienne | R3: Koszty sprzedaży stałe | S3: Całkowity koszt własny sprzedaży | T3: Marża 10% | U3: Marża 20% | V3: Cena sprzedaży z marżą 10% | W3: Cena sprzedaży z marżą 20% | Y3: Sprawdzenie | Z3: Remont podstawowy | AA3: Remont kapitalny
A4: 1 | B4: W | C4: Amperomierz cyfrowy E+H | D4: EH-2031-1-000001-01 | F4: 0 | G4: 2 | H4: 0 | I4: 99.150315 | J4: 0 | K4: =F4*Dane!$C$14+G4*Dane!$C$15+H4*Dane!$C$16 -> 66 | L4: =F4*Dane!$F$14+G4*Dane!$F$15+H4*Dane!$F$17 -> 10 | M4: =F4*Dane!$H$14+G4*Dane!$H$15+H4*Dane!$H$16+(F4+G4+H4)*Dane!$C$22 -> 144 | N4: =SUM(I4:M4) -> 319.15031 | O4: =IF(B4="W",N4*Dane!$D$2,N4*Dane!$H$2) -> 63.830063 | P4: =SUM(N4:O4) -> 382.98038 | Q4: =IF(B4="W",N4*Dane!$C$23,N4*Dane!$C$23) -> 0 | R4: =IF(B4="W",(N4*Dane!$D$3)-Q4,(N4*Dane!$H$3)-Q4) -> 0 | S4: =SUM(P4:R4) -> 382.98038 | T4: =S4*0.1 -> 38.298038 | U4: =S4*0.2 -> 76.596076 | V4: =SUM(S4:T4) -> 421.27842 | W4: =SUM(S4,U4) -> 459.57645 | X4: 2166.93 | Y4: =$X$4*Dane!$D6 -> 325.0395 | Z4: =$X$4*Dane!$D7 -> 650.079 | AA4: =$X$4*Dane!$D8 -> 1300.158
A5: =A4+1 -> 2 | B5: Z | C5: Amperomierz EA 17 | D5: 571-551-1511 | F5: 0 | G5: 0 | H5: 0 | I5: 90.585 | J5: 0 | K5: =F5*Dane!$C$14+G5*Dane!$C$15+H5*Dane!$C$16 -> 0 | L5: =F5*Dane!$F$14+G5*Dane!$F$15+H5*Dane!$F$17 -> 0 | M5: =F5*Dane!$H$14+G5*Dane!$H$15+H5*Dane!$H$16+(F5+G5+H5)*Dane!$C$22 -> 0 | N5: =SUM(I5:M5) -> 90.585 | O5: =IF(B5="W",N5*Dane!$D$2,N5*Dane!$H$2) -> 18.117 | P5: =SUM(N5:O5) -> 108.702 | Q5: =IF(B5="W",N5*Dane!$C$23,N5*Dane!$C$23) -> 0 | R5: =IF(B5="W",(N5*Dane!$D$3)-Q5,(N5*Dane!$H$3)-Q5) -> 0 | S5: =SUM(P5:R5) -> 108.702 | T5: =S5*0.1 -> 10.8702 | U5: =S5*0.2 -> 21.7404 | V5: =SUM(S5:T5) -> 119.5722 | W5: =SUM(S5,U5) -> 130.4424 | X5: 722.7 | Y5: - | Z5: - | AA5: -
A6: =A5+1 -> 3 | B6: Z | C6: AMP Kontakt męski/żeński | D6: - | F6: 0 | G6: 0 | H6: 0 | I6: 1.944558 | J6: 0 | K6: =F6*Dane!$C$14+G6*Dane!$C$15+H6*Dane!$C$16 -> 0 | L6: =F6*Dane!$F$14+G6*Dane!$F$15+H6*Dane!$F$17 -> 0 | M6: =F6*Dane!$H$14+G6*Dane!$H$15+H6*Dane!$H$16+(F6+G6+H6)*Dane!$C$22 -> 0 | N6: =SUM(I6:M6) -> 1.944558 | O6: =IF(B6="W",N6*Dane!$D$2,N6*Dane!$H$2) -> 0.3889116 | P6: =SUM(N6:O6) -> 2.3334696 | Q6: =IF(B6="W",N6*Dane!$C$23,N6*Dane!$C$23) -> 0 | R6: =IF(B6="W",(N6*Dane!$D$3)-Q6,(N6*Dane!$H$3)-Q6) -> 0 | S6: =SUM(P6:R6) -> 2.3334696 | T6: =S6*0.1 -> 0.23334696 | U6: =S6*0.2 -> 0.46669392 | V6: =SUM(S6:T6) -> 2.5668166 | W6: =SUM(S6,U6) -> 2.8001635 | X6: 3.18 | Y6: - | Z6: - | AA6: -
A7: =A6+1 -> 4 | B7: W | C7: Bariera ograniczająca EH-BO4 | D7: EH-2089-1-000019-01 | F7: 0 | G7: 1.5 | H7: 0.5 | I7: 55.689645 | J7: 0 | K7: =F7*Dane!$C$14+G7*Dane!$C$15+H7*Dane!$C$16 -> 68.5 | L7: =F7*Dane!$F$14+G7*Dane!$F$15+H7*Dane!$F$17 -> 10 | M7: =F7*Dane!$H$14+G7*Dane!$H$15+H7*Dane!$H$16+(F7+G7+H7)*Dane!$C$22 -> 144 | N7: =SUM(I7:M7) -> 278.18964 | O7: =IF(B7="W",N7*Dane!$D$2,N7*Dane!$H$2) -> 55.637929 | P7: =SUM(N7:O7) -> 333.82757 | Q7: =IF(B7="W",N7*Dane!$C$23,N7*Dane!$C$23) -> 0 | R7: =IF(B7="W",(N7*Dane!$D$3)-Q7,(N7*Dane!$H$3)-Q7) -> 0 | S7: =SUM(P7:R7) -> 333.82757 | T7: =S7*0.1 -> 33.382757 | U7: =S7*0.2 -> 66.765515 | V7: =SUM(S7:T7) -> 367.21033 | W7: =SUM(S7,U7) -> 400.59309 | X7: 1118.5 | Y7: =$X$7*Dane!$D$6 -> 167.775 | Z7: =X7*Dane!$D$7 -> 335.55 | AA7: =X7*Dane!$D$8 -> 671.1
A8: =A7+1 -> 5 | B8: W | C8: Bariera ograniczająca EH-P/20/06.01 | D8: EH-2109-1-000014-01 | F8: 0 | G8: 1 | H8: 0.15 | I8: 54 | J8: 0 | K8: =F8*Dane!$C$14+G8*Dane!$C$15+H8*Dane!$C$16 -> 38.7 | L8: =F8*Dane!$F$14+G8*Dane!$F$15+H8*Dane!$F$17 -> 5.75 | M8: =F8*Dane!$H$14+G8*Dane!$H$15+H8*Dane!$H$16+(F8+G8+H8)*Dane!$C$22 -> 82.8 | N8: =SUM(I8:M8) -> 181.25 | O8: =IF(B8="W",N8*Dane!$D$2,N8*Dane!$H$2) -> 36.25 | P8: =SUM(N8:O8) -> 217.5 | Q8: =IF(B8="W",N8*Dane!$C$23,N8*Dane!$C$23) -> 0 | R8: =IF(B8="W",(N8*Dane!$D$3)-Q8,(N8*Dane!$H$3)-Q8) -> 0 | S8: =SUM(P8:R8) -> 217.5 | T8: =S8*0.1 -> 21.75 | U8: =S8*0.2 -> 43.5 | V8: =SUM(S8:T8) -> 239.25 | W8: =SUM(S8,U8) -> 261 | X8: 564 | Y8: - | Z8: - | AA8: -
A9: =A8+1 -> 6 | B9: W | C9: Bariera ograniczająca EH-P/20/02 | D9: EH-2109-1-000009-01 | F9: 0 | G9: 0.5 | H9: 0.2 | I9: 46.46004 | J9: 0 | K9: =F9*Dane!$C$14+G9*Dane!$C$15+H9*Dane!$C$16 -> 24.1 | L9: =F9*Dane!$F$14+G9*Dane!$F$15+H9*Dane!$F$17 -> 3.5 | M9: =F9*Dane!$H$14+G9*Dane!$H$15+H9*Dane!$H$16+(F9+G9+H9)*Dane!$C$22 -> 50.4 | N9: =SUM(I9:M9) -> 124.46004 | O9: =IF(B9="W",N9*Dane!$D$2,N9*Dane!$H$2) -> 24.892008 | P9: =SUM(N9:O9) -> 149.35205 | Q9: =IF(B9="W",N9*Dane!$C$23,N9*Dane!$C$23) -> 0 | R9: =IF(B9="W",(N9*Dane!$D$3)-Q9,(N9*Dane!$H$3)-Q9) -> 0 | S9: =SUM(P9:R9) -> 149.35205 | T9: =S9*0.1 -> 14.935205 | U9: =S9*0.2 -> 29.87041 | V9: =SUM(S9:T9) -> 164.28725 | W9: =SUM(S9,U9) -> 179.22246 | X9: 469.9 | Y9: =X9*Dane!$D$6 -> 70.485 | Z9: =X9*Dane!$D$7 -> 140.97 | AA9: =X9*Dane!$D$8 -> 281.94
A10: =A9+1 -> 7 | B10: Z | C10: Bezpiecznik S-301 | D10: 700-272-% | F10: 0 | G10: 0 | H10: 0 | I10: 22.76703 | J10: 0 | K10: =F10*Dane!$C$14+G10*Dane!$C$15+H10*Dane!$C$16 -> 0 | L10: =F10*Dane!$F$14+G10*Dane!$F$15+H10*Dane!$F$17 -> 0 | M10: =F10*Dane!$H$14+G10*Dane!$H$15+H10*Dane!$H$16+(F10+G10+H10)*Dane!$C$22 -> 0 | N10: =SUM(I10:M10) -> 22.76703 | O10: =IF(B10="W",N10*Dane!$D$2,N10*Dane!$H$2) -> 4.553406 | P10: =SUM(N10:O10) -> 27.320436 | Q10: =IF(B10="W",N10*Dane!$C$23,N10*Dane!$C$23) -> 0 | R10: =IF(B10="W",(N10*Dane!$D$3)-Q10,(N10*Dane!$H$3)-Q10) -> 0 | S10: =SUM(P10:R10) -> 27.320436 | T10: =S10*0.1 -> 2.7320436 | U10: =S10*0.2 -> 5.4640872 | V10: =SUM(S10:T10) -> 30.05248 | W10: =SUM(S10,U10) -> 32.784523 | X10: 52.55 | Y10: - | Z10: - | AA10: -
A11: =A10+1 -> 8 | B11: Z | C11: Bezpiecznik S-302 | D11: 700-272-% | F11: 0 | G11: 0 | H11: 0 | I11: 65.36211 | J11: 0 | K11: =F11*Dane!$C$14+G11*Dane!$C$15+H11*Dane!$C$16 -> 0 | L11: =F11*Dane!$F$14+G11*Dane!$F$15+H11*Dane!$F$17 -> 0 | M11: =F11*Dane!$H$14+G11*Dane!$H$15+H11*Dane!$H$16+(F11+G11+H11)*Dane!$C$22 -> 0 | N11: =SUM(I11:M11) -> 65.36211 | O11: =IF(B11="W",N11*Dane!$D$2,N11*Dane!$H$2) -> 13.072422 | P11: =SUM(N11:O11) -> 78.434532 | Q11: =IF(B11="W",N11*Dane!$C$23,N11*Dane!$C$23) -> 0 | R11: =IF(B11="W",(N11*Dane!$D$3)-Q11,(N11*Dane!$H$3)-Q11) -> 0 | S11: =SUM(P11:R11) -> 78.434532 | T11: =S11*0.1 -> 7.8434532 | U11: =S11*0.2 -> 15.686906 | V11: =SUM(S11:T11) -> 86.277985 | W11: =SUM(S11,U11) -> 94.121438 | X11: 88.29 | Y11: - | Z11: - | AA11: -
A12: =A11+1 -> 9 | B12: W | C12: Bezprzewodowy iskrobezpieczny przetwornik ciśnienia EH-O/08/03.01 | D12: EH-2163-1-000001-01 | F12: 0 | G12: 4.278 | H12: 0.59 | I12: 741.08595 | J12: 0 | K12: =F12*Dane!$C$14+G12*Dane!$C$15+H12*Dane!$C$16 -> 163.594 | L12: =F12*Dane!$F$14+G12*Dane!$F$15+H12*Dane!$F$17 -> 24.34 | M12: =F12*Dane!$H$14+G12*Dane!$H$15+H12*Dane!$H$16+(F12+G12+H12)*Dane!$C$22 -> 350.496 | N12: =SUM(I12:M12) -> 1279.5159 | O12: =IF(B12="W",N12*Dane!$D$2,N12*Dane!$H$2) -> 255.90319 | P12: =SUM(N12:O12) -> 1535.4191 | Q12: =IF(B12="W",N12*Dane!$C$23,N12*Dane!$C$23) -> 0 | R12: =IF(B12="W",(N12*Dane!$D$3)-Q12,(N12*Dane!$H$3)-Q12) -> 0 | S12: =SUM(P12:R12) -> 1535.4191 | T12: =S12*0.1 -> 153.54191 | U12: =S12*0.2 -> 307.08383 | V12: =SUM(S12:T12) -> 1688.9611 | W12: =SUM(S12,U12) -> 1842.503 | X12: 2314.93 | Y12: =X12*Dane!$D$6 -> 347.2395 | Z12: =X12*Dane!$D$7 -> 694.479 | AA12: =X12*Dane!$D$8 -> 1388.958
A13: =A12+1 -> 10 | B13: Z | C13: Blacha suwna blokady | D13: 642-100-20% | F13: 0 | G13: 0 | H13: 0 | I13: 182.9817 | J13: 0 | K13: =F13*Dane!$C$14+G13*Dane!$C$15+H13*Dane!$C$16 -> 0 | L13: =F13*Dane!$F$14+G13*Dane!$F$15+H13*Dane!$F$17 -> 0 | M13: =F13*Dane!$H$14+G13*Dane!$H$15+H13*Dane!$H$16+(F13+G13+H13)*Dane!$C$22 -> 0 | N13: =SUM(I13:M13) -> 182.9817 | O13: =IF(B13="W",N13*Dane!$D$2,N13*Dane!$H$2) -> 36.59634 | P13: =SUM(N13:O13) -> 219.57804 | Q13: =IF(B13="W",N13*Dane!$C$23,N13*Dane!$C$23) -> 0 | R13: =IF(B13="W",(N13*Dane!$D$3)-Q13,(N13*Dane!$H$3)-Q13) -> 0 | S13: =SUM(P13:R13) -> 219.57804 | T13: =S13*0.1 -> 21.957804 | U13: =S13*0.2 -> 43.915608 | V13: =SUM(S13:T13) -> 241.53584 | W13: =SUM(S13,U13) -> 263.49365 | X13: 429.55
A14: =A13+1 -> 11 | B14: Z | C14: Blok czasowy LAD | D14: 640-400-000% 689-190-1510 | F14: 0 | G14: 0 | H14: 0 | I14: 61.49715 | J14: 0 | K14: =F14*Dane!$C$14+G14*Dane!$C$15+H14*Dane!$C$16 -> 0 | L14: =F14*Dane!$F$14+G14*Dane!$F$15+H14*Dane!$F$17 -> 0 | M14: =F14*Dane!$H$14+G14*Dane!$H$15+H14*Dane!$H$16+(F14+G14+H14)*Dane!$C$22 -> 0 | N14: =SUM(I14:M14) -> 61.49715 | O14: =IF(B14="W",N14*Dane!$D$2,N14*Dane!$H$2) -> 12.29943 | P14: =SUM(N14:O14) -> 73.79658 | Q14: =IF(B14="W",N14*Dane!$C$23,N14*Dane!$C$23) -> 0 | R14: =IF(B14="W",(N14*Dane!$D$3)-Q14,(N14*Dane!$H$3)-Q14) -> 0 | S14: =SUM(P14:R14) -> 73.79658 | T14: =S14*0.1 -> 7.379658 | U14: =S14*0.2 -> 14.759316 | V14: =SUM(S14:T14) -> 81.176238 | W14: =SUM(S14,U14) -> 88.555896 | X14: 239.35
A15: =A14+1 -> 12 | B15: Z | C15: Blok izolacyjny + zaciski EL-Z1-315-400-450A wielkość "2" - 33mm | D15: 725-360-5011 | F15: 0 | G15: 0 | H15: 0 | I15: 175.41282 | J15: 0 | K15: =F15*Dane!$C$14+G15*Dane!$C$15+H15*Dane!$C$16 -> 0 | L15: =F15*Dane!$F$14+G15*Dane!$F$15+H15*Dane!$F$17 -> 0 | M15: =F15*Dane!$H$14+G15*Dane!$H$15+H15*Dane!$H$16+(F15+G15+H15)*Dane!$C$22 -> 0 | N15: =SUM(I15:M15) -> 175.41282 | O15: =IF(B15="W",N15*Dane!$D$2,N15*Dane!$H$2) -> 35.082564 | P15: =SUM(N15:O15) -> 210.49538 | Q15: =IF(B15="W",N15*Dane!$C$23,N15*Dane!$C$23) -> 0 | R15: =IF(B15="W",(N15*Dane!$D$3)-Q15,(N15*Dane!$H$3)-Q15) -> 0 | S15: =SUM(P15:R15) -> 210.49538 | T15: =S15*0.1 -> 21.049538 | U15: =S15*0.2 -> 42.099077 | V15: =SUM(S15:T15) -> 231.54492 | W15: =SUM(S15,U15) -> 252.59446 | X15: 262.52
A16: =A15+1 -> 13 | B16: Z | C16: Blok izolacyjny EL-Z3 1000/1140V + zaciski EL-Z1-315-400-450A wielkość "2" - 55mm | D16: 725-360-5102 | F16: 0 | G16: 0 | H16: 0 | I16: 264.7095 | J16: 0 | K16: =F16*Dane!$C$14+G16*Dane!$C$15+H16*Dane!$C$16 -> 0 | L16: =F16*Dane!$F$14+G16*Dane!$F$15+H16*Dane!$F$17 -> 0 | M16: =F16*Dane!$H$14+G16*Dane!$H$15+H16*Dane!$H$16+(F16+G16+H16)*Dane!$C$22 -> 0 | N16: =SUM(I16:M16) -> 264.7095 | O16: =IF(B16="W",N16*Dane!$D$2,N16*Dane!$H$2) -> 52.9419 | P16: =SUM(N16:O16) -> 317.6514 | Q16: =IF(B16="W",N16*Dane!$C$23,N16*Dane!$C$23) -> 0 | R16: =IF(B16="W",(N16*Dane!$D$3)-Q16,(N16*Dane!$H$3)-Q16) -> 0 | S16: =SUM(P16:R16) -> 317.6514 | T16: =S16*0.1 -> 31.76514 | U16: =S16*0.2 -> 63.53028 | V16: =SUM(S16:T16) -> 349.41654 | W16: =SUM(S16,U16) -> 381.18168 | X16: 396.15
A17: =A16+1 -> 14 | B17: Z | C17: Blok izolacyjny EL-Z6 1000/1140V + zaciski EL-Z1-315-400-450A wielkość "2" - 55mm | D17: 725-360-5104 | F17: 0 | G17: 0 | H17: 0 | I17: 361.3335 | J17: 0 | K17: =F17*Dane!$C$14+G17*Dane!$C$15+H17*Dane!$C$16 -> 0 | L17: =F17*Dane!$F$14+G17*Dane!$F$15+H17*Dane!$F$17 -> 0 | M17: =F17*Dane!$H$14+G17*Dane!$H$15+H17*Dane!$H$16+(F17+G17+H17)*Dane!$C$22 -> 0 | N17: =SUM(I17:M17) -> 361.3335 | O17: =IF(B17="W",N17*Dane!$D$2,N17*Dane!$H$2) -> 72.2667 | P17: =SUM(N17:O17) -> 433.6002 | Q17: =IF(B17="W",N17*Dane!$C$23,N17*Dane!$C$23) -> 0 | R17: =IF(B17="W",(N17*Dane!$D$3)-Q17,(N17*Dane!$H$3)-Q17) -> 0 | S17: =SUM(P17:R17) -> 433.6002 | T17: =S17*0.1 -> 43.36002 | U17: =S17*0.2 -> 86.72004 | V17: =SUM(S17:T17) -> 476.96022 | W17: =SUM(S17,U17) -> 520.32024 | X17: 540.52
A18: =A17+1 -> 15 | B18: W | C18: Blok warystorów HR-V3 | D18: 725-011-16%0 640-401-000% | F18: 0 | G18: 0 | H18: 0 | I18: 54.89451 | J18: 0 | K18: =F18*Dane!$C$14+G18*Dane!$C$15+H18*Dane!$C$16 -> 0 | L18: =F18*Dane!$F$14+G18*Dane!$F$15+H18*Dane!$F$17 -> 0 | M18: =F18*Dane!$H$14+G18*Dane!$H$15+H18*Dane!$H$16+(F18+G18+H18)*Dane!$C$22 -> 0 | N18: =SUM(I18:M18) -> 54.89451 | O18: =IF(B18="W",N18*Dane!$D$2,N18*Dane!$H$2) -> 10.978902 | P18: =SUM(N18:O18) -> 65.873412 | Q18: =IF(B18="W",N18*Dane!$C$23,N18*Dane!$C$23) -> 0 | R18: =IF(B18="W",(N18*Dane!$D$3)-Q18,(N18*Dane!$H$3)-Q18) -> 0 | S18: =SUM(P18:R18) -> 65.873412 | T18: =S18*0.1 -> 6.5873412 | U18: =S18*0.2 -> 13.174682 | V18: =SUM(S18:T18) -> 72.460753 | W18: =SUM(S18,U18) -> 79.048094 | X18: 378
A19: =A18+1 -> 16 | B19: Z | C19: Blokada centralna drzwi - zamek 2-pozycyjny | D19: 4311-3-000104-01 | F19: 0 | G19: 0 | H19: 0 | I19: 361.99779 | J19: 0 | K19: =F19*Dane!$C$14+G19*Dane!$C$15+H19*Dane!$C$16 -> 0 | L19: =F19*Dane!$F$14+G19*Dane!$F$15+H19*Dane!$F$17 -> 0 | M19: =F19*Dane!$H$14+G19*Dane!$H$15+H19*Dane!$H$16+(F19+G19+H19)*Dane!$C$22 -> 0 | N19: =SUM(I19:M19) -> 361.99779 | O19: =IF(B19="W",N19*Dane!$D$2,N19*Dane!$H$2) -> 72.399558 | P19: =SUM(N19:O19) -> 434.39735 | Q19: =IF(B19="W",N19*Dane!$C$23,N19*Dane!$C$23) -> 0 | R19: =IF(B19="W",(N19*Dane!$D$3)-Q19,(N19*Dane!$H$3)-Q19) -> 0 | S19: =SUM(P19:R19) -> 434.39735 | T19: =S19*0.1 -> 43.439735 | U19: =S19*0.2 -> 86.87947 | V19: =SUM(S19:T19) -> 477.83708 | W19: =SUM(S19,U19) -> 521.27682 | X19: 1326.31
A20: =A19+1 -> 17 | B20: Z | C20: Blokada mechaniczna LAD | D20: 640-002-3005 | F20: 0 | G20: 0 | H20: 0 | I20: 35.177175 | J20: 0 | K20: =F20*Dane!$C$14+G20*Dane!$C$15+H20*Dane!$C$16 -> 0 | L20: =F20*Dane!$F$14+G20*Dane!$F$15+H20*Dane!$F$17 -> 0 | M20: =F20*Dane!$H$14+G20*Dane!$H$15+H20*Dane!$H$16+(F20+G20+H20)*Dane!$C$22 -> 0 | N20: =SUM(I20:M20) -> 35.177175 | O20: =IF(B20="W",N20*Dane!$D$2,N20*Dane!$H$2) -> 7.035435 | P20: =SUM(N20:O20) -> 42.21261 | Q20: =IF(B20="W",N20*Dane!$C$23,N20*Dane!$C$23) -> 0 | R20: =IF(B20="W",(N20*Dane!$D$3)-Q20,(N20*Dane!$H$3)-Q20) -> 0 | S20: =SUM(P20:R20) -> 42.21261 | T20: =S20*0.1 -> 4.221261 | U20: =S20*0.2 -> 8.442522 | V20: =SUM(S20:T20) -> 46.433871 | W20: =SUM(S20,U20) -> 50.655132 | X20: 54.96
A21: =A20+1 -> 18 | B21: Z | C21: Bolec kodujący do wtyczki AMP | D21: 728-450-0510 | F21: 0 | G21: 0 | H21: 0 | I21: 0.6411405 | J21: 0 | K21: =F21*Dane!$C$14+G21*Dane!$C$15+H21*Dane!$C$16 -> 0 | L21: =F21*Dane!$F$14+G21*Dane!$F$15+H21*Dane!$F$17 -> 0 | M21: =F21*Dane!$H$14+G21*Dane!$H$15+H21*Dane!$H$16+(F21+G21+H21)*Dane!$C$22 -> 0 | N21: =SUM(I21:M21) -> 0.6411405 | O21: =IF(B21="W",N21*Dane!$D$2,N21*Dane!$H$2) -> 0.1282281 | P21: =SUM(N21:O21) -> 0.7693686 | Q21: =IF(B21="W",N21*Dane!$C$23,N21*Dane!$C$23) -> 0 | R21: =IF(B21="W",(N21*Dane!$D$3)-Q21,(N21*Dane!$H$3)-Q21) -> 0 | S21: =SUM(P21:R21) -> 0.7693686 | T21: =S21*0.1 -> 0.07693686 | U21: =S21*0.2 -> 0.15387372 | V21: =SUM(S21:T21) -> 0.84630546 | W21: =SUM(S21,U21) -> 0.92324232 | X21: 1.11
A22: =A21+1 -> 19 | B22: W | C22: Centralne zabezpieczenie upływowe typu EH-P/02/07.01 | D22: EH-2101-1-000013-01 | F22: 0 | G22: 8 | H22: 2 | I22: 1475.227 | J22: 0 | K22: =F22*Dane!$C$14+G22*Dane!$C$15+H22*Dane!$C$16 -> 340 | L22: =F22*Dane!$F$14+G22*Dane!$F$15+H22*Dane!$F$17 -> 50 | M22: =F22*Dane!$H$14+G22*Dane!$H$15+H22*Dane!$H$16+(F22+G22+H22)*Dane!$C$22 -> 720 | N22: =SUM(I22:M22) -> 2585.227 | O22: =IF(B22="W",N22*Dane!$D$2,N22*Dane!$H$2) -> 517.04541 | P22: =SUM(N22:O22) -> 3102.2725 | Q22: =IF(B22="W",N22*Dane!$C$23,N22*Dane!$C$23) -> 0 | R22: =IF(B22="W",(N22*Dane!$D$3)-Q22,(N22*Dane!$H$3)-Q22) -> 0 | S22: =SUM(P22:R22) -> 3102.2725 | T22: =S22*0.1 -> 310.22725 | U22: =S22*0.2 -> 620.45449 | V22: =SUM(S22:T22) -> 3412.4997 | W22: =SUM(S22,U22) -> 3722.727 | X22: 4615 | Y22: =X22*Dane!$D$6 -> 692.25 | Z22: =X22*Dane!$D$7 -> 1384.5 | AA22: =X22*Dane!$D$8 -> 2769
A23: =A22+1 -> 20 | B23: W | C23: Centralne zabezpieczenie upływowe EH-P/02/12.01 | D23: EH-2101-1-000015-01 | F23: 0 | G23: 12 | H23: 1.5 | I23: 835.04 | J23: 0 | K23: =F23*Dane!$C$14+G23*Dane!$C$15+H23*Dane!$C$16 -> 453 | L23: =F23*Dane!$F$14+G23*Dane!$F$15+H23*Dane!$F$17 -> 67.5 | M23: =F23*Dane!$H$14+G23*Dane!$H$15+H23*Dane!$H$16+(F23+G23+H23)*Dane!$C$22 -> 972 | N23: =SUM(I23:M23) -> 2327.54 | O23: =IF(B23="W",N23*Dane!$D$2,N23*Dane!$H$2) -> 465.508 | P23: =SUM(N23:O23) -> 2793.048 | Q23: =IF(B23="W",N23*Dane!$C$23,N23*Dane!$C$23) -> 0 | R23: =IF(B23="W",(N23*Dane!$D$3)-Q23,(N23*Dane!$H$3)-Q23) -> 0 | S23: =SUM(P23:R23) -> 2793.048 | T23: =S23*0.1 -> 279.3048 | U23: =S23*0.2 -> 558.6096 | V23: =SUM(S23:T23) -> 3072.3528 | W23: =SUM(S23,U23) -> 3351.6576 | X23: 14470
A24: =A23+1 -> 21 | B24: Z | C24: Cewka wybijakowa (wzrostowa) dla napędu T2 | D24: 685-900-0001 | F24: 0 | G24: 0 | H24: 0 | I24: 602.61168 | J24: 0 | K24: =F24*Dane!$C$14+G24*Dane!$C$15+H24*Dane!$C$16 -> 0 | L24: =F24*Dane!$F$14+G24*Dane!$F$15+H24*Dane!$F$17 -> 0 | M24: =F24*Dane!$H$14+G24*Dane!$H$15+H24*Dane!$H$16+(F24+G24+H24)*Dane!$C$22 -> 0 | N24: =SUM(I24:M24) -> 602.61168 | O24: =IF(B24="W",N24*Dane!$D$2,N24*Dane!$H$2) -> 120.52234 | P24: =SUM(N24:O24) -> 723.13402 | Q24: =IF(B24="W",N24*Dane!$C$23,N24*Dane!$C$23) -> 0 | R24: =IF(B24="W",(N24*Dane!$D$3)-Q24,(N24*Dane!$H$3)-Q24) -> 0 | S24: =SUM(P24:R24) -> 723.13402 | T24: =S24*0.1 -> 72.313402 | U24: =S24*0.2 -> 144.6268 | V24: =SUM(S24:T24) -> 795.44742 | W24: =SUM(S24,U24) -> 867.76082 | X24: 825
A25: =A24+1 -> 22 | B25: W | C25: Cewka iskrobezpieczna elektrozaworu EH-O/11/02.01 - "ia"/9W/15V | D25: EH-3194-1-000001-01 | F25: 1 | G25: 4.5 | H25: 1 | I25: 500.76394 | J25: 0 | K25: =F25*Dane!$C$14+G25*Dane!$C$15+H25*Dane!$C$16 -> 219.5 | L25: =F25*Dane!$F$14+G25*Dane!$F$15+H25*Dane!$F$17 -> 42.5 | M25: =F25*Dane!$H$14+G25*Dane!$H$15+H25*Dane!$H$16+(F25+G25+H25)*Dane!$C$22 -> 468 | N25: =SUM(I25:M25) -> 1230.7639 | O25: =IF(B25="W",N25*Dane!$D$2,N25*Dane!$H$2) -> 246.15279 | P25: =SUM(N25:O25) -> 1476.9167 | Q25: =IF(B25="W",N25*Dane!$C$23,N25*Dane!$C$23) -> 0 | R25: =IF(B25="W",(N25*Dane!$D$3)-Q25,(N25*Dane!$H$3)-Q25) -> 0 | S25: =SUM(P25:R25) -> 1476.9167 | T25: =S25*0.1 -> 147.69167 | U25: =S25*0.2 -> 295.38335 | V25: =SUM(S25:T25) -> 1624.6084 | W25: =SUM(S25,U25) -> 1772.3001 | X25: 1911.4146 | Y25: =X25*Dane!$D$6 -> 286.71219 | Z25: =X25*Dane!$D$7 -> 573.42438 | AA25: =X25*Dane!$D$8 -> 1146.8488
A26: =A25+1 -> 23 | B26: Z | C26: Cięgno blokady, uziemnika | D26: 642-121-100% | F26: 0 | G26: 0 | H26: 0 | I26: 133.8645 | J26: 0 | K26: =F26*Dane!$C$14+G26*Dane!$C$15+H26*Dane!$C$16 -> 0 | L26: =F26*Dane!$F$14+G26*Dane!$F$15+H26*Dane!$F$17 -> 0 | M26: =F26*Dane!$H$14+G26*Dane!$H$15+H26*Dane!$H$16+(F26+G26+H26)*Dane!$C$22 -> 0 | N26: =SUM(I26:M26) -> 133.8645 | O26: =IF(B26="W",N26*Dane!$D$2,N26*Dane!$H$2) -> 26.7729 | P26: =SUM(N26:O26) -> 160.6374 | Q26: =IF(B26="W",N26*Dane!$C$23,N26*Dane!$C$23) -> 0 | R26: =IF(B26="W",(N26*Dane!$D$3)-Q26,(N26*Dane!$H$3)-Q26) -> 0 | S26: =SUM(P26:R26) -> 160.6374 | T26: =S26*0.1 -> 16.06374 | U26: =S26*0.2 -> 32.12748 | V26: =SUM(S26:T26) -> 176.70114 | W26: =SUM(S26,U26) -> 192.76488 | X26: 534.74
A27: =A26+1 -> 24 | B27: W | C27: Cyfrowy wskaźnik wartości - moduł główny EH-P06/01 | D27: EH-2031-1-000007-02 | F27: 0 | G27: 1.5 | H27: 0.5 | I27: 227.40861 | J27: 0 | K27: =F27*Dane!$C$14+G27*Dane!$C$15+H27*Dane!$C$16 -> 68.5 | L27: =F27*Dane!$F$14+G27*Dane!$F$15+H27*Dane!$F$17 -> 10 | M27: =F27*Dane!$H$14+G27*Dane!$H$15+H27*Dane!$H$16+(F27+G27+H27)*Dane!$C$22 -> 144 | N27: =SUM(I27:M27) -> 449.90861 | O27: =IF(B27="W",N27*Dane!$D$2,N27*Dane!$H$2) -> 89.981722 | P27: =SUM(N27:O27) -> 539.89033 | Q27: =IF(B27="W",N27*Dane!$C$23,N27*Dane!$C$23) -> 0 | R27: =IF(B27="W",(N27*Dane!$D$3)-Q27,(N27*Dane!$H$3)-Q27) -> 0 | S27: =SUM(P27:R27) -> 539.89033 | T27: =S27*0.1 -> 53.989033 | U27: =S27*0.2 -> 107.97807 | V27: =SUM(S27:T27) -> 593.87937 | W27: =SUM(S27,U27) -> 647.8684 | X27: 2534.7 | Y27: =X27*Dane!$D$6 -> 380.205 | Z27: =X27*Dane!$D$7 -> 760.41 | AA27: =X27*Dane!$D$8 -> 1520.82
A28: =A27+1 -> 25 | B28: W | C28: Cyfrowy wskaźnik wartości - moduł woltomierza EH-P06/02 | D28: EH-2032-1-000014-02 | F28: 0 | G28: 1.5 | H28: 0.5 | I28: 77.82258 | J28: 0 | K28: =F28*Dane!$C$14+G28*Dane!$C$15+H28*Dane!$C$16 -> 68.5 | L28: =F28*Dane!$F$14+G28*Dane!$F$15+H28*Dane!$F$17 -> 10 | M28: =F28*Dane!$H$14+G28*Dane!$H$15+H28*Dane!$H$16+(F28+G28+H28)*Dane!$C$22 -> 144 | N28: =SUM(I28:M28) -> 300.32258 | O28: =IF(B28="W",N28*Dane!$D$2,N28*Dane!$H$2) -> 60.064516 | P28: =SUM(N28:O28) -> 360.3871 | Q28: =IF(B28="W",N28*Dane!$C$23,N28*Dane!$C$23) -> 0 | R28: =IF(B28="W",(N28*Dane!$D$3)-Q28,(N28*Dane!$H$3)-Q28) -> 0 | S28: =SUM(P28:R28) -> 360.3871 | T28: =S28*0.1 -> 36.03871 | U28: =S28*0.2 -> 72.077419 | V28: =SUM(S28:T28) -> 396.42581 | W28: =SUM(S28,U28) -> 432.46452 | X28: 1820.17 | Y28: =X28*Dane!$D$6 -> 273.0255 | Z28: =X28*Dane!$D$7 -> 546.051 | AA28: =X28*Dane!$D$8 -> 1092.102
A29: =A28+1 -> 26 | B29: W | C29: Cyfrowy wskaźnik wartości - moduł amperomierza EH-P06/03 | D29: EH-2031-1-000006-04 | F29: 0 | G29: 2 | H29: 0.25 | I29: 44.759055 | J29: 0 | K29: =F29*Dane!$C$14+G29*Dane!$C$15+H29*Dane!$C$16 -> 75.5 | L29: =F29*Dane!$F$14+G29*Dane!$F$15+H29*Dane!$F$17 -> 11.25 | M29: =F29*Dane!$H$14+G29*Dane!$H$15+H29*Dane!$H$16+(F29+G29+H29)*Dane!$C$22 -> 162 | N29: =SUM(I29:M29) -> 293.50905 | O29: =IF(B29="W",N29*Dane!$D$2,N29*Dane!$H$2) -> 58.701811 | P29: =SUM(N29:O29) -> 352.21087 | Q29: =IF(B29="W",N29*Dane!$C$23,N29*Dane!$C$23) -> 0 | R29: =IF(B29="W",(N29*Dane!$D$3)-Q29,(N29*Dane!$H$3)-Q29) -> 0 | S29: =SUM(P29:R29) -> 352.21087 | T29: =S29*0.1 -> 35.221087 | U29: =S29*0.2 -> 70.442173 | V29: =SUM(S29:T29) -> 387.43195 | W29: =SUM(S29,U29) -> 422.65304 | X29: 1553.99 | Y29: =X29*Dane!$D$6 -> 233.0985 | Z29: =X29*Dane!$D$7 -> 466.197 | AA29: =X29*Dane!$D$8 -> 932.394
A30: =A29+1 -> 27 | B30: W | C30: Człon sprzęgający typu EH-P/14/04.01 | D30: EH-2092-1-000036-01 | F30: 0 | G30: 2 | H30: 0.5 | I30: 53.92827 | J30: 0 | K30: =F30*Dane!$C$14+G30*Dane!$C$15+H30*Dane!$C$16 -> 85 | L30: =F30*Dane!$F$14+G30*Dane!$F$15+H30*Dane!$F$17 -> 12.5 | M30: =F30*Dane!$H$14+G30*Dane!$H$15+H30*Dane!$H$16+(F30+G30+H30)*Dane!$C$22 -> 180 | N30: =SUM(I30:M30) -> 331.42827 | O30: =IF(B30="W",N30*Dane!$D$2,N30*Dane!$H$2) -> 66.285654 | P30: =SUM(N30:O30) -> 397.71392 | Q30: =IF(B30="W",N30*Dane!$C$23,N30*Dane!$C$23) -> 0 | R30: =IF(B30="W",(N30*Dane!$D$3)-Q30,(N30*Dane!$H$3)-Q30) -> 0 | S30: =SUM(P30:R30) -> 397.71392 | T30: =S30*0.1 -> 39.771392 | U30: =S30*0.2 -> 79.542785 | V30: =SUM(S30:T30) -> 437.48532 | W30: =SUM(S30,U30) -> 477.25671 | X30: 496.79696 | Y30: =X30*Dane!$D$6 -> 74.519544 | Z30: =X30*Dane!$D$7 -> 149.03909 | AA30: =X30*Dane!$D$8 -> 298.07818
A31: =A30+1 -> 28 | B31: Z | C31: Człon sprzęgający (separator programowalny) mFK A101/d/E | D31: 689-002-0002 | F31: 0 | G31: 0 | H31: 0 | I31: =3707*Dane!$D$4 -> 17655.7 | J31: 0 | K31: =F31*Dane!$C$14+G31*Dane!$C$15+H31*Dane!$C$16 -> 0 | L31: =F31*Dane!$F$14+G31*Dane!$F$15+H31*Dane!$F$17 -> 0 | M31: =F31*Dane!$H$14+G31*Dane!$H$15+H31*Dane!$H$16+(F31+G31+H31)*Dane!$C$22 -> 0 | N31: =SUM(I31:M31) -> 17655.7 | O31: =IF(B31="W",N31*Dane!$D$2,N31*Dane!$H$2) -> 3531.1399 | P31: =SUM(N31:O31) -> 21186.84 | Q31: =IF(B31="W",N31*Dane!$C$23,N31*Dane!$C$23) -> 0 | R31: =IF(B31="W",(N31*Dane!$D$3)-Q31,(N31*Dane!$H$3)-Q31) -> 0 | S31: =SUM(P31:R31) -> 21186.84 | T31: =S31*0.1 -> 2118.684 | U31: =S31*0.2 -> 4237.3679 | V31: =SUM(S31:T31) -> 23305.523 | W31: =SUM(S31,U31) -> 25424.207 | X31: 29829.48 | Y31: =X31*Dane!$D$6 -> 4474.422 | Z31: =X31*Dane!$D$7 -> 8948.844 | AA31: =X31*Dane!$D$8 -> 17897.688
A32: =A31+1 -> 29 | B32: W | C32: Czujnik poziomu cieczy typu EH-O/08/06.01 | D32: EH-1362-1-000027-01 | F32: 0.6 | G32: 1.1 | H32: 0.3 | I32: 1206.2601 | J32: 0 | K32: =F32*Dane!$C$14+G32*Dane!$C$15+H32*Dane!$C$16 -> 67.5 | L32: =F32*Dane!$F$14+G32*Dane!$F$15+H32*Dane!$F$17 -> 16 | M32: =F32*Dane!$H$14+G32*Dane!$H$15+H32*Dane!$H$16+(F32+G32+H32)*Dane!$C$22 -> 144 | N32: =SUM(I32:M32) -> 1433.7601 | O32: =IF(B32="W",N32*Dane!$D$2,N32*Dane!$H$2) -> 286.75201 | P32: =SUM(N32:O32) -> 1720.5121 | Q32: =IF(B32="W",N32*Dane!$C$23,N32*Dane!$C$23) -> 0 | R32: =IF(B32="W",(N32*Dane!$D$3)-Q32,(N32*Dane!$H$3)-Q32) -> 0 | S32: =SUM(P32:R32) -> 1720.5121 | T32: =S32*0.1 -> 172.05121 | U32: =S32*0.2 -> 344.10241 | V32: =SUM(S32:T32) -> 1892.5633 | W32: =SUM(S32,U32) -> 2064.6145 | X32: 2224.2594 | Y32: =X32*Dane!$D$6 -> 333.6389 | Z32: =X32*Dane!$D$7 -> 667.27781 | AA32: =X32*Dane!$D$8 -> 1334.5556
A33: =A32+1 -> 30 | B33: W | C33: Czujnik temperatury typu EH-P/22/04.01 | D33: EH-2093-1-000008-01 | F33: 0 | G33: 0.3 | H33: 0 | I33: 12.96372 | J33: 0 | K33: =F33*Dane!$C$14+G33*Dane!$C$15+H33*Dane!$C$16 -> 9.9 | L33: =F33*Dane!$F$14+G33*Dane!$F$15+H33*Dane!$F$17 -> 1.5 | M33: =F33*Dane!$H$14+G33*Dane!$H$15+H33*Dane!$H$16+(F33+G33+H33)*Dane!$C$22 -> 21.6 | N33: =SUM(I33:M33) -> 45.96372 | O33: =IF(B33="W",N33*Dane!$D$2,N33*Dane!$H$2) -> 9.192744 | P33: =SUM(N33:O33) -> 55.156464 | Q33: =IF(B33="W",N33*Dane!$C$23,N33*Dane!$C$23) -> 0 | R33: =IF(B33="W",(N33*Dane!$D$3)-Q33,(N33*Dane!$H$3)-Q33) -> 0 | S33: =SUM(P33:R33) -> 55.156464 | T33: =S33*0.1 -> 5.5156464 | U33: =S33*0.2 -> 11.031293 | V33: =SUM(S33:T33) -> 60.67211 | W33: =SUM(S33,U33) -> 66.187757 | X33: 79.118027 | Y33: =X33*Dane!$D$6 -> 11.867704 | Z33: =X33*Dane!$D$7 -> 23.735408 | AA33: =X33*Dane!$D$8 -> 47.470816
A34: =A33+1 -> 31 | B34: W | C34: Diodowy ogranicznik napięcia EH-P/20/01 | D34: EH-1319-1-000003-01 | F34: 0 | G34: 1 | H34: 0 | I34: 19.717335 | J34: 0 | K34: =F34*Dane!$C$14+G34*Dane!$C$15+H34*Dane!$C$16 -> 33 | L34: =F34*Dane!$F$14+G34*Dane!$F$15+H34*Dane!$F$17 -> 5 | M34: =F34*Dane!$H$14+G34*Dane!$H$15+H34*Dane!$H$16+(F34+G34+H34)*Dane!$C$22 -> 72 | N34: =SUM(I34:M34) -> 129.71733 | O34: =IF(B34="W",N34*Dane!$D$2,N34*Dane!$H$2) -> 25.943467 | P34: =SUM(N34:O34) -> 155.6608 | Q34: =IF(B34="W",N34*Dane!$C$23,N34*Dane!$C$23) -> 0 | R34: =IF(B34="W",(N34*Dane!$D$3)-Q34,(N34*Dane!$H$3)-Q34) -> 0 | S34: =SUM(P34:R34) -> 155.6608 | T34: =S34*0.1 -> 15.56608 | U34: =S34*0.2 -> 31.13216 | V34: =SUM(S34:T34) -> 171.22688 | W34: =SUM(S34,U34) -> 186.79296 | X34: 560.55 | Y34: =X34*Dane!$D$6 -> 84.0825 | Z34: =X34*Dane!$D$7 -> 168.165 | AA34: =X34*Dane!$D$8 -> 336.33
A35: =A34+1 -> 32 | B35: Z | C35: Dławik DŁ-10 1000V | D35: 700-137-0510 | F35: 0 | G35: 0 | H35: 0 | I35: 40.15935 | J35: 0 | K35: =F35*Dane!$C$14+G35*Dane!$C$15+H35*Dane!$C$16 -> 0 | L35: =F35*Dane!$F$14+G35*Dane!$F$15+H35*Dane!$F$17 -> 0 | M35: =F35*Dane!$H$14+G35*Dane!$H$15+H35*Dane!$H$16+(F35+G35+H35)*Dane!$C$22 -> 0 | N35: =SUM(I35:M35) -> 40.15935 | O35: =IF(B35="W",N35*Dane!$D$2,N35*Dane!$H$2) -> 8.03187 | P35: =SUM(N35:O35) -> 48.19122 | Q35: =IF(B35="W",N35*Dane!$C$23,N35*Dane!$C$23) -> 0 | R35: =IF(B35="W",(N35*Dane!$D$3)-Q35,(N35*Dane!$H$3)-Q35) -> 0 | S35: =SUM(P35:R35) -> 48.19122 | T35: =S35*0.1 -> 4.819122 | U35: =S35*0.2 -> 9.638244 | V35: =SUM(S35:T35) -> 53.010342 | W35: =SUM(S35,U35) -> 57.829464 | X35: 128
A36: =A35+1 -> 33 | B36: Z | C36: Dławik DŁ-3,3 kV | D36: 700-137-0520 | F36: 0 | G36: 0 | H36: 0 | I36: 568.6725 | J36: 0 | K36: =F36*Dane!$C$14+G36*Dane!$C$15+H36*Dane!$C$16 -> 0 | L36: =F36*Dane!$F$14+G36*Dane!$F$15+H36*Dane!$F$17 -> 0 | M36: =F36*Dane!$H$14+G36*Dane!$H$15+H36*Dane!$H$16+(F36+G36+H36)*Dane!$C$22 -> 0 | N36: =SUM(I36:M36) -> 568.6725 | O36: =IF(B36="W",N36*Dane!$D$2,N36*Dane!$H$2) -> 113.7345 | P36: =SUM(N36:O36) -> 682.407 | Q36: =IF(B36="W",N36*Dane!$C$23,N36*Dane!$C$23) -> 0 | R36: =IF(B36="W",(N36*Dane!$D$3)-Q36,(N36*Dane!$H$3)-Q36) -> 0 | S36: =SUM(P36:R36) -> 682.407 | T36: =S36*0.1 -> 68.2407 | U36: =S36*0.2 -> 136.4814 | V36: =SUM(S36:T36) -> 750.6477 | W36: =SUM(S36,U36) -> 818.8884 | X36: 2345.58
A37: =A36+1 -> 34 | B37: Z | C37: Dławik DŁ-6 kV | D37: 700-156-0005 | F37: 0 | G37: 0 | H37: 0 | I37: 654.225 | J37: 0 | K37: =F37*Dane!$C$14+G37*Dane!$C$15+H37*Dane!$C$16 -> 0 | L37: =F37*Dane!$F$14+G37*Dane!$F$15+H37*Dane!$F$17 -> 0 | M37: =F37*Dane!$H$14+G37*Dane!$H$15+H37*Dane!$H$16+(F37+G37+H37)*Dane!$C$22 -> 0 | N37: =SUM(I37:M37) -> 654.225 | O37: =IF(B37="W",N37*Dane!$D$2,N37*Dane!$H$2) -> 130.845 | P37: =SUM(N37:O37) -> 785.07 | Q37: =IF(B37="W",N37*Dane!$C$23,N37*Dane!$C$23) -> 0 | R37: =IF(B37="W",(N37*Dane!$D$3)-Q37,(N37*Dane!$H$3)-Q37) -> 0 | S37: =SUM(P37:R37) -> 785.07 | T37: =S37*0.1 -> 78.507 | U37: =S37*0.2 -> 157.014 | V37: =SUM(S37:T37) -> 863.577 | W37: =SUM(S37,U37) -> 942.084 | X37: 2363
A38: =A37+1 -> 35 | B38: Z | C38: Dławik OZT 220V | D38: 700-156-0006 | F38: 0 | G38: 0 | H38: 0 | I38: 37.8444 | J38: 0 | K38: =F38*Dane!$C$14+G38*Dane!$C$15+H38*Dane!$C$16 -> 0 | L38: =F38*Dane!$F$14+G38*Dane!$F$15+H38*Dane!$F$17 -> 0 | M38: =F38*Dane!$H$14+G38*Dane!$H$15+H38*Dane!$H$16+(F38+G38+H38)*Dane!$C$22 -> 0 | N38: =SUM(I38:M38) -> 37.8444 | O38: =IF(B38="W",N38*Dane!$D$2,N38*Dane!$H$2) -> 7.56888 | P38: =SUM(N38:O38) -> 45.41328 | Q38: =IF(B38="W",N38*Dane!$C$23,N38*Dane!$C$23) -> 0 | R38: =IF(B38="W",(N38*Dane!$D$3)-Q38,(N38*Dane!$H$3)-Q38) -> 0 | S38: =SUM(P38:R38) -> 45.41328 | T38: =S38*0.1 -> 4.541328 | U38: =S38*0.2 -> 9.082656 | V38: =SUM(S38:T38) -> 49.954608 | W38: =SUM(S38,U38) -> 54.495936 | X38: 124.1
A39: =A38+1 -> 36 | B39: Z | C39: Dławik OZT-A 220V | D39: 700-156-0003 | F39: 0 | G39: 0 | H39: 0 | I39: 35.2275 | J39: 0 | K39: =F39*Dane!$C$14+G39*Dane!$C$15+H39*Dane!$C$16 -> 0 | L39: =F39*Dane!$F$14+G39*Dane!$F$15+H39*Dane!$F$17 -> 0 | M39: =F39*Dane!$H$14+G39*Dane!$H$15+H39*Dane!$H$16+(F39+G39+H39)*Dane!$C$22 -> 0 | N39: =SUM(I39:M39) -> 35.2275 | O39: =IF(B39="W",N39*Dane!$D$2,N39*Dane!$H$2) -> 7.0455 | P39: =SUM(N39:O39) -> 42.273 | Q39: =IF(B39="W",N39*Dane!$C$23,N39*Dane!$C$23) -> 0 | R39: =IF(B39="W",(N39*Dane!$D$3)-Q39,(N39*Dane!$H$3)-Q39) -> 0 | S39: =SUM(P39:R39) -> 42.273 | T39: =S39*0.1 -> 4.2273 | U39: =S39*0.2 -> 8.4546 | V39: =SUM(S39:T39) -> 46.5003 | W39: =SUM(S39,U39) -> 50.7276 | X39: 119.33
A40: =A39+1 -> 37 | B40: Z | C40: Dławnica kablowa A2F /25A2F1RA/; SIRA 06ATEX1097X; I M2 Ex d I/I M2 Ex e I | D40: 700-170-0510 | F40: 0 | G40: 0 | H40: 0 | I40: 45.0912 | J40: 0 | K40: =F40*Dane!$C$14+G40*Dane!$C$15+H40*Dane!$C$16 -> 0 | L40: =F40*Dane!$F$14+G40*Dane!$F$15+H40*Dane!$F$17 -> 0 | M40: =F40*Dane!$H$14+G40*Dane!$H$15+H40*Dane!$H$16+(F40+G40+H40)*Dane!$C$22 -> 0 | N40: =SUM(I40:M40) -> 45.0912 | O40: =IF(B40="W",N40*Dane!$D$2,N40*Dane!$H$2) -> 9.01824 | P40: =SUM(N40:O40) -> 54.10944 | Q40: =IF(B40="W",N40*Dane!$C$23,N40*Dane!$C$23) -> 0 | R40: =IF(B40="W",(N40*Dane!$D$3)-Q40,(N40*Dane!$H$3)-Q40) -> 0 | S40: =SUM(P40:R40) -> 54.10944 | T40: =S40*0.1 -> 5.410944 | U40: =S40*0.2 -> 10.821888 | V40: =SUM(S40:T40) -> 59.520384 | W40: =SUM(S40,U40) -> 64.931328 | X40: 190
A41: =A40+1 -> 38 | B41: Z | C41: Dławnica kablowa A2F /32A2F1RA/ IECEx SIR 06.0039X IM2 Ex d I SIRA06ATEX1097X | D41: 700-170-0511 | F41: 0 | G41: 0 | H41: 0 | I41: 47.5068 | J41: 0 | K41: =F41*Dane!$C$14+G41*Dane!$C$15+H41*Dane!$C$16 -> 0 | L41: =F41*Dane!$F$14+G41*Dane!$F$15+H41*Dane!$F$17 -> 0 | M41: =F41*Dane!$H$14+G41*Dane!$H$15+H41*Dane!$H$16+(F41+G41+H41)*Dane!$C$22 -> 0 | N41: =SUM(I41:M41) -> 47.5068 | O41: =IF(B41="W",N41*Dane!$D$2,N41*Dane!$H$2) -> 9.50136 | P41: =SUM(N41:O41) -> 57.00816 | Q41: =IF(B41="W",N41*Dane!$C$23,N41*Dane!$C$23) -> 0 | R41: =IF(B41="W",(N41*Dane!$D$3)-Q41,(N41*Dane!$H$3)-Q41) -> 0 | S41: =SUM(P41:R41) -> 57.00816 | T41: =S41*0.1 -> 5.700816 | U41: =S41*0.2 -> 11.401632 | V41: =SUM(S41:T41) -> 62.708976 | W41: =SUM(S41,U41) -> 68.409792 | X41: 210
A42: =A41+1 -> 39 | B42: Z | C42: Dławnica kablowa A2F /20A2F1RA/ SIRA 06ATEX1097X I M2 Ex d I/I M2 Ex e I | D42: 700-170-0630 | F42: 0 | G42: 0 | H42: 0 | I42: 31.030395 | J42: 0 | K42: =F42*Dane!$C$14+G42*Dane!$C$15+H42*Dane!$C$16 -> 0 | L42: =F42*Dane!$F$14+G42*Dane!$F$15+H42*Dane!$F$17 -> 0 | M42: =F42*Dane!$H$14+G42*Dane!$H$15+H42*Dane!$H$16+(F42+G42+H42)*Dane!$C$22 -> 0 | N42: =SUM(I42:M42) -> 31.030395 | O42: =IF(B42="W",N42*Dane!$D$2,N42*Dane!$H$2) -> 6.206079 | P42: =SUM(N42:O42) -> 37.236474 | Q42: =IF(B42="W",N42*Dane!$C$23,N42*Dane!$C$23) -> 0 | R42: =IF(B42="W",(N42*Dane!$D$3)-Q42,(N42*Dane!$H$3)-Q42) -> 0 | S42: =SUM(P42:R42) -> 37.236474 | T42: =S42*0.1 -> 3.7236474 | U42: =S42*0.2 -> 7.4472948 | V42: =SUM(S42:T42) -> 40.960121 | W42: =SUM(S42,U42) -> 44.683769 | X42: 180
A43: =A42+1 -> 40 | B43: Z | C43: Dławnica kablowa A2F /40A2F1RA/ Exd/e I brass (23,5-32,2) | D43: 700-170-0513 | F43: 0 | G43: 0 | H43: 0 | I43: 134.20671 | J43: 0 | K43: =F43*Dane!$C$14+G43*Dane!$C$15+H43*Dane!$C$16 -> 0 | L43: =F43*Dane!$F$14+G43*Dane!$F$15+H43*Dane!$F$17 -> 0 | M43: =F43*Dane!$H$14+G43*Dane!$H$15+H43*Dane!$H$16+(F43+G43+H43)*Dane!$C$22 -> 0 | N43: =SUM(I43:M43) -> 134.20671 | O43: =IF(B43="W",N43*Dane!$D$2,N43*Dane!$H$2) -> 26.841342 | P43: =SUM(N43:O43) -> 161.04805 | Q43: =IF(B43="W",N43*Dane!$C$23,N43*Dane!$C$23) -> 0 | R43: =IF(B43="W",(N43*Dane!$D$3)-Q43,(N43*Dane!$H$3)-Q43) -> 0 | S43: =SUM(P43:R43) -> 161.04805 | T43: =S43*0.1 -> 16.104805 | U43: =S43*0.2 -> 32.20961 | V43: =SUM(S43:T43) -> 177.15286 | W43: =SUM(S43,U43) -> 193.25766 | X43: 220
A44: =A43+1 -> 41 | B44: Z | C44: Dławnica kablowa FLP-TR M20÷32 | D44: 700-157-100% 700-170-0% | F44: 0 | G44: 0 | H44: 0 | I44: 153.66235 | J44: 0 | K44: =F44*Dane!$C$14+G44*Dane!$C$15+H44*Dane!$C$16 -> 0 | L44: =F44*Dane!$F$14+G44*Dane!$F$15+H44*Dane!$F$17 -> 0 | M44: =F44*Dane!$H$14+G44*Dane!$H$15+H44*Dane!$H$16+(F44+G44+H44)*Dane!$C$22 -> 0 | N44: =SUM(I44:M44) -> 153.66235 | O44: =IF(B44="W",N44*Dane!$D$2,N44*Dane!$H$2) -> 30.732471 | P44: =SUM(N44:O44) -> 184.39483 | Q44: =IF(B44="W",N44*Dane!$C$23,N44*Dane!$C$23) -> 0 | R44: =IF(B44="W",(N44*Dane!$D$3)-Q44,(N44*Dane!$H$3)-Q44) -> 0 | S44: =SUM(P44:R44) -> 184.39483 | T44: =S44*0.1 -> 18.439483 | U44: =S44*0.2 -> 36.878965 | V44: =SUM(S44:T44) -> 202.83431 | W44: =SUM(S44,U44) -> 221.27379 | X44: 211
A45: =A44+1 -> 42 | B45: Z | C45: Dłoniowy przycisk bezpieczeństwa XB4-BT845 | D45: 681-758-0521 | F45: 0 | G45: 0 | H45: 0 | I45: 58.286415 | J45: 0 | K45: =F45*Dane!$C$14+G45*Dane!$C$15+H45*Dane!$C$16 -> 0 | L45: =F45*Dane!$F$14+G45*Dane!$F$15+H45*Dane!$F$17 -> 0 | M45: =F45*Dane!$H$14+G45*Dane!$H$15+H45*Dane!$H$16+(F45+G45+H45)*Dane!$C$22 -> 0 | N45: =SUM(I45:M45) -> 58.286415 | O45: =IF(B45="W",N45*Dane!$D$2,N45*Dane!$H$2) -> 11.657283 | P45: =SUM(N45:O45) -> 69.943698 | Q45: =IF(B45="W",N45*Dane!$C$23,N45*Dane!$C$23) -> 0 | R45: =IF(B45="W",(N45*Dane!$D$3)-Q45,(N45*Dane!$H$3)-Q45) -> 0 | S45: =SUM(P45:R45) -> 69.943698 | T45: =S45*0.1 -> 6.9943698 | U45: =S45*0.2 -> 13.98874 | V45: =SUM(S45:T45) -> 76.938068 | W45: =SUM(S45,U45) -> 83.932438 | X45: 97
A46: =A45+1 -> 43 | B46: W | C46: Dzielnik napięcia EH-P04/01 | D46: 579-559-1010 | F46: 0 | G46: 0 | H46: 0 | I46: 161.04 | J46: 0 | K46: =F46*Dane!$C$14+G46*Dane!$C$15+H46*Dane!$C$16 -> 0 | L46: =F46*Dane!$F$14+G46*Dane!$F$15+H46*Dane!$F$17 -> 0 | M46: =F46*Dane!$H$14+G46*Dane!$H$15+H46*Dane!$H$16+(F46+G46+H46)*Dane!$C$22 -> 0 | N46: =SUM(I46:M46) -> 161.04 | O46: =IF(B46="W",N46*Dane!$D$2,N46*Dane!$H$2) -> 32.208 | P46: =SUM(N46:O46) -> 193.248 | Q46: =IF(B46="W",N46*Dane!$C$23,N46*Dane!$C$23) -> 0 | R46: =IF(B46="W",(N46*Dane!$D$3)-Q46,(N46*Dane!$H$3)-Q46) -> 0 | S46: =SUM(P46:R46) -> 193.248 | T46: =S46*0.1 -> 19.3248 | U46: =S46*0.2 -> 38.6496 | V46: =SUM(S46:T46) -> 212.5728 | W46: =SUM(S46,U46) -> 231.8976 | X46: 642 | Y46: =X46*Dane!$D$6 -> 96.3
A47: =A46+1 -> 44 | B47: W | C47: Dzielnik napięcia EH-P04/02 | D47: 576-559-1020 | F47: 0 | G47: 0 | H47: 0 | I47: 317.0475 | J47: 0 | K47: =F47*Dane!$C$14+G47*Dane!$C$15+H47*Dane!$C$16 -> 0 | L47: =F47*Dane!$F$14+G47*Dane!$F$15+H47*Dane!$F$17 -> 0 | M47: =F47*Dane!$H$14+G47*Dane!$H$15+H47*Dane!$H$16+(F47+G47+H47)*Dane!$C$22 -> 0 | N47: =SUM(I47:M47) -> 317.0475 | O47: =IF(B47="W",N47*Dane!$D$2,N47*Dane!$H$2) -> 63.4095 | P47: =SUM(N47:O47) -> 380.457 | Q47: =IF(B47="W",N47*Dane!$C$23,N47*Dane!$C$23) -> 0 | R47: =IF(B47="W",(N47*Dane!$D$3)-Q47,(N47*Dane!$H$3)-Q47) -> 0 | S47: =SUM(P47:R47) -> 380.457 | T47: =S47*0.1 -> 38.0457 | U47: =S47*0.2 -> 76.0914 | V47: =SUM(S47:T47) -> 418.5027 | W47: =SUM(S47,U47) -> 456.5484 | X47: 1266 | Y47: =X47*Dane!$D$6 -> 189.9
A48: =A47+1 -> 45 | B48: W | C48: Dzielnik napięcia EH-P/04/04 | D48: EH-2081-3-000006-01 | F48: 0 | G48: 1.5 | H48: 0.5 | I48: 210.24778 | J48: 0 | K48: =F48*Dane!$C$14+G48*Dane!$C$15+H48*Dane!$C$16 -> 68.5 | L48: =F48*Dane!$F$14+G48*Dane!$F$15+H48*Dane!$F$17 -> 10 | M48: =F48*Dane!$H$14+G48*Dane!$H$15+H48*Dane!$H$16+(F48+G48+H48)*Dane!$C$22 -> 144 | N48: =SUM(I48:M48) -> 432.74779 | O48: =IF(B48="W",N48*Dane!$D$2,N48*Dane!$H$2) -> 86.549557 | P48: =SUM(N48:O48) -> 519.29734 | Q48: =IF(B48="W",N48*Dane!$C$23,N48*Dane!$C$23) -> 0 | R48: =IF(B48="W",(N48*Dane!$D$3)-Q48,(N48*Dane!$H$3)-Q48) -> 0 | S48: =SUM(P48:R48) -> 519.29734 | T48: =S48*0.1 -> 51.929734 | U48: =S48*0.2 -> 103.85947 | V48: =SUM(S48:T48) -> 571.22708 | W48: =SUM(S48,U48) -> 623.15681 | X48: 1794.36 | Y48: =X48*Dane!$D$6 -> 269.154
A49: =A48+1 -> 46 | B49: W | C49: Elektroniczny zespół pomiaru napięcia typu EH-P/06/22 | D49: EH-2039-1-000024-01 | F49: 0 | G49: 3.45 | H49: 1.5 | I49: 1083.92 | J49: 0 | K49: =F49*Dane!$C$14+G49*Dane!$C$15+H49*Dane!$C$16 -> 170.85 | L49: =F49*Dane!$F$14+G49*Dane!$F$15+H49*Dane!$F$17 -> 24.75 | M49: =F49*Dane!$H$14+G49*Dane!$H$15+H49*Dane!$H$16+(F49+G49+H49)*Dane!$C$22 -> 356.4 | N49: =SUM(I49:M49) -> 1635.92 | O49: =IF(B49="W",N49*Dane!$D$2,N49*Dane!$H$2) -> 327.184 | P49: =SUM(N49:O49) -> 1963.104 | Q49: =IF(B49="W",N49*Dane!$C$23,N49*Dane!$C$23) -> 0 | R49: =IF(B49="W",(N49*Dane!$D$3)-Q49,(N49*Dane!$H$3)-Q49) -> 0 | S49: =SUM(P49:R49) -> 1963.104 | T49: =S49*0.1 -> 196.3104 | U49: =S49*0.2 -> 392.6208 | V49: =SUM(S49:T49) -> 2159.4144 | W49: =SUM(S49,U49) -> 2355.7248 | X49: 2480 | Y49: =X49*Dane!$D$6 -> 372 | Z49: =X49*Dane!$D$7 -> 744 | AA49: =X49*Dane!$D$8 -> 1488
A50: =A49+1 -> 47 | B50: W | C50: Elektroniczny zespół pomiaru napięcia 6kV typu EH-P/06/23 | D50: EH-2039-1-000028-01 | F50: 0 | G50: 6.25 | H50: 1 | I50: 1272.4978 | J50: 0 | K50: =F50*Dane!$C$14+G50*Dane!$C$15+H50*Dane!$C$16 -> 244.25 | L50: =F50*Dane!$F$14+G50*Dane!$F$15+H50*Dane!$F$17 -> 36.25 | M50: =F50*Dane!$H$14+G50*Dane!$H$15+H50*Dane!$H$16+(F50+G50+H50)*Dane!$C$22 -> 522 | N50: =SUM(I50:M50) -> 2074.9978 | O50: =IF(B50="W",N50*Dane!$D$2,N50*Dane!$H$2) -> 414.99956 | P50: =SUM(N50:O50) -> 2489.9974 | Q50: =IF(B50="W",N50*Dane!$C$23,N50*Dane!$C$23) -> 0 | R50: =IF(B50="W",(N50*Dane!$D$3)-Q50,(N50*Dane!$H$3)-Q50) -> 0 | S50: =SUM(P50:R50) -> 2489.9974 | T50: =S50*0.1 -> 248.99974 | U50: =S50*0.2 -> 497.99948 | V50: =SUM(S50:T50) -> 2738.9971 | W50: =SUM(S50,U50) -> 2987.9969 | X50: 3244.1995 | Y50: =X50*Dane!$D$6 -> 486.62992 | Z50: =X50*Dane!$D$7 -> 973.25984 | AA50: =X50*Dane!$D$8 -> 1946.5197
A51: =A50+1 -> 48 | B51: W | C51: Element końcowy EH-P/19/02 | D51: EH-2098-1-000025-01 | F51: 0 | G51: 0.33 | H51: 0.17 | I51: 2.05326 | J51: 0 | K51: =F51*Dane!$C$14+G51*Dane!$C$15+H51*Dane!$C$16 -> 17.35 | L51: =F51*Dane!$F$14+G51*Dane!$F$15+H51*Dane!$F$17 -> 2.5 | M51: =F51*Dane!$H$14+G51*Dane!$H$15+H51*Dane!$H$16+(F51+G51+H51)*Dane!$C$22 -> 36 | N51: =SUM(I51:M51) -> 57.90326 | O51: =IF(B51="W",N51*Dane!$D$2,N51*Dane!$H$2) -> 11.580652 | P51: =SUM(N51:O51) -> 69.483912 | Q51: =IF(B51="W",N51*Dane!$C$23,N51*Dane!$C$23) -> 0 | R51: =IF(B51="W",(N51*Dane!$D$3)-Q51,(N51*Dane!$H$3)-Q51) -> 0 | S51: =SUM(P51:R51) -> 69.483912 | T51: =S51*0.1 -> 6.9483912 | U51: =S51*0.2 -> 13.896782 | V51: =SUM(S51:T51) -> 76.432303 | W51: =SUM(S51,U51) -> 83.380694 | X51: 247 | Y51: =X51*Dane!$D$6 -> 37.05 | Z51: =X51*Dane!$D$7 -> 74.1 | AA51: =X51*Dane!$D$8 -> 148.2
A52: =A51+1 -> 49 | B52: W | C52: Element końcowy EH-P/19/03 | D52: EH-2098-1-000026-01 | F52: 0 | G52: 0.5 | H52: 0 | I52: 2.747745 | J52: 0 | K52: =F52*Dane!$C$14+G52*Dane!$C$15+H52*Dane!$C$16 -> 16.5 | L52: =F52*Dane!$F$14+G52*Dane!$F$15+H52*Dane!$F$17 -> 2.5 | M52: =F52*Dane!$H$14+G52*Dane!$H$15+H52*Dane!$H$16+(F52+G52+H52)*Dane!$C$22 -> 36 | N52: =SUM(I52:M52) -> 57.747745 | O52: =IF(B52="W",N52*Dane!$D$2,N52*Dane!$H$2) -> 11.549549 | P52: =SUM(N52:O52) -> 69.297294 | Q52: =IF(B52="W",N52*Dane!$C$23,N52*Dane!$C$23) -> 0 | R52: =IF(B52="W",(N52*Dane!$D$3)-Q52,(N52*Dane!$H$3)-Q52) -> 0 | S52: =SUM(P52:R52) -> 69.297294 | T52: =S52*0.1 -> 6.9297294 | U52: =S52*0.2 -> 13.859459 | V52: =SUM(S52:T52) -> 76.227023 | W52: =SUM(S52,U52) -> 83.156753 | X52: 247 | Y52: =X52*Dane!$D$6 -> 37.05 | Z52: =X52*Dane!$D$7 -> 74.1 | AA52: =X52*Dane!$D$8 -> 148.2
A53: =A52+1 -> 50 | B53: Z | C53: Farba MOLYKOTE D-3484 1kg | D53: 759-141-1010 | F53: 0 | G53: 0 | H53: 0 | I53: 295.1058 | J53: 0 | K53: =F53*Dane!$C$14+G53*Dane!$C$15+H53*Dane!$C$16 -> 0 | L53: =F53*Dane!$F$14+G53*Dane!$F$15+H53*Dane!$F$17 -> 0 | M53: =F53*Dane!$H$14+G53*Dane!$H$15+H53*Dane!$H$16+(F53+G53+H53)*Dane!$C$22 -> 0 | N53: =SUM(I53:M53) -> 295.1058 | O53: =IF(B53="W",N53*Dane!$D$2,N53*Dane!$H$2) -> 59.02116 | P53: =SUM(N53:O53) -> 354.12696 | Q53: =IF(B53="W",N53*Dane!$C$23,N53*Dane!$C$23) -> 0 | R53: =IF(B53="W",(N53*Dane!$D$3)-Q53,(N53*Dane!$H$3)-Q53) -> 0 | S53: =SUM(P53:R53) -> 354.12696 | T53: =S53*0.1 -> 35.412696 | U53: =S53*0.2 -> 70.825392 | V53: =SUM(S53:T53) -> 389.53966 | W53: =SUM(S53,U53) -> 424.95235 | X53: 409
A54: =A53+1 -> 51 | B54: W | C54: Filtr EMC/EMI 220V AC typ EH-P/10/04 | D54: EH-2061-1-000003-01 | F54: 0 | G54: 1 | H54: 0 | I54: 34.76451 | J54: 0 | K54: =F54*Dane!$C$14+G54*Dane!$C$15+H54*Dane!$C$16 -> 33 | L54: =F54*Dane!$F$14+G54*Dane!$F$15+H54*Dane!$F$17 -> 5 | M54: =F54*Dane!$H$14+G54*Dane!$H$15+H54*Dane!$H$16+(F54+G54+H54)*Dane!$C$22 -> 72 | N54: =SUM(I54:M54) -> 144.76451 | O54: =IF(B54="W",N54*Dane!$D$2,N54*Dane!$H$2) -> 28.952902 | P54: =SUM(N54:O54) -> 173.71741 | Q54: =IF(B54="W",N54*Dane!$C$23,N54*Dane!$C$23) -> 0 | R54: =IF(B54="W",(N54*Dane!$D$3)-Q54,(N54*Dane!$H$3)-Q54) -> 0 | S54: =SUM(P54:R54) -> 173.71741 | T54: =S54*0.1 -> 17.371741 | U54: =S54*0.2 -> 34.743482 | V54: =SUM(S54:T54) -> 191.08915 | W54: =SUM(S54,U54) -> 208.46089 | X54: 1159 | Y54: =X54*Dane!$D$6 -> 173.85 | Z54: =X54*Dane!$D$7 -> 347.7 | AA54: =X54*Dane!$D$8 -> 695.4
A55: =A54+1 -> 52 | B55: W | C55: Filtr EMC/EMI 42V AC typ EH-P10/01 | D55: EH-2061-1-000002-01 | F55: 0 | G55: 2 | H55: 0.5 | I55: 99.76428 | J55: 0 | K55: =F55*Dane!$C$14+G55*Dane!$C$15+H55*Dane!$C$16 -> 85 | L55: =F55*Dane!$F$14+G55*Dane!$F$15+H55*Dane!$F$17 -> 12.5 | M55: =F55*Dane!$H$14+G55*Dane!$H$15+H55*Dane!$H$16+(F55+G55+H55)*Dane!$C$22 -> 180 | N55: =SUM(I55:M55) -> 377.26428 | O55: =IF(B55="W",N55*Dane!$D$2,N55*Dane!$H$2) -> 75.452856 | P55: =SUM(N55:O55) -> 452.71714 | Q55: =IF(B55="W",N55*Dane!$C$23,N55*Dane!$C$23) -> 0 | R55: =IF(B55="W",(N55*Dane!$D$3)-Q55,(N55*Dane!$H$3)-Q55) -> 0 | S55: =SUM(P55:R55) -> 452.71714 | T55: =S55*0.1 -> 45.271714 | U55: =S55*0.2 -> 90.543427 | V55: =SUM(S55:T55) -> 497.98885 | W55: =SUM(S55,U55) -> 543.26056 | X55: 1590 | Y55: =X55*Dane!$D$6 -> 238.5 | Z55: =X55*Dane!$D$7 -> 477 | AA55: =X55*Dane!$D$8 -> 954
A56: =A55+1 -> 53 | B56: Z | C56: FILTR LAD | D56: 641-100-1003 | F56: 0 | G56: 0 | H56: 0 | I56: 13.034175 | J56: 0 | K56: =F56*Dane!$C$14+G56*Dane!$C$15+H56*Dane!$C$16 -> 0 | L56: =F56*Dane!$F$14+G56*Dane!$F$15+H56*Dane!$F$17 -> 0 | M56: =F56*Dane!$H$14+G56*Dane!$H$15+H56*Dane!$H$16+(F56+G56+H56)*Dane!$C$22 -> 0 | N56: =SUM(I56:M56) -> 13.034175 | O56: =IF(B56="W",N56*Dane!$D$2,N56*Dane!$H$2) -> 2.606835 | P56: =SUM(N56:O56) -> 15.64101 | Q56: =IF(B56="W",N56*Dane!$C$23,N56*Dane!$C$23) -> 0 | R56: =IF(B56="W",(N56*Dane!$D$3)-Q56,(N56*Dane!$H$3)-Q56) -> 0 | S56: =SUM(P56:R56) -> 15.64101 | T56: =S56*0.1 -> 1.564101 | U56: =S56*0.2 -> 3.128202 | V56: =SUM(S56:T56) -> 17.205111 | W56: =SUM(S56,U56) -> 18.769212 | X56: 194
A57: =A56+1 -> 54 | B57: W | C57: Filtr pasywny typu EH-O/16/01.01 | D57: EH-1999-1-000018-01 | F57: 30 | G57: 0.7 | H57: 8.1 | I57: 24414.288 | J57: 0 | K57: =F57*Dane!$C$14+G57*Dane!$C$15+H57*Dane!$C$16 -> 1320.9 | L57: =F57*Dane!$F$14+G57*Dane!$F$15+H57*Dane!$F$17 -> 494 | M57: =F57*Dane!$H$14+G57*Dane!$H$15+H57*Dane!$H$16+(F57+G57+H57)*Dane!$C$22 -> 2793.6 | N57: =SUM(I57:M57) -> 29022.788 | O57: =IF(B57="W",N57*Dane!$D$2,N57*Dane!$H$2) -> 5804.5576 | P57: =SUM(N57:O57) -> 34827.346 | Q57: =IF(B57="W",N57*Dane!$C$23,N57*Dane!$C$23) -> 0 | R57: =IF(B57="W",(N57*Dane!$D$3)-Q57,(N57*Dane!$H$3)-Q57) -> 0 | S57: =SUM(P57:R57) -> 34827.346 | T57: =S57*0.1 -> 3482.7346 | U57: =S57*0.2 -> 6965.4691 | V57: =SUM(S57:T57) -> 38310.08 | W57: =SUM(S57,U57) -> 41792.815 | X57: 44812.879
A58: =A57+1 -> 55 | B58: W | C58: Filtr przeciw zakłóceniowy FRC 1 | D58: EH-2061-1-000001-01 EH-2061-1-000008-01 | F58: 0.3 | G58: 0 | H58: 0.03 | I58: 2.23443 | J58: 0 | K58: =F58*Dane!$C$14+G58*Dane!$C$15+H58*Dane!$C$16 -> 11.04 | L58: =F58*Dane!$F$14+G58*Dane!$F$15+H58*Dane!$F$17 -> 4.65 | M58: =F58*Dane!$H$14+G58*Dane!$H$15+H58*Dane!$H$16+(F58+G58+H58)*Dane!$C$22 -> 23.76 | N58: =SUM(I58:M58) -> 41.68443 | O58: =IF(B58="W",N58*Dane!$D$2,N58*Dane!$H$2) -> 8.336886 | P58: =SUM(N58:O58) -> 50.021316 | Q58: =IF(B58="W",N58*Dane!$C$23,N58*Dane!$C$23) -> 0 | R58: =IF(B58="W",(N58*Dane!$D$3)-Q58,(N58*Dane!$H$3)-Q58) -> 0 | S58: =SUM(P58:R58) -> 50.021316 | T58: =S58*0.1 -> 5.0021316 | U58: =S58*0.2 -> 10.004263 | V58: =SUM(S58:T58) -> 55.023448 | W58: =SUM(S58,U58) -> 60.025579 | X58: 711.55 | Y58: =X58*Dane!$D$6 -> 106.7325 | Z58: =X58*Dane!$D$7 -> 213.465 | AA58: =X58*Dane!$D$8 -> 426.93
A59: =A58+1 -> 56 | B59: Z | C59: Filtr przeciw zakłoceniowy RC-DIL/… | D59: 641-100-0003; 641-100-0004; 641-100-0005 | F59: 0 | G59: 0 | H59: 0 | I59: 26.14887 | J59: 0 | K59: =F59*Dane!$C$14+G59*Dane!$C$15+H59*Dane!$C$16 -> 0 | L59: =F59*Dane!$F$14+G59*Dane!$F$15+H59*Dane!$F$17 -> 0 | M59: =F59*Dane!$H$14+G59*Dane!$H$15+H59*Dane!$H$16+(F59+G59+H59)*Dane!$C$22 -> 0 | N59: =SUM(I59:M59) -> 26.14887 | O59: =IF(B59="W",N59*Dane!$D$2,N59*Dane!$H$2) -> 5.229774 | P59: =SUM(N59:O59) -> 31.378644 | Q59: =IF(B59="W",N59*Dane!$C$23,N59*Dane!$C$23) -> 0 | R59: =IF(B59="W",(N59*Dane!$D$3)-Q59,(N59*Dane!$H$3)-Q59) -> 0 | S59: =SUM(P59:R59) -> 31.378644 | T59: =S59*0.1 -> 3.1378644 | U59: =S59*0.2 -> 6.2757288 | V59: =SUM(S59:T59) -> 34.516508 | W59: =SUM(S59,U59) -> 37.654373 | X59: 46
A60: =A59+1 -> 57 | B60: Z | C60: Gniazdo EA-2 / ZLS | D60: 729-318-0410 | F60: 0 | G60: 0 | H60: 0 | I60: 60.119252 | J60: 0 | K60: =F60*Dane!$C$14+G60*Dane!$C$15+H60*Dane!$C$16 -> 0 | L60: =F60*Dane!$F$14+G60*Dane!$F$15+H60*Dane!$F$17 -> 0 | M60: =F60*Dane!$H$14+G60*Dane!$H$15+H60*Dane!$H$16+(F60+G60+H60)*Dane!$C$22 -> 0 | N60: =SUM(I60:M60) -> 60.119252 | O60: =IF(B60="W",N60*Dane!$D$2,N60*Dane!$H$2) -> 12.02385 | P60: =SUM(N60:O60) -> 72.143102 | Q60: =IF(B60="W",N60*Dane!$C$23,N60*Dane!$C$23) -> 0 | R60: =IF(B60="W",(N60*Dane!$D$3)-Q60,(N60*Dane!$H$3)-Q60) -> 0 | S60: =SUM(P60:R60) -> 72.143102 | T60: =S60*0.1 -> 7.2143102 | U60: =S60*0.2 -> 14.42862 | V60: =SUM(S60:T60) -> 79.357412 | W60: =SUM(S60,U60) -> 86.571722 | X60: 109.76
A61: =A60+1 -> 58 | B61: Z | C61: Gniazdo GZM 4 | D61: 700-318-1000 | F61: 0 | G61: 0 | H61: 0 | I61: 8.55525 | J61: 0 | K61: =F61*Dane!$C$14+G61*Dane!$C$15+H61*Dane!$C$16 -> 0 | L61: =F61*Dane!$F$14+G61*Dane!$F$15+H61*Dane!$F$17 -> 0 | M61: =F61*Dane!$H$14+G61*Dane!$H$15+H61*Dane!$H$16+(F61+G61+H61)*Dane!$C$22 -> 0 | N61: =SUM(I61:M61) -> 8.55525 | O61: =IF(B61="W",N61*Dane!$D$2,N61*Dane!$H$2) -> 1.71105 | P61: =SUM(N61:O61) -> 10.2663 | Q61: =IF(B61="W",N61*Dane!$C$23,N61*Dane!$C$23) -> 0 | R61: =IF(B61="W",(N61*Dane!$D$3)-Q61,(N61*Dane!$H$3)-Q61) -> 0 | S61: =SUM(P61:R61) -> 10.2663 | T61: =S61*0.1 -> 1.02663 | U61: =S61*0.2 -> 2.05326 | V61: =SUM(S61:T61) -> 11.29293 | W61: =SUM(S61,U61) -> 12.31956 | X61: 13
A62: =A61+1 -> 59 | B62: Z | C62: Gniazdo LH-86/EH-PS 12pin | D62: 567-754-0210 | F62: 0 | G62: 0 | H62: 0 | I62: 13.217358 | J62: 0 | K62: =F62*Dane!$C$14+G62*Dane!$C$15+H62*Dane!$C$16 -> 0 | L62: =F62*Dane!$F$14+G62*Dane!$F$15+H62*Dane!$F$17 -> 0 | M62: =F62*Dane!$H$14+G62*Dane!$H$15+H62*Dane!$H$16+(F62+G62+H62)*Dane!$C$22 -> 0 | N62: =SUM(I62:M62) -> 13.217358 | O62: =IF(B62="W",N62*Dane!$D$2,N62*Dane!$H$2) -> 2.6434716 | P62: =SUM(N62:O62) -> 15.86083 | Q62: =IF(B62="W",N62*Dane!$C$23,N62*Dane!$C$23) -> 0 | R62: =IF(B62="W",(N62*Dane!$D$3)-Q62,(N62*Dane!$H$3)-Q62) -> 0 | S62: =SUM(P62:R62) -> 15.86083 | T62: =S62*0.1 -> 1.586083 | U62: =S62*0.2 -> 3.1721659 | V62: =SUM(S62:T62) -> 17.446913 | W62: =SUM(S62,U62) -> 19.032996 | X62: 71
A63: =A62+1 -> 60 | B63: Z | C63: Gniazdo EH-PUB/EH-ZUCB 16pin | D63: 681-930-2210 | F63: 0 | G63: 0 | H63: 0 | I63: 18.494438 | J63: 0 | K63: =F63*Dane!$C$14+G63*Dane!$C$15+H63*Dane!$C$16 -> 0 | L63: =F63*Dane!$F$14+G63*Dane!$F$15+H63*Dane!$F$17 -> 0 | M63: =F63*Dane!$H$14+G63*Dane!$H$15+H63*Dane!$H$16+(F63+G63+H63)*Dane!$C$22 -> 0 | N63: =SUM(I63:M63) -> 18.494438 | O63: =IF(B63="W",N63*Dane!$D$2,N63*Dane!$H$2) -> 3.6988875 | P63: =SUM(N63:O63) -> 22.193325 | Q63: =IF(B63="W",N63*Dane!$C$23,N63*Dane!$C$23) -> 0 | R63: =IF(B63="W",(N63*Dane!$D$3)-Q63,(N63*Dane!$H$3)-Q63) -> 0 | S63: =SUM(P63:R63) -> 22.193325 | T63: =S63*0.1 -> 2.2193325 | U63: =S63*0.2 -> 4.438665 | V63: =SUM(S63:T63) -> 24.412658 | W63: =SUM(S63,U63) -> 26.63199 | X63: 74
A64: =A63+1 -> 61 | B64: Z | C64: Gniazdo PS 11-01 | D64: 700-318-2001 | F64: 0 | G64: 0 | H64: 0 | I64: 8.041935 | J64: 0 | K64: =F64*Dane!$C$14+G64*Dane!$C$15+H64*Dane!$C$16 -> 0 | L64: =F64*Dane!$F$14+G64*Dane!$F$15+H64*Dane!$F$17 -> 0 | M64: =F64*Dane!$H$14+G64*Dane!$H$15+H64*Dane!$H$16+(F64+G64+H64)*Dane!$C$22 -> 0 | N64: =SUM(I64:M64) -> 8.041935 | O64: =IF(B64="W",N64*Dane!$D$2,N64*Dane!$H$2) -> 1.608387 | P64: =SUM(N64:O64) -> 9.650322 | Q64: =IF(B64="W",N64*Dane!$C$23,N64*Dane!$C$23) -> 0 | R64: =IF(B64="W",(N64*Dane!$D$3)-Q64,(N64*Dane!$H$3)-Q64) -> 0 | S64: =SUM(P64:R64) -> 9.650322 | T64: =S64*0.1 -> 0.9650322 | U64: =S64*0.2 -> 1.9300644 | V64: =SUM(S64:T64) -> 10.615354 | W64: =SUM(S64,U64) -> 11.580386 | X64: 12
A65: =A64+1 -> 62 | B65: Z | C65: Guma do wpustu EH-d04/01/VZ20 | D65: 780-060-1003 | F65: 0 | G65: 0 | H65: 0 | I65: 4.8312 | J65: 0 | K65: =F65*Dane!$C$14+G65*Dane!$C$15+H65*Dane!$C$16 -> 0 | L65: =F65*Dane!$F$14+G65*Dane!$F$15+H65*Dane!$F$17 -> 0 | M65: =F65*Dane!$H$14+G65*Dane!$H$15+H65*Dane!$H$16+(F65+G65+H65)*Dane!$C$22 -> 0 | N65: =SUM(I65:M65) -> 4.8312 | O65: =IF(B65="W",N65*Dane!$D$2,N65*Dane!$H$2) -> 0.96624 | P65: =SUM(N65:O65) -> 5.79744 | Q65: =IF(B65="W",N65*Dane!$C$23,N65*Dane!$C$23) -> 0 | R65: =IF(B65="W",(N65*Dane!$D$3)-Q65,(N65*Dane!$H$3)-Q65) -> 0 | S65: =SUM(P65:R65) -> 5.79744 | T65: =S65*0.1 -> 0.579744 | U65: =S65*0.2 -> 1.159488 | V65: =SUM(S65:T65) -> 6.377184 | W65: =SUM(S65,U65) -> 6.956928 | X65: 11.68
A66: =A65+1 -> 63 | B66: Z | C66: Guma do wpustu EH-d04/02/VP35 | D66: 780-060-1004 | F66: 0 | G66: 0 | H66: 0 | I66: 5.0325 | J66: 0 | K66: =F66*Dane!$C$14+G66*Dane!$C$15+H66*Dane!$C$16 -> 0 | L66: =F66*Dane!$F$14+G66*Dane!$F$15+H66*Dane!$F$17 -> 0 | M66: =F66*Dane!$H$14+G66*Dane!$H$15+H66*Dane!$H$16+(F66+G66+H66)*Dane!$C$22 -> 0 | N66: =SUM(I66:M66) -> 5.0325 | O66: =IF(B66="W",N66*Dane!$D$2,N66*Dane!$H$2) -> 1.0065 | P66: =SUM(N66:O66) -> 6.039 | Q66: =IF(B66="W",N66*Dane!$C$23,N66*Dane!$C$23) -> 0 | R66: =IF(B66="W",(N66*Dane!$D$3)-Q66,(N66*Dane!$H$3)-Q66) -> 0 | S66: =SUM(P66:R66) -> 6.039 | T66: =S66*0.1 -> 0.6039 | U66: =S66*0.2 -> 1.2078 | V66: =SUM(S66:T66) -> 6.6429 | W66: =SUM(S66,U66) -> 7.2468 | X66: 20
A67: =A66+1 -> 64 | B67: Z | C67: Guma do wpustu EH-d04/03/VP50 | D67: 780-060-1007 | F67: 0 | G67: 0 | H67: 0 | I67: 8.052 | J67: 0 | K67: =F67*Dane!$C$14+G67*Dane!$C$15+H67*Dane!$C$16 -> 0 | L67: =F67*Dane!$F$14+G67*Dane!$F$15+H67*Dane!$F$17 -> 0 | M67: =F67*Dane!$H$14+G67*Dane!$H$15+H67*Dane!$H$16+(F67+G67+H67)*Dane!$C$22 -> 0 | N67: =SUM(I67:M67) -> 8.052 | O67: =IF(B67="W",N67*Dane!$D$2,N67*Dane!$H$2) -> 1.6104 | P67: =SUM(N67:O67) -> 9.6624 | Q67: =IF(B67="W",N67*Dane!$C$23,N67*Dane!$C$23) -> 0 | R67: =IF(B67="W",(N67*Dane!$D$3)-Q67,(N67*Dane!$H$3)-Q67) -> 0 | S67: =SUM(P67:R67) -> 9.6624 | T67: =S67*0.1 -> 0.96624 | U67: =S67*0.2 -> 1.93248 | V67: =SUM(S67:T67) -> 10.62864 | W67: =SUM(S67,U67) -> 11.59488 | X67: 33
A68: =A67+1 -> 65 | B68: Z | C68: Guma do wpustu EH-d04/04/VP67 | D68: 780-060-1005 | F68: 0 | G68: 0 | H68: 0 | I68: 22.24365 | J68: 0 | K68: =F68*Dane!$C$14+G68*Dane!$C$15+H68*Dane!$C$16 -> 0 | L68: =F68*Dane!$F$14+G68*Dane!$F$15+H68*Dane!$F$17 -> 0 | M68: =F68*Dane!$H$14+G68*Dane!$H$15+H68*Dane!$H$16+(F68+G68+H68)*Dane!$C$22 -> 0 | N68: =SUM(I68:M68) -> 22.24365 | O68: =IF(B68="W",N68*Dane!$D$2,N68*Dane!$H$2) -> 4.44873 | P68: =SUM(N68:O68) -> 26.69238 | Q68: =IF(B68="W",N68*Dane!$C$23,N68*Dane!$C$23) -> 0 | R68: =IF(B68="W",(N68*Dane!$D$3)-Q68,(N68*Dane!$H$3)-Q68) -> 0 | S68: =SUM(P68:R68) -> 26.69238 | T68: =S68*0.1 -> 2.669238 | U68: =S68*0.2 -> 5.338476 | V68: =SUM(S68:T68) -> 29.361618 | W68: =SUM(S68,U68) -> 32.030856 | X68: 72
A69: =A68+1 -> 66 | B69: Z | C69: Interfejs czujników IPCZ-2S | D69: 568-299-0930 | F69: 0 | G69: 0 | H69: 0 | I69: 2219.3325 | J69: 0 | K69: =F69*Dane!$C$14+G69*Dane!$C$15+H69*Dane!$C$16 -> 0 | L69: =F69*Dane!$F$14+G69*Dane!$F$15+H69*Dane!$F$17 -> 0 | M69: =F69*Dane!$H$14+G69*Dane!$H$15+H69*Dane!$H$16+(F69+G69+H69)*Dane!$C$22 -> 0 | N69: =SUM(I69:M69) -> 2219.3325 | O69: =IF(B69="W",N69*Dane!$D$2,N69*Dane!$H$2) -> 443.8665 | P69: =SUM(N69:O69) -> 2663.199 | Q69: =IF(B69="W",N69*Dane!$C$23,N69*Dane!$C$23) -> 0 | R69: =IF(B69="W",(N69*Dane!$D$3)-Q69,(N69*Dane!$H$3)-Q69) -> 0 | S69: =SUM(P69:R69) -> 2663.199 | T69: =S69*0.1 -> 266.3199 | U69: =S69*0.2 -> 532.6398 | V69: =SUM(S69:T69) -> 2929.5189 | W69: =SUM(S69,U69) -> 3195.8388 | X69: 3168
A70: =A69+1 -> 67 | B70: W | C70: Iskrobezpieczny moduł baterii EH-P/10/09 | D70: EH-2151-3-000001-01 | F70: 0 | G70: 1 | H70: 0.09 | I70: 60.540975 | J70: 0 | K70: =F70*Dane!$C$14+G70*Dane!$C$15+H70*Dane!$C$16 -> 36.42 | L70: =F70*Dane!$F$14+G70*Dane!$F$15+H70*Dane!$F$17 -> 5.45 | M70: =F70*Dane!$H$14+G70*Dane!$H$15+H70*Dane!$H$16+(F70+G70+H70)*Dane!$C$22 -> 78.48 | N70: =SUM(I70:M70) -> 180.89097 | O70: =IF(B70="W",N70*Dane!$D$2,N70*Dane!$H$2) -> 36.178195 | P70: =SUM(N70:O70) -> 217.06917 | Q70: =IF(B70="W",N70*Dane!$C$23,N70*Dane!$C$23) -> 0 | R70: =IF(B70="W",(N70*Dane!$D$3)-Q70,(N70*Dane!$H$3)-Q70) -> 0 | S70: =SUM(P70:R70) -> 217.06917 | T70: =S70*0.1 -> 21.706917 | U70: =S70*0.2 -> 43.413834 | V70: =SUM(S70:T70) -> 238.77609 | W70: =SUM(S70,U70) -> 260.483 | X70: 432 | Y70: =X70*Dane!$D$6 -> 64.8 | Z70: =X70*Dane!$D$7 -> 129.6 | AA70: =X70*Dane!$D$8 -> 259.2
A71: =A70+1 -> 68 | B71: W | C71: Iskrobezpieczny moduł pośredniczący EH-P/11/10 | D71: EH-2063-1-000007-01 | F71: 0 | G71: 1 | H71: 0.5 | I71: 38.73012 | J71: 0 | K71: =F71*Dane!$C$14+G71*Dane!$C$15+H71*Dane!$C$16 -> 52 | L71: =F71*Dane!$F$14+G71*Dane!$F$15+H71*Dane!$F$17 -> 7.5 | M71: =F71*Dane!$H$14+G71*Dane!$H$15+H71*Dane!$H$16+(F71+G71+H71)*Dane!$C$22 -> 108 | N71: =SUM(I71:M71) -> 206.23012 | O71: =IF(B71="W",N71*Dane!$D$2,N71*Dane!$H$2) -> 41.246024 | P71: =SUM(N71:O71) -> 247.47614 | Q71: =IF(B71="W",N71*Dane!$C$23,N71*Dane!$C$23) -> 0 | R71: =IF(B71="W",(N71*Dane!$D$3)-Q71,(N71*Dane!$H$3)-Q71) -> 0 | S71: =SUM(P71:R71) -> 247.47614 | T71: =S71*0.1 -> 24.747614 | U71: =S71*0.2 -> 49.495229 | V71: =SUM(S71:T71) -> 272.22376 | W71: =SUM(S71,U71) -> 296.97137 | X71: 1092 | Y71: =X71*Dane!$D$6 -> 163.8 | Z71: =X71*Dane!$D$7 -> 327.6 | AA71: =X71*Dane!$D$8 -> 655.2
A72: =A71+1 -> 69 | B72: W | C72: Iskrobezpieczny moduł pośredniczący EH-P/11/12 | D72: EH-2099-1-000069-01 | F72: 0 | G72: 2 | H72: 1 | I72: 226.38198 | J72: 0 | K72: =F72*Dane!$C$14+G72*Dane!$C$15+H72*Dane!$C$16 -> 104 | L72: =F72*Dane!$F$14+G72*Dane!$F$15+H72*Dane!$F$17 -> 15 | M72: =F72*Dane!$H$14+G72*Dane!$H$15+H72*Dane!$H$16+(F72+G72+H72)*Dane!$C$22 -> 216 | N72: =SUM(I72:M72) -> 561.38198 | O72: =IF(B72="W",N72*Dane!$D$2,N72*Dane!$H$2) -> 112.2764 | P72: =SUM(N72:O72) -> 673.65838 | Q72: =IF(B72="W",N72*Dane!$C$23,N72*Dane!$C$23) -> 0 | R72: =IF(B72="W",(N72*Dane!$D$3)-Q72,(N72*Dane!$H$3)-Q72) -> 0 | S72: =SUM(P72:R72) -> 673.65838 | T72: =S72*0.1 -> 67.365838 | U72: =S72*0.2 -> 134.73168 | V72: =SUM(S72:T72) -> 741.02421 | W72: =SUM(S72,U72) -> 808.39005 | X72: 2448 | Y72: =X72*Dane!$D$6 -> 367.2 | Z72: =X72*Dane!$D$7 -> 734.4 | AA72: =X72*Dane!$D$8 -> 1468.8
A73: =A72+1 -> 70 | B73: W | C73: Iskrobezpieczny moduł wejść-wyjść dwustanowych EH-P/05/13 | D73: EH-2162-1-000003-01 | F73: 0 | G73: 3 | H73: 0.5 | I73: 116.82445 | J73: 0 | K73: =F73*Dane!$C$14+G73*Dane!$C$15+H73*Dane!$C$16 -> 118 | L73: =F73*Dane!$F$14+G73*Dane!$F$15+H73*Dane!$F$17 -> 17.5 | M73: =F73*Dane!$H$14+G73*Dane!$H$15+H73*Dane!$H$16+(F73+G73+H73)*Dane!$C$22 -> 252 | N73: =SUM(I73:M73) -> 504.32446 | O73: =IF(B73="W",N73*Dane!$D$2,N73*Dane!$H$2) -> 100.86489 | P73: =SUM(N73:O73) -> 605.18935 | Q73: =IF(B73="W",N73*Dane!$C$23,N73*Dane!$C$23) -> 0 | R73: =IF(B73="W",(N73*Dane!$D$3)-Q73,(N73*Dane!$H$3)-Q73) -> 0 | S73: =SUM(P73:R73) -> 605.18935 | T73: =S73*0.1 -> 60.518935 | U73: =S73*0.2 -> 121.03787 | V73: =SUM(S73:T73) -> 665.70828 | W73: =SUM(S73,U73) -> 726.22722 | X73: Nie oferowane | Y73: 267.2115 | Z73: 534.423 | AA73: 1068.846
A74: =A73+1 -> 71 | B74: W | C74: Iskrobezpieczny moduł wejść-wyjść dwustanowych typu EH-P/05/13.01 | D74: EH-2162-1-000008-01 | F74: 0 | G74: 3 | H74: 0.5 | I74: 147.34153 | J74: 0 | K74: =F74*Dane!$C$14+G74*Dane!$C$15+H74*Dane!$C$16 -> 118 | L74: =F74*Dane!$F$14+G74*Dane!$F$15+H74*Dane!$F$17 -> 17.5 | M74: =F74*Dane!$H$14+G74*Dane!$H$15+H74*Dane!$H$16+(F74+G74+H74)*Dane!$C$22 -> 252 | N74: =SUM(I74:M74) -> 534.84154 | O74: =IF(B74="W",N74*Dane!$D$2,N74*Dane!$H$2) -> 106.96831 | P74: =SUM(N74:O74) -> 641.80984 | Q74: =IF(B74="W",N74*Dane!$C$23,N74*Dane!$C$23) -> 0 | R74: =IF(B74="W",(N74*Dane!$D$3)-Q74,(N74*Dane!$H$3)-Q74) -> 0 | S74: =SUM(P74:R74) -> 641.80984 | T74: =S74*0.1 -> 64.180984 | U74: =S74*0.2 -> 128.36197 | V74: =SUM(S74:T74) -> 705.99083 | W74: =SUM(S74,U74) -> 770.17181 | X74: 1781.41 | Y74: =X74*Dane!$D$6 -> 267.2115 | Z74: =X74*Dane!$D$7 -> 534.423 | AA74: =X74*Dane!$D$8 -> 1068.846
A75: =A74+1 -> 72 | B75: W | C75: Iskrobezpieczny moduł wejść analogowych typu EH-P/23/02.02 | D75: EH-2039-1-000033-01 | E75: 43178 | F75: 0 | G75: 1 | H75: 1 | I75: 463.75 | J75: 0 | K75: =F75*Dane!$C$14+G75*Dane!$C$15+H75*Dane!$C$16 -> 71 | L75: =F75*Dane!$F$14+G75*Dane!$F$15+H75*Dane!$F$17 -> 10 | M75: =F75*Dane!$H$14+G75*Dane!$H$15+H75*Dane!$H$16+(F75+G75+H75)*Dane!$C$22 -> 144 | N75: =SUM(I75:M75) -> 688.75 | O75: =IF(B75="W",N75*Dane!$D$2,N75*Dane!$H$2) -> 137.75 | P75: =SUM(N75:O75) -> 826.5 | Q75: =IF(B75="W",N75*Dane!$C$23,N75*Dane!$C$23) -> 0 | R75: =IF(B75="W",(N75*Dane!$D$3)-Q75,(N75*Dane!$H$3)-Q75) -> 0 | S75: =SUM(P75:R75) -> 826.5 | T75: =S75*0.1 -> 82.65 | U75: =S75*0.2 -> 165.3 | V75: =SUM(S75:T75) -> 909.15 | W75: =SUM(S75,U75) -> 991.8 | X75: 6940 | Y75: =X75*Dane!$D$6 -> 1041 | Z75: =X75*Dane!$D$7 -> 2082 | AA75: =X75*Dane!$D$8 -> 4164
A76: =A75+1 -> 73 | B76: W | C76: Iskrobezpieczny moduł wyjść proporcjonalnych typu EH-P/23/03.02 | D76: EH-2162-1-000004-01 | E76: 43116 | F76: 0 | G76: 8.4 | H76: 1 | I76: 798.73 | J76: 0 | K76: =F76*Dane!$C$14+G76*Dane!$C$15+H76*Dane!$C$16 -> 315.2 | L76: =F76*Dane!$F$14+G76*Dane!$F$15+H76*Dane!$F$17 -> 47 | M76: =F76*Dane!$H$14+G76*Dane!$H$15+H76*Dane!$H$16+(F76+G76+H76)*Dane!$C$22 -> 676.8 | N76: =SUM(I76:M76) -> 1837.73 | O76: =IF(B76="W",N76*Dane!$D$2,N76*Dane!$H$2) -> 367.546 | P76: =SUM(N76:O76) -> 2205.276 | Q76: =IF(B76="W",N76*Dane!$C$23,N76*Dane!$C$23) -> 0 | R76: =IF(B76="W",(N76*Dane!$D$3)-Q76,(N76*Dane!$H$3)-Q76) -> 0 | S76: =SUM(P76:R76) -> 2205.276 | T76: =S76*0.1 -> 220.5276 | U76: =S76*0.2 -> 441.0552 | V76: =SUM(S76:T76) -> 2425.8036 | W76: =SUM(S76,U76) -> 2646.3312 | X76: 6754 | Y76: =X76*Dane!$D$6 -> 1013.1 | Z76: =X76*Dane!$D$7 -> 2026.2 | AA76: =X76*Dane!$D$8 -> 4052.4
A77: =A76+1 -> 74 | B77: W | C77: Iskrobezpieczny moduł wyjść półprzewodnikowych typu EH-P/23/03.04 | D77: EH-2162-1-000006-01 | E77: 43116 | F77: 0 | G77: 2.65 | H77: 0.2 | I77: 334 | J77: 0 | K77: =F77*Dane!$C$14+G77*Dane!$C$15+H77*Dane!$C$16 -> 95.05 | L77: =F77*Dane!$F$14+G77*Dane!$F$15+H77*Dane!$F$17 -> 14.25 | M77: =F77*Dane!$H$14+G77*Dane!$H$15+H77*Dane!$H$16+(F77+G77+H77)*Dane!$C$22 -> 205.2 | N77: =SUM(I77:M77) -> 648.5 | O77: =IF(B77="W",N77*Dane!$D$2,N77*Dane!$H$2) -> 129.7 | P77: =SUM(N77:O77) -> 778.2 | Q77: =IF(B77="W",N77*Dane!$C$23,N77*Dane!$C$23) -> 0 | R77: =IF(B77="W",(N77*Dane!$D$3)-Q77,(N77*Dane!$H$3)-Q77) -> 0 | S77: =SUM(P77:R77) -> 778.2 | T77: =S77*0.1 -> 77.82 | U77: =S77*0.2 -> 155.64 | V77: =SUM(S77:T77) -> 856.02 | W77: =SUM(S77,U77) -> 933.84 | X77: 3628 | Y77: =X77*Dane!$D$6 -> 544.2 | Z77: =X77*Dane!$D$7 -> 1088.4 | AA77: =X77*Dane!$D$8 -> 2176.8
A78: =A77+1 -> 75 | B78: Z | C78: Izolator prądowy przepustowy D12-M42 (C40) (1250V 250A),zacisk przyłączeniowy P12-1A (Ag) | D78: 687-471-0020 | F78: 0 | G78: 0 | H78: 0 | I78: 322.08 | J78: 0 | K78: =F78*Dane!$C$14+G78*Dane!$C$15+H78*Dane!$C$16 -> 0 | L78: =F78*Dane!$F$14+G78*Dane!$F$15+H78*Dane!$F$17 -> 0 | M78: =F78*Dane!$H$14+G78*Dane!$H$15+H78*Dane!$H$16+(F78+G78+H78)*Dane!$C$22 -> 0 | N78: =SUM(I78:M78) -> 322.08 | O78: =IF(B78="W",N78*Dane!$D$2,N78*Dane!$H$2) -> 64.416 | P78: =SUM(N78:O78) -> 386.496 | Q78: =IF(B78="W",N78*Dane!$C$23,N78*Dane!$C$23) -> 0 | R78: =IF(B78="W",(N78*Dane!$D$3)-Q78,(N78*Dane!$H$3)-Q78) -> 0 | S78: =SUM(P78:R78) -> 386.496 | T78: =S78*0.1 -> 38.6496 | U78: =S78*0.2 -> 77.2992 | V78: =SUM(S78:T78) -> 425.1456 | W78: =SUM(S78,U78) -> 463.7952 | X78: 417.99542
A79: =A78+1 -> 76 | B79: Z | C79: Izolator prądowy przepustowy D12-M42 (C40) (1250V 250A),zacisk przyłączeniowy P12-1.1A (Ag) | D79: 687-471-0030 | F79: 0 | G79: 0 | H79: 0 | I79: 327.1125 | J79: 0 | K79: =F79*Dane!$C$14+G79*Dane!$C$15+H79*Dane!$C$16 -> 0 | L79: =F79*Dane!$F$14+G79*Dane!$F$15+H79*Dane!$F$17 -> 0 | M79: =F79*Dane!$H$14+G79*Dane!$H$15+H79*Dane!$H$16+(F79+G79+H79)*Dane!$C$22 -> 0 | N79: =SUM(I79:M79) -> 327.1125 | O79: =IF(B79="W",N79*Dane!$D$2,N79*Dane!$H$2) -> 65.4225 | P79: =SUM(N79:O79) -> 392.535 | Q79: =IF(B79="W",N79*Dane!$C$23,N79*Dane!$C$23) -> 0 | R79: =IF(B79="W",(N79*Dane!$D$3)-Q79,(N79*Dane!$H$3)-Q79) -> 0 | S79: =SUM(P79:R79) -> 392.535 | T79: =S79*0.1 -> 39.2535 | U79: =S79*0.2 -> 78.507 | V79: =SUM(S79:T79) -> 431.7885 | W79: =SUM(S79,U79) -> 471.042 | X79: 424.5266
A80: =A79+1 -> 77 | B80: Z | C80: Izolator prądowy przepustowy D12-M42 (C40) (1250V 250A),zacisk przyłączeniowy P12-1.2A (Ag) | D80: 687-471-0040 | F80: 0 | G80: 0 | H80: 0 | I80: 332.145 | J80: 0 | K80: =F80*Dane!$C$14+G80*Dane!$C$15+H80*Dane!$C$16 -> 0 | L80: =F80*Dane!$F$14+G80*Dane!$F$15+H80*Dane!$F$17 -> 0 | M80: =F80*Dane!$H$14+G80*Dane!$H$15+H80*Dane!$H$16+(F80+G80+H80)*Dane!$C$22 -> 0 | N80: =SUM(I80:M80) -> 332.145 | O80: =IF(B80="W",N80*Dane!$D$2,N80*Dane!$H$2) -> 66.429 | P80: =SUM(N80:O80) -> 398.574 | Q80: =IF(B80="W",N80*Dane!$C$23,N80*Dane!$C$23) -> 0 | R80: =IF(B80="W",(N80*Dane!$D$3)-Q80,(N80*Dane!$H$3)-Q80) -> 0 | S80: =SUM(P80:R80) -> 398.574 | T80: =S80*0.1 -> 39.8574 | U80: =S80*0.2 -> 79.7148 | V80: =SUM(S80:T80) -> 438.4314 | W80: =SUM(S80,U80) -> 478.2888 | X80: 431.05778
A81: =A80+1 -> 78 | B81: Z | C81: Izolator prądowy przepustowy D16-M42 (C40) (1250V 400A),zacisk przyłączeniowy P16-1A (Ag) | D81: 687-471-0050 | F81: 0 | G81: 0 | H81: 0 | I81: 352.275 | J81: 0 | K81: =F81*Dane!$C$14+G81*Dane!$C$15+H81*Dane!$C$16 -> 0 | L81: =F81*Dane!$F$14+G81*Dane!$F$15+H81*Dane!$F$17 -> 0 | M81: =F81*Dane!$H$14+G81*Dane!$H$15+H81*Dane!$H$16+(F81+G81+H81)*Dane!$C$22 -> 0 | N81: =SUM(I81:M81) -> 352.275 | O81: =IF(B81="W",N81*Dane!$D$2,N81*Dane!$H$2) -> 70.455 | P81: =SUM(N81:O81) -> 422.73 | Q81: =IF(B81="W",N81*Dane!$C$23,N81*Dane!$C$23) -> 0 | R81: =IF(B81="W",(N81*Dane!$D$3)-Q81,(N81*Dane!$H$3)-Q81) -> 0 | S81: =SUM(P81:R81) -> 422.73 | T81: =S81*0.1 -> 42.273 | U81: =S81*0.2 -> 84.546 | V81: =SUM(S81:T81) -> 465.003 | W81: =SUM(S81,U81) -> 507.276 | X81: 457.18249
A82: =A81+1 -> 79 | B82: Z | C82: Izolator prądowy przepustowy D16-M42 (C40) (1250V 400A),zacisk przyłączeniowy P16-1.1A (Ag) | D82: 687-471-0060 | F82: 0 | G82: 0 | H82: 0 | I82: 362.34 | J82: 0 | K82: =F82*Dane!$C$14+G82*Dane!$C$15+H82*Dane!$C$16 -> 0 | L82: =F82*Dane!$F$14+G82*Dane!$F$15+H82*Dane!$F$17 -> 0 | M82: =F82*Dane!$H$14+G82*Dane!$H$15+H82*Dane!$H$16+(F82+G82+H82)*Dane!$C$22 -> 0 | N82: =SUM(I82:M82) -> 362.34 | O82: =IF(B82="W",N82*Dane!$D$2,N82*Dane!$H$2) -> 72.468 | P82: =SUM(N82:O82) -> 434.808 | Q82: =IF(B82="W",N82*Dane!$C$23,N82*Dane!$C$23) -> 0 | R82: =IF(B82="W",(N82*Dane!$D$3)-Q82,(N82*Dane!$H$3)-Q82) -> 0 | S82: =SUM(P82:R82) -> 434.808 | T82: =S82*0.1 -> 43.4808 | U82: =S82*0.2 -> 86.9616 | V82: =SUM(S82:T82) -> 478.2888 | W82: =SUM(S82,U82) -> 521.7696 | X82: 470.24485
A83: =A82+1 -> 80 | B83: Z | C83: Izolator prądowy przepustowy D16-M42 (C40) (1250V 400A),zacisk przyłączeniowy P16-1.2A (Ag) | D83: 687-471-0070 | F83: 0 | G83: 0 | H83: 0 | I83: 372.405 | J83: 0 | K83: =F83*Dane!$C$14+G83*Dane!$C$15+H83*Dane!$C$16 -> 0 | L83: =F83*Dane!$F$14+G83*Dane!$F$15+H83*Dane!$F$17 -> 0 | M83: =F83*Dane!$H$14+G83*Dane!$H$15+H83*Dane!$H$16+(F83+G83+H83)*Dane!$C$22 -> 0 | N83: =SUM(I83:M83) -> 372.405 | O83: =IF(B83="W",N83*Dane!$D$2,N83*Dane!$H$2) -> 74.481 | P83: =SUM(N83:O83) -> 446.886 | Q83: =IF(B83="W",N83*Dane!$C$23,N83*Dane!$C$23) -> 0 | R83: =IF(B83="W",(N83*Dane!$D$3)-Q83,(N83*Dane!$H$3)-Q83) -> 0 | S83: =SUM(P83:R83) -> 446.886 | T83: =S83*0.1 -> 44.6886 | U83: =S83*0.2 -> 89.3772 | V83: =SUM(S83:T83) -> 491.5746 | W83: =SUM(S83,U83) -> 536.2632 | X83: 483.30721
A84: =A83+1 -> 81 | B84: Z | C84: Izolator prądowy przepustowy D18-M42 (C40) (1250V 500A),zacisk przyłączeniowy P18-1A (Ag) | D84: 687-471-0080 | F84: 0 | G84: 0 | H84: 0 | I84: 377.4375 | J84: 0 | K84: =F84*Dane!$C$14+G84*Dane!$C$15+H84*Dane!$C$16 -> 0 | L84: =F84*Dane!$F$14+G84*Dane!$F$15+H84*Dane!$F$17 -> 0 | M84: =F84*Dane!$H$14+G84*Dane!$H$15+H84*Dane!$H$16+(F84+G84+H84)*Dane!$C$22 -> 0 | N84: =SUM(I84:M84) -> 377.4375 | O84: =IF(B84="W",N84*Dane!$D$2,N84*Dane!$H$2) -> 75.4875 | P84: =SUM(N84:O84) -> 452.925 | Q84: =IF(B84="W",N84*Dane!$C$23,N84*Dane!$C$23) -> 0 | R84: =IF(B84="W",(N84*Dane!$D$3)-Q84,(N84*Dane!$H$3)-Q84) -> 0 | S84: =SUM(P84:R84) -> 452.925 | T84: =S84*0.1 -> 45.2925 | U84: =S84*0.2 -> 90.585 | V84: =SUM(S84:T84) -> 498.2175 | W84: =SUM(S84,U84) -> 543.51 | X84: 489.83839
A85: =A84+1 -> 82 | B85: Z | C85: Izolator prądowy przepustowy E12-M42 (C40) (2000V 315A),zacisk przyłączeniowy P18-1A (Ag) | D85: 687-471-0110 | F85: 0 | G85: 0 | H85: 0 | I85: 362.34 | J85: 0 | K85: =F85*Dane!$C$14+G85*Dane!$C$15+H85*Dane!$C$16 -> 0 | L85: =F85*Dane!$F$14+G85*Dane!$F$15+H85*Dane!$F$17 -> 0 | M85: =F85*Dane!$H$14+G85*Dane!$H$15+H85*Dane!$H$16+(F85+G85+H85)*Dane!$C$22 -> 0 | N85: =SUM(I85:M85) -> 362.34 | O85: =IF(B85="W",N85*Dane!$D$2,N85*Dane!$H$2) -> 72.468 | P85: =SUM(N85:O85) -> 434.808 | Q85: =IF(B85="W",N85*Dane!$C$23,N85*Dane!$C$23) -> 0 | R85: =IF(B85="W",(N85*Dane!$D$3)-Q85,(N85*Dane!$H$3)-Q85) -> 0 | S85: =SUM(P85:R85) -> 434.808 | T85: =S85*0.1 -> 43.4808 | U85: =S85*0.2 -> 86.9616 | V85: =SUM(S85:T85) -> 478.2888 | W85: =SUM(S85,U85) -> 521.7696 | X85: 470.24485
A86: =A85+1 -> 83 | B86: Z | C86: Izolator prądowy przepustowy E12-M42 (C40) (2000V 315A),zacisk przyłączeniowy P18-1.1A (Ag) | D86: 687-471-0120 | F86: 0 | G86: 0 | H86: 0 | I86: 372.405 | J86: 0 | K86: =F86*Dane!$C$14+G86*Dane!$C$15+H86*Dane!$C$16 -> 0 | L86: =F86*Dane!$F$14+G86*Dane!$F$15+H86*Dane!$F$17 -> 0 | M86: =F86*Dane!$H$14+G86*Dane!$H$15+H86*Dane!$H$16+(F86+G86+H86)*Dane!$C$22 -> 0 | N86: =SUM(I86:M86) -> 372.405 | O86: =IF(B86="W",N86*Dane!$D$2,N86*Dane!$H$2) -> 74.481 | P86: =SUM(N86:O86) -> 446.886 | Q86: =IF(B86="W",N86*Dane!$C$23,N86*Dane!$C$23) -> 0 | R86: =IF(B86="W",(N86*Dane!$D$3)-Q86,(N86*Dane!$H$3)-Q86) -> 0 | S86: =SUM(P86:R86) -> 446.886 | T86: =S86*0.1 -> 44.6886 | U86: =S86*0.2 -> 89.3772 | V86: =SUM(S86:T86) -> 491.5746 | W86: =SUM(S86,U86) -> 536.2632 | X86: 483.30721
A87: =A86+1 -> 84 | B87: Z | C87: Izolator prądowy przepustowy E16-M42 (C40) (2000V 450A),zacisk przyłączeniowy P18-1A (Ag) | D87: 687-471-0140 | F87: 0 | G87: 0 | H87: 0 | I87: 397.5675 | J87: 0 | K87: =F87*Dane!$C$14+G87*Dane!$C$15+H87*Dane!$C$16 -> 0 | L87: =F87*Dane!$F$14+G87*Dane!$F$15+H87*Dane!$F$17 -> 0 | M87: =F87*Dane!$H$14+G87*Dane!$H$15+H87*Dane!$H$16+(F87+G87+H87)*Dane!$C$22 -> 0 | N87: =SUM(I87:M87) -> 397.5675 | O87: =IF(B87="W",N87*Dane!$D$2,N87*Dane!$H$2) -> 79.5135 | P87: =SUM(N87:O87) -> 477.081 | Q87: =IF(B87="W",N87*Dane!$C$23,N87*Dane!$C$23) -> 0 | R87: =IF(B87="W",(N87*Dane!$D$3)-Q87,(N87*Dane!$H$3)-Q87) -> 0 | S87: =SUM(P87:R87) -> 477.081 | T87: =S87*0.1 -> 47.7081 | U87: =S87*0.2 -> 95.4162 | V87: =SUM(S87:T87) -> 524.7891 | W87: =SUM(S87,U87) -> 572.4972 | X87: 515.9631
A88: =A87+1 -> 85 | B88: Z | C88: Izolator prądowy przepustowy E16-M42 (C40) (2000V 450A),zacisk przyłączeniowy P18-1.1A (Ag) | D88: 687-471-0150 | F88: 0 | G88: 0 | H88: 0 | I88: 407.6325 | J88: 0 | K88: =F88*Dane!$C$14+G88*Dane!$C$15+H88*Dane!$C$16 -> 0 | L88: =F88*Dane!$F$14+G88*Dane!$F$15+H88*Dane!$F$17 -> 0 | M88: =F88*Dane!$H$14+G88*Dane!$H$15+H88*Dane!$H$16+(F88+G88+H88)*Dane!$C$22 -> 0 | N88: =SUM(I88:M88) -> 407.6325 | O88: =IF(B88="W",N88*Dane!$D$2,N88*Dane!$H$2) -> 81.5265 | P88: =SUM(N88:O88) -> 489.159 | Q88: =IF(B88="W",N88*Dane!$C$23,N88*Dane!$C$23) -> 0 | R88: =IF(B88="W",(N88*Dane!$D$3)-Q88,(N88*Dane!$H$3)-Q88) -> 0 | S88: =SUM(P88:R88) -> 489.159 | T88: =S88*0.1 -> 48.9159 | U88: =S88*0.2 -> 97.8318 | V88: =SUM(S88:T88) -> 538.0749 | W88: =SUM(S88,U88) -> 586.9908 | X88: 529.02546
A89: =A88+1 -> 86 | B89: Z | C89: Izolator prądowy przepustowy E16-M42 (C40) (2000V 450A),zacisk przyłączeniowy P18-1.2A (Ag) | D89: 687-471-0160 | F89: 0 | G89: 0 | H89: 0 | I89: 412.665 | J89: 0 | K89: =F89*Dane!$C$14+G89*Dane!$C$15+H89*Dane!$C$16 -> 0 | L89: =F89*Dane!$F$14+G89*Dane!$F$15+H89*Dane!$F$17 -> 0 | M89: =F89*Dane!$H$14+G89*Dane!$H$15+H89*Dane!$H$16+(F89+G89+H89)*Dane!$C$22 -> 0 | N89: =SUM(I89:M89) -> 412.665 | O89: =IF(B89="W",N89*Dane!$D$2,N89*Dane!$H$2) -> 82.533 | P89: =SUM(N89:O89) -> 495.198 | Q89: =IF(B89="W",N89*Dane!$C$23,N89*Dane!$C$23) -> 0 | R89: =IF(B89="W",(N89*Dane!$D$3)-Q89,(N89*Dane!$H$3)-Q89) -> 0 | S89: =SUM(P89:R89) -> 495.198 | T89: =S89*0.1 -> 49.5198 | U89: =S89*0.2 -> 99.0396 | V89: =SUM(S89:T89) -> 544.7178 | W89: =SUM(S89,U89) -> 594.2376 | X89: 535.55664
... A105: =A104+1 -> 102 | B105: Z | C105: Izolator przepustowy PLD 8 160A/1100V | D105: 687-470-1250 | F105: 0 | G105: 0 | H105: 0 | I105: 154.33534 | J105: 0 | K105: =F105*Dane!$C$14+G105*Dane!$C$15+H105*Dane!$C$16 -> 0 | L105: =F105*Dane!$F$14+G105*Dane!$F$15+H105*Dane!$F$17 -> 0 | M105: =F105*Dane!$H$14+G105*Dane!$H$15+H105*Dane!$H$16+(F105+G105+H105)*Dane!$C$22 -> 0 | N105: =SUM(I105:M105) -> 154.33534 | O105: =IF(B105="W",N105*Dane!$D$2,N105*Dane!$H$2) -> 30.867068 | P105: =SUM(N105:O105) -> 185.20241 | Q105: =IF(B105="W",N105*Dane!$C$23,N105*Dane!$C$23) -> 0 | R105: =IF(B105="W",(N105*Dane!$D$3)-Q105,(N105*Dane!$H$3)-Q105) -> 0 | S105: =SUM(P105:R105) -> 185.20241 | T105: =S105*0.1 -> 18.520241 | U105: =S105*0.2 -> 37.040482 | V105: =SUM(S105:T105) -> 203.72265 | W105: =SUM(S105,U105) -> 222.24289 | X105: 602
A106: =A105+1 -> 103 | B106: W | C106: Izolator sterowniczy (przepust) EH-PP2/15EMCV/2ETH/1 | D106: EH-2023-1-000001-01 | F106: 0 | G106: 1.5 | H106: 0 | I106: 315.55788 | J106: 0 | K106: =F106*Dane!$C$14+G106*Dane!$C$15+H106*Dane!$C$16 -> 49.5 | L106: =F106*Dane!$F$14+G106*Dane!$F$15+H106*Dane!$F$17 -> 7.5 | M106: =F106*Dane!$H$14+G106*Dane!$H$15+H106*Dane!$H$16+(F106+G106+H106)*Dane!$C$22 -> 108 | N106: =SUM(I106:M106) -> 480.55788 | O106: =IF(B106="W",N106*Dane!$D$2,N106*Dane!$H$2) -> 96.111576 | P106: =SUM(N106:O106) -> 576.66946 | Q106: =IF(B106="W",N106*Dane!$C$23,N106*Dane!$C$23) -> 0 | R106: =IF(B106="W",(N106*Dane!$D$3)-Q106,(N106*Dane!$H$3)-Q106) -> 0 | S106: =SUM(P106:R106) -> 576.66946 | T106: =S106*0.1 -> 57.666946 | U106: =S106*0.2 -> 115.33389 | V106: =SUM(S106:T106) -> 634.3364 | W106: =SUM(S106,U106) -> 692.00335 | X106: 1696 | Y106: =$X$106*Dane!D6 -> 254.4 | Z106: =X106*Dane!$D$7 -> 508.8 | AA106: =X106*Dane!$D$8 -> 1017.6
A107: =A106+1 -> 104 | B107: Z | C107: Izolator sterowniczy (przepust) EH-PP1 | D107: 2023-EH-PP1% | F107: 0 | G107: 0 | H107: 0 | I107: 181.17 | J107: 0 | K107: =F107*Dane!$C$14+G107*Dane!$C$15+H107*Dane!$C$16 -> 0 | L107: =F107*Dane!$F$14+G107*Dane!$F$15+H107*Dane!$F$17 -> 0 | M107: =F107*Dane!$H$14+G107*Dane!$H$15+H107*Dane!$H$16+(F107+G107+H107)*Dane!$C$22 -> 0 | N107: =SUM(I107:M107) -> 181.17 | O107: =IF(B107="W",N107*Dane!$D$2,N107*Dane!$H$2) -> 36.234 | P107: =SUM(N107:O107) -> 217.404 | Q107: =IF(B107="W",N107*Dane!$C$23,N107*Dane!$C$23) -> 0 | R107: =IF(B107="W",(N107*Dane!$D$3)-Q107,(N107*Dane!$H$3)-Q107) -> 0 | S107: =SUM(P107:R107) -> 217.404 | T107: =S107*0.1 -> 21.7404 | U107: =S107*0.2 -> 43.4808 | V107: =SUM(S107:T107) -> 239.1444 | W107: =SUM(S107,U107) -> 260.8848 | X107: 822
A108: =A107+1 -> 105 | B108: W | C108: Izolator sterowniczy (przepust) EH-PP2 | D108: 2023-EH-PP2% | F108: 0 | G108: 2.05 | H108: 0.3 | I108: 237.74537 | J108: 0 | K108: =F108*Dane!$C$14+G108*Dane!$C$15+H108*Dane!$C$16 -> 79.05 | L108: =F108*Dane!$F$14+G108*Dane!$F$15+H108*Dane!$F$17 -> 11.75 | M108: =F108*Dane!$H$14+G108*Dane!$H$15+H108*Dane!$H$16+(F108+G108+H108)*Dane!$C$22 -> 169.2 | N108: =SUM(I108:M108) -> 497.74536 | O108: =IF(B108="W",N108*Dane!$D$2,N108*Dane!$H$2) -> 99.549073 | P108: =SUM(N108:O108) -> 597.29444 | Q108: =IF(B108="W",N108*Dane!$C$23,N108*Dane!$C$23) -> 0 | R108: =IF(B108="W",(N108*Dane!$D$3)-Q108,(N108*Dane!$H$3)-Q108) -> 0 | S108: =SUM(P108:R108) -> 597.29444 | T108: =S108*0.1 -> 59.729444 | U108: =S108*0.2 -> 119.45889 | V108: =SUM(S108:T108) -> 657.02388 | W108: =SUM(S108,U108) -> 716.75333 | X108: 943 | Y108: =X108*Dane!$D$6 -> 141.45 | Z108: =X108*Dane!$D$7 -> 282.9 | AA108: =X108*Dane!$D$8 -> 565.8
A109: =A108+1 -> 106 | B109: W | C109: Izolator sterowniczy (przepust) EH-PP3 | D109: 2023-EH-PP3% | F109: 0 | G109: 3.2 | H109: 0.1 | I109: 240.3522 | J109: 0 | K109: =F109*Dane!$C$14+G109*Dane!$C$15+H109*Dane!$C$16 -> 109.4 | L109: =F109*Dane!$F$14+G109*Dane!$F$15+H109*Dane!$F$17 -> 16.5 | M109: =F109*Dane!$H$14+G109*Dane!$H$15+H109*Dane!$H$16+(F109+G109+H109)*Dane!$C$22 -> 237.6 | N109: =SUM(I109:M109) -> 603.8522 | O109: =IF(B109="W",N109*Dane!$D$2,N109*Dane!$H$2) -> 120.77044 | P109: =SUM(N109:O109) -> 724.62264 | Q109: =IF(B109="W",N109*Dane!$C$23,N109*Dane!$C$23) -> 0 | R109: =IF(B109="W",(N109*Dane!$D$3)-Q109,(N109*Dane!$H$3)-Q109) -> 0 | S109: =SUM(P109:R109) -> 724.62264 | T109: =S109*0.1 -> 72.462264 | U109: =S109*0.2 -> 144.92453 | V109: =SUM(S109:T109) -> 797.0849 | W109: =SUM(S109,U109) -> 869.54717 | X109: 1034 | Y109: =X109*Dane!$D$6 -> 155.1 | Z109: =X109*Dane!$D$7 -> 310.2 | AA109: =X109*Dane!$D$8 -> 620.4
A110: =A109+1 -> 107 | B110: Z | C110: Izolator sterowniczy (przepust) 3x10 | D110: 688-762-0034 | F110: 0 | G110: 0 | H110: 0 | I110: 475.82489 | J110: 0 | K110: =F110*Dane!$C$14+G110*Dane!$C$15+H110*Dane!$C$16 -> 0 | L110: =F110*Dane!$F$14+G110*Dane!$F$15+H110*Dane!$F$17 -> 0 | M110: =F110*Dane!$H$14+G110*Dane!$H$15+H110*Dane!$H$16+(F110+G110+H110)*Dane!$C$22 -> 0 | N110: =SUM(I110:M110) -> 475.82489 | O110: =IF(B110="W",N110*Dane!$D$2,N110*Dane!$H$2) -> 95.164978 | P110: =SUM(N110:O110) -> 570.98987 | Q110: =IF(B110="W",N110*Dane!$C$23,N110*Dane!$C$23) -> 0 | R110: =IF(B110="W",(N110*Dane!$D$3)-Q110,(N110*Dane!$H$3)-Q110) -> 0 | S110: =SUM(P110:R110) -> 570.98987 | T110: =S110*0.1 -> 57.098987 | U110: =S110*0.2 -> 114.19797 | V110: =SUM(S110:T110) -> 628.08885 | W110: =SUM(S110,U110) -> 685.18784 | X110: 725 | Y110: =X110*Dane!$D$6 -> 108.75 | Z110: =X110*Dane!$D$7 -> 217.5 | AA110: =X110*Dane!$D$8 -> 435
A111: =A110+1 -> 108 | B111: Z | C111: Izolator sterowniczy (przepust) 3x16 | D111: 688-762-0035 | F111: 0 | G111: 0 | H111: 0 | I111: 608.44233 | J111: 0 | K111: =F111*Dane!$C$14+G111*Dane!$C$15+H111*Dane!$C$16 -> 0 | L111: =F111*Dane!$F$14+G111*Dane!$F$15+H111*Dane!$F$17 -> 0 | M111: =F111*Dane!$H$14+G111*Dane!$H$15+H111*Dane!$H$16+(F111+G111+H111)*Dane!$C$22 -> 0 | N111: =SUM(I111:M111) -> 608.44233 | O111: =IF(B111="W",N111*Dane!$D$2,N111*Dane!$H$2) -> 121.68847 | P111: =SUM(N111:O111) -> 730.1308 | Q111: =IF(B111="W",N111*Dane!$C$23,N111*Dane!$C$23) -> 0 | R111: =IF(B111="W",(N111*Dane!$D$3)-Q111,(N111*Dane!$H$3)-Q111) -> 0 | S111: =SUM(P111:R111) -> 730.1308 | T111: =S111*0.1 -> 73.01308 | U111: =S111*0.2 -> 146.02616 | V111: =SUM(S111:T111) -> 803.14388 | W111: =SUM(S111,U111) -> 876.15696 | X111: 928 | Y111: =X111*Dane!$D$6 -> 139.2 | Z111: =X111*Dane!$D$7 -> 278.4 | AA111: =X111*Dane!$D$8 -> 556.8
A112: =A111+1 -> 109 | B112: Z | C112: Izolator wsporczy | D112: 687-471-1302 | F112: 0 | G112: 0 | H112: 0 | I112: 58.377 | J112: 0 | K112: =F112*Dane!$C$14+G112*Dane!$C$15+H112*Dane!$C$16 -> 0 | L112: =F112*Dane!$F$14+G112*Dane!$F$15+H112*Dane!$F$17 -> 0 | M112: =F112*Dane!$H$14+G112*Dane!$H$15+H112*Dane!$H$16+(F112+G112+H112)*Dane!$C$22 -> 0 | N112: =SUM(I112:M112) -> 58.377 | O112: =IF(B112="W",N112*Dane!$D$2,N112*Dane!$H$2) -> 11.6754 | P112: =SUM(N112:O112) -> 70.0524 | Q112: =IF(B112="W",N112*Dane!$C$23,N112*Dane!$C$23) -> 0 | R112: =IF(B112="W",(N112*Dane!$D$3)-Q112,(N112*Dane!$H$3)-Q112) -> 0 | S112: =SUM(P112:R112) -> 70.0524 | T112: =S112*0.1 -> 7.00524 | U112: =S112*0.2 -> 14.01048 | V112: =SUM(S112:T112) -> 77.05764 | W112: =SUM(S112,U112) -> 84.06288 | X112: 97.13 | Y112: =X112*Dane!$D$6 -> 14.5695 | Z112: =X112*Dane!$D$7 -> 29.139 | AA112: =X112*Dane!$D$8 -> 58.278
A113: =A112+1 -> 110 | B113: W | C113: Kabel łączący SAE typu EH-d04... z pulpitem głównym | D113: EH-1249-1-000001-01 | F113: 1 | G113: 0 | H113: 0 | I113: 98.53635 | J113: 0 | K113: =F113*Dane!$C$14+G113*Dane!$C$15+H113*Dane!$C$16 -> 33 | L113: =F113*Dane!$F$14+G113*Dane!$F$15+H113*Dane!$F$17 -> 15 | M113: =F113*Dane!$H$14+G113*Dane!$H$15+H113*Dane!$H$16+(F113+G113+H113)*Dane!$C$22 -> 72 | N113: =SUM(I113:M113) -> 218.53635 | O113: =IF(B113="W",N113*Dane!$D$2,N113*Dane!$H$2) -> 43.70727 | P113: =SUM(N113:O113) -> 262.24362 | Q113: =IF(B113="W",N113*Dane!$C$23,N113*Dane!$C$23) -> 0 | R113: =IF(B113="W",(N113*Dane!$D$3)-Q113,(N113*Dane!$H$3)-Q113) -> 0 | S113: =SUM(P113:R113) -> 262.24362 | T113: =S113*0.1 -> 26.224362 | U113: =S113*0.2 -> 52.448724 | V113: =SUM(S113:T113) -> 288.46798 | W113: =SUM(S113,U113) -> 314.69234 | X113: 366.15827 | Y113: =X113*Dane!$D$6 -> 54.92374 | Z113: =X113*Dane!$D$7 -> 109.84748 | AA113: =X113*Dane!$D$8 -> 219.69496
A114: =A113+1 -> 111 | B114: W | C114: Kabel SAE typu EH-d04... łączący pulpit główny z pulpitem boczny | D114: EH-1249-1-000002-01 | F114: 1 | G114: 0 | H114: 0 | I114: 20.27091 | J114: 0 | K114: =F114*Dane!$C$14+G114*Dane!$C$15+H114*Dane!$C$16 -> 33 | L114: =F114*Dane!$F$14+G114*Dane!$F$15+H114*Dane!$F$17 -> 15 | M114: =F114*Dane!$H$14+G114*Dane!$H$15+H114*Dane!$H$16+(F114+G114+H114)*Dane!$C$22 -> 72 | N114: =SUM(I114:M114) -> 140.27091 | O114: =IF(B114="W",N114*Dane!$D$2,N114*Dane!$H$2) -> 28.054182 | P114: =SUM(N114:O114) -> 168.32509 | Q114: =IF(B114="W",N114*Dane!$C$23,N114*Dane!$C$23) -> 0 | R114: =IF(B114="W",(N114*Dane!$D$3)-Q114,(N114*Dane!$H$3)-Q114) -> 0 | S114: =SUM(P114:R114) -> 168.32509 | T114: =S114*0.1 -> 16.832509 | U114: =S114*0.2 -> 33.665018 | V114: =SUM(S114:T114) -> 185.1576 | W114: =SUM(S114,U114) -> 201.99011 | X114: 245.00337 | Y114: =X114*Dane!$D$6 -> 36.750505 | Z114: =X114*Dane!$D$7 -> 73.501011 | AA114: =X114*Dane!$D$8 -> 147.00202
A115: =A114+1 -> 112 | B115: W | C115: Kabel SAE typu EH-d04... łączący pulpit boczny z joystickiem | D115: EH-1249-1-000003-01 | F115: 2.5 | G115: 0 | H115: 0 | I115: 635.19209 | J115: 0 | K115: =F115*Dane!$C$14+G115*Dane!$C$15+H115*Dane!$C$16 -> 82.5 | L115: =F115*Dane!$F$14+G115*Dane!$F$15+H115*Dane!$F$17 -> 37.5 | M115: =F115*Dane!$H$14+G115*Dane!$H$15+H115*Dane!$H$16+(F115+G115+H115)*Dane!$C$22 -> 180 | N115: =SUM(I115:M115) -> 935.19209 | O115: =IF(B115="W",N115*Dane!$D$2,N115*Dane!$H$2) -> 187.03842 | P115: =SUM(N115:O115) -> 1122.2305 | Q115: =IF(B115="W",N115*Dane!$C$23,N115*Dane!$C$23) -> 0 | R115: =IF(B115="W",(N115*Dane!$D$3)-Q115,(N115*Dane!$H$3)-Q115) -> 0 | S115: =SUM(P115:R115) -> 1122.2305 | T115: =S115*0.1 -> 112.22305 | U115: =S115*0.2 -> 224.4461 | V115: =SUM(S115:T115) -> 1234.4536 | W115: =SUM(S115,U115) -> 1346.6766 | X115: 1517.3373 | Y115: =X115*Dane!$D$6 -> 227.6006 | Z115: =X115*Dane!$D$7 -> 455.2012 | AA115: =X115*Dane!$D$8 -> 910.40241
...

Sheet III_Automatyka
D1: III - AUTOMATYKA | AB1: Data aktualizacji: | AC1: =EH!Z1 -> 0
B2: Lp. | C2: Klasyf.: Wyrób / Zakup | D2: Nazwa / typ | E2: Typ | F2: Indeks | G2: Nr Rysunku | H2: Rbh wyrób + półwyroby | N2: Wycena 2018 | AC2: Cena oferowana 2018 | AD2: Usługi wycena 2018
H3: TPU | I3: TPE | J3: TKJ | N3: Wartość materiału | O3: Kooperacja | P3: Koszt robocizny bezpośredniej | Q3: Koszty wydziałowe zmienne | R3: Koszty wydziałowe stałe | S3: Techniczny koszt wytworzenia | T3: Koszty ogólno-zakładowe | U3: Całkowity koszt wytworzenia | V3: Koszty sprzedaży zmienne | W3: Koszty sprzedaży stałe | X3: Całkowity koszt własny sprzedaży | Y3: Marża 10% | Z3: Marża 20% | AA3: Cena sprzedaży z marżą 10% | AB3: Cena sprzedaży z marżą 20% | AD3: Sprawdzenie | AE3: Remont podstawowy | AF3: Remont kapitalny
B4: 1 | C4: W | D4: Zespół Lokalnego sterowania ZLS | E4: ZLS-2w z wtórnikiem | F4: 1361-R405684 | G4: R405684 R336345 | I4: 62.8 | J4: 0.81 | N4: 5969.1791 | O4: 0 | P4: =H4*Dane!$C$14+I4*Dane!$C$15+J4*Dane!$C$16 -> 2103.18 | Q4: =H4*Dane!$F$14+I4*Dane!$F$15++J4*Dane!$F$17 -> 318.05 | R4: =H4*Dane!$H$14+I4*Dane!$H$15+J4*Dane!$H$16+(H4+I4+J4)*Dane!$C$22 -> 4579.92 | S4: =SUM(N4:R4) -> 12970.329 | T4: =IF(C4="W",S4*Dane!$D$2,S4*Dane!$H$2) -> 2594.0658 | U4: =SUM(S4:T4) -> 15564.395 | V4: =IF(C4="W",S4*Dane!$C$23,S4*Dane!$C$23) -> 0 | W4: =IF(C4="W",(S4*Dane!$D$3)-V4,(S4*Dane!$H$3)-V4) -> 0 | X4: =SUM(U4:W4) -> 15564.395 | Y4: =X4*0.1 -> 1556.4395 | Z4: =X4*0.2 -> 3112.879 | AA4: =SUM(X4:Y4) -> 17120.834 | AB4: =SUM(X4,Z4) -> 18677.274 | AC4: 21658 | AD4: =AC4*Dane!$D$6 -> 3248.7 | AE4: =AC4*Dane!$D$7 -> 6497.4 | AF4: =AC4*Dane!$D$8 -> 12994.8
B5: =B4+1 -> 2 | C5: W | D5: Zespół Lokalnego sterowania ZLS | E5: ZLS-2i | F5: 1361-R405683 | G5: R405683 | I5: 50.55 | J5: 0.61 | N5: 5678.6327 | O5: 0 | P5: =(H5)*Dane!$C$14+(I5)*Dane!$C$15+(J5)*Dane!$C$16 -> 1691.33 | Q5: =H5*Dane!$F$14+I5*Dane!$F$15++J5*Dane!$F$17 -> 255.8 | R5: =H5*Dane!$H$14+I5*Dane!$H$15+J5*Dane!$H$16+(H5+I5+J5)*Dane!$C$22 -> 3683.52 | S5: =SUM(N5:R5) -> 11309.283 | T5: =IF(C5="W",S5*Dane!$D$2,S5*Dane!$H$2) -> 2261.8565 | U5: =SUM(S5:T5) -> 13571.139 | V5: =IF(C5="W",S5*Dane!$C$23,S5*Dane!$C$23) -> 0 | W5: =IF(C5="W",(S5*Dane!$D$3)-V5,(S5*Dane!$H$3)-V5) -> 0 | X5: =SUM(U5:W5) -> 13571.139 | Y5: =X5*0.1 -> 1357.1139 | Z5: =X5*0.2 -> 2714.2279 | AA5: =SUM(X5:Y5) -> 14928.253 | AB5: =SUM(X5,Z5) -> 16285.367 | AC5: 19843 | AD5: =AC5*Dane!$D$6 -> 2976.45 | AE5: =AC5*Dane!$D$7 -> 5952.9 | AF5: =AC5*Dane!$D$8 -> 11905.8
B6: =B5+1 -> 3 | C6: W | D6: Zespół Lokalnego sterowania ZLS | E6: ZLS-2 | F6: 1361-R405682 | G6: R405581 | I6: 49.85 | J6: 0.61 | N6: 5680.0217 | O6: 0 | P6: =(H6)*Dane!$C$14+(I6)*Dane!$C$15+(J6)*Dane!$C$16 -> 1668.23 | Q6: =H6*Dane!$F$14+I6*Dane!$F$15++J6*Dane!$F$17 -> 252.3 | R6: =H6*Dane!$H$14+I6*Dane!$H$15+J6*Dane!$H$16+(H6+I6+J6)*Dane!$C$22 -> 3633.12 | S6: =SUM(N6:R6) -> 11233.672 | T6: =IF(C6="W",S6*Dane!$D$2,S6*Dane!$H$2) -> 2246.7343 | U6: =SUM(S6:T6) -> 13480.406 | V6: =IF(C6="W",S6*Dane!$C$23,S6*Dane!$C$23) -> 0 | W6: =IF(C6="W",(S6*Dane!$D$3)-V6,(S6*Dane!$H$3)-V6) -> 0 | X6: =SUM(U6:W6) -> 13480.406 | Y6: =X6*0.1 -> 1348.0406 | Z6: =X6*0.2 -> 2696.0812 | AA6: =SUM(X6:Y6) -> 14828.447 | AB6: =SUM(X6,Z6) -> 16176.487 | AC6: 21182 | AD6: =AC6*Dane!$D$6 -> 3177.3 | AE6: =AC6*Dane!$D$7 -> 6354.6 | AF6: =AC6*Dane!$D$8 -> 12709.2
B7: =B6+1 -> 4 | C7: Z | D7: Zespół Lokalnego sterowania ZLS | E7: Zestaw powierzchniowy do monitoringu ZLS-2w | G7: R405684 R336345 | I7: 0 | J7: 0 | N7: 7730.55 | O7: 0 | P7: =(H7)*Dane!$C$14+(I7)*Dane!$C$15+(J7)*Dane!$C$16 -> 0 | Q7: =H7*Dane!$F$14+I7*Dane!$F$15++J7*Dane!$F$17 -> 0 | R7: =H7*Dane!$H$14+I7*Dane!$H$15+J7*Dane!$H$16+(H7+I7+J7)*Dane!$C$22 -> 0 | S7: =SUM(N7:R7) -> 7730.55 | T7: =IF(C7="W",S7*Dane!$D$2,S7*Dane!$H$2) -> 1546.11 | U7: =SUM(S7:T7) -> 9276.66 | V7: =IF(C7="W",S7*Dane!$C$23,S7*Dane!$C$23) -> 0 | W7: =IF(C7="W",(S7*Dane!$D$3)-V7,(S7*Dane!$H$3)-V7) -> 0 | X7: =SUM(U7:W7) -> 9276.66 | Y7: =X7*0.1 -> 927.666 | Z7: =X7*0.2 -> 1855.332 | AA7: =SUM(X7:Y7) -> 10204.326 | AB7: =SUM(X7,Z7) -> 11131.992 | AC7: 17360
B8: =B7+1 -> 5 | C8: W | D8: Moduł do USPP | E8: MW | F8: 1364-W430187 | G8: R225241 W430187 | I8: 9.7 | J8: 0.2 | N8: 474.05144 | O8: 0 | P8: =(H8)*Dane!$C$14+(I8)*Dane!$C$15+(J8)*Dane!$C$16 -> 327.7 | Q8: =H8*Dane!$F$14+I8*Dane!$F$15++J8*Dane!$F$17 -> 49.5 | R8: =H8*Dane!$H$14+I8*Dane!$H$15+J8*Dane!$H$16+(H8+I8+J8)*Dane!$C$22 -> 712.8 | S8: =SUM(N8:R8) -> 1564.0514 | T8: =IF(C8="W",S8*Dane!$D$2,S8*Dane!$H$2) -> 312.81029 | U8: =SUM(S8:T8) -> 1876.8617 | V8: =IF(C8="W",S8*Dane!$C$23,S8*Dane!$C$23) -> 0 | W8: =IF(C8="W",(S8*Dane!$D$3)-V8,(S8*Dane!$H$3)-V8) -> 0 | X8: =SUM(U8:W8) -> 1876.8617 | Y8: =X8*0.1 -> 187.68617 | Z8: =X8*0.2 -> 375.37234 | AA8: =SUM(X8:Y8) -> 2064.5479 | AB8: =SUM(X8,Z8) -> 2252.2341 | AC8: 2577.0577 | AD8: =AC8*Dane!$D$6 -> 386.55866 | AE8: =AC8*Dane!$D$7 -> 773.11731 | AF8: =AC8*Dane!$D$8 -> 1546.2346
B9: =B8+1 -> 6 | C9: W | D9: Moduł do USPP | E9: MS | F9: 1364-W430188 | G9: R405383 W430188 | I9: 10.2 | J9: 0.1 | N9: 714.11175 | O9: 0 | P9: =(H9)*Dane!$C$14+(I9)*Dane!$C$15+(J9)*Dane!$C$16 -> 340.4 | Q9: =H9*Dane!$F$14+I9*Dane!$F$15++J9*Dane!$F$17 -> 51.5 | R9: =H9*Dane!$H$14+I9*Dane!$H$15+J9*Dane!$H$16+(H9+I9+J9)*Dane!$C$22 -> 741.6 | S9: =SUM(N9:R9) -> 1847.6118 | T9: =IF(C9="W",S9*Dane!$D$2,S9*Dane!$H$2) -> 369.52235 | U9: =SUM(S9:T9) -> 2217.1341 | V9: =IF(C9="W",S9*Dane!$C$23,S9*Dane!$C$23) -> 0 | W9: =IF(C9="W",(S9*Dane!$D$3)-V9,(S9*Dane!$H$3)-V9) -> 0 | X9: =SUM(U9:W9) -> 2217.1341 | Y9: =X9*0.1 -> 221.71341 | Z9: =X9*0.2 -> 443.42682 | AA9: =SUM(X9:Y9) -> 2438.8475 | AB9: =SUM(X9,Z9) -> 2660.5609 | AC9: 3158 | AD9: =AC9*Dane!$D$6 -> 473.7 | AE9: =AC9*Dane!$D$7 -> 947.4 | AF9: =AC9*Dane!$D$8 -> 1894.8
B10: =B9+1 -> 7 | C10: W | D10: Moduł do USPP | E10: MG/S | F10: 1364-W430393 | I10: 10.25 | J10: 0.02 | N10: 490.67881 | O10: 0 | P10: =(H10)*Dane!$C$14+(I10)*Dane!$C$15+(J10)*Dane!$C$16 -> 339.01 | Q10: =H10*Dane!$F$14+I10*Dane!$F$15++J10*Dane!$F$17 -> 51.35 | R10: =H10*Dane!$H$14+I10*Dane!$H$15+J10*Dane!$H$16+(H10+I10+J10)*Dane!$C$22 -> 739.44 | S10: =SUM(N10:R10) -> 1620.4788 | T10: =IF(C10="W",S10*Dane!$D$2,S10*Dane!$H$2) -> 324.09576 | U10: =SUM(S10:T10) -> 1944.5746 | V10: =IF(C10="W",S10*Dane!$C$23,S10*Dane!$C$23) -> 0 | W10: =IF(C10="W",(S10*Dane!$D$3)-V10,(S10*Dane!$H$3)-V10) -> 0 | X10: =SUM(U10:W10) -> 1944.5746 | Y10: =X10*0.1 -> 194.45746 | Z10: =X10*0.2 -> 388.91492 | AA10: =SUM(X10:Y10) -> 2139.032 | AB10: =SUM(X10,Z10) -> 2333.4895 | AC10: 2696.6431 | AD10: =AC10*Dane!$D$6 -> 404.49646 | AE10: =AC10*Dane!$D$7 -> 808.99292 | AF10: =AC10*Dane!$D$8 -> 1617.9858
B11: =B10+1 -> 8 | C11: W | D11: Moduł do USPP | E11: MS-2 | F11: 1364-W430392 | I11: 11 | J11: 0.01 | N11: 468.71699 | O11: 0 | P11: =(H11)*Dane!$C$14+(I11)*Dane!$C$15+(J11)*Dane!$C$16 -> 363.38 | Q11: =H11*Dane!$F$14+I11*Dane!$F$15++J11*Dane!$F$17 -> 55.05 | R11: =H11*Dane!$H$14+I11*Dane!$H$15+J11*Dane!$H$16+(H11+I11+J11)*Dane!$C$22 -> 792.72 | S11: =SUM(N11:R11) -> 1679.867 | T11: =IF(C11="W",S11*Dane!$D$2,S11*Dane!$H$2) -> 335.9734 | U11: =SUM(S11:T11) -> 2015.8404 | V11: =IF(C11="W",S11*Dane!$C$23,S11*Dane!$C$23) -> 0 | W11: =IF(C11="W",(S11*Dane!$D$3)-V11,(S11*Dane!$H$3)-V11) -> 0 | X11: =SUM(U11:W11) -> 2015.8404 | Y11: =X11*0.1 -> 201.58404 | Z11: =X11*0.2 -> 403.16808 | AA11: =SUM(X11:Y11) -> 2217.4244 | AB11: =SUM(X11,Z11) -> 2419.0085 | AC11: 3515 | AD11: =AC11*Dane!$D$6 -> 527.25 | AE11: =AC11*Dane!$D$7 -> 1054.5 | AF11: =AC11*Dane!$D$8 -> 2109
B12: =B11+1 -> 9 | C12: W | D12: Moduł do USPP | E12: MW-2 | F12: 1364-W430394 | I12: 12.3 | J12: 0.02 | N12: 515.06631 | O12: 0 | P12: =(H12)*Dane!$C$14+(I12)*Dane!$C$15+(J12)*Dane!$C$16 -> 406.66 | Q12: =H12*Dane!$F$14+I12*Dane!$F$15++J12*Dane!$F$17 -> 61.6 | R12: =H12*Dane!$H$14+I12*Dane!$H$15+J12*Dane!$H$16+(H12+I12+J12)*Dane!$C$22 -> 887.04 | S12: =SUM(N12:R12) -> 1870.3663 | T12: =IF(C12="W",S12*Dane!$D$2,S12*Dane!$H$2) -> 374.07326 | U12: =SUM(S12:T12) -> 2244.4396 | V12: =IF(C12="W",S12*Dane!$C$23,S12*Dane!$C$23) -> 0 | W12: =IF(C12="W",(S12*Dane!$D$3)-V12,(S12*Dane!$H$3)-V12) -> 0 | X12: =SUM(U12:W12) -> 2244.4396 | Y12: =X12*0.1 -> 224.44396 | Z12: =X12*0.2 -> 448.88791 | AA12: =SUM(X12:Y12) -> 2468.8835 | AB12: =SUM(X12,Z12) -> 2693.3275 | AC12: 3564 | AD12: =AC12*Dane!$D$6 -> 534.6 | AE12: =AC12*Dane!$D$7 -> 1069.2 | AF12: =AC12*Dane!$D$8 -> 2138.4
B13: =B12+1 -> 10 | C13: W | D13: Moduł do USPP | E13: MG-d | G13: R405606 W430419 | I13: 6 | J13: 1 | N13: 504.21624 | O13: 0 | P13: =(H13)*Dane!$C$14+(I13)*Dane!$C$15+(J13)*Dane!$C$16 -> 236 | Q13: =H13*Dane!$F$14+I13*Dane!$F$15++J13*Dane!$F$17 -> 35 | R13: =H13*Dane!$H$14+I13*Dane!$H$15+J13*Dane!$H$16+(H13+I13+J13)*Dane!$C$22 -> 504 | S13: =SUM(N13:R13) -> 1279.2162 | T13: =IF(C13="W",S13*Dane!$D$2,S13*Dane!$H$2) -> 255.84325 | U13: =SUM(S13:T13) -> 1535.0595 | V13: =IF(C13="W",S13*Dane!$C$23,S13*Dane!$C$23) -> 0 | W13: =IF(C13="W",(S13*Dane!$D$3)-V13,(S13*Dane!$H$3)-V13) -> 0 | X13: =SUM(U13:W13) -> 1535.0595 | Y13: =X13*0.1 -> 153.50595 | Z13: =X13*0.2 -> 307.0119 | AA13: =SUM(X13:Y13) -> 1688.5654 | AB13: =SUM(X13,Z13) -> 1842.0714 | AC13: n.of
B14: =B13+1 -> 11 | C14: W | D14: Moduł do USPP | E14: MS-1d | G14: R405607 W430418 | I14: 5.5 | J14: 1 | N14: 457.36367 | O14: 0 | P14: =(H14)*Dane!$C$14+(I14)*Dane!$C$15+(J14)*Dane!$C$16 -> 219.5 | Q14: =H14*Dane!$F$14+I14*Dane!$F$15++J14*Dane!$F$17 -> 32.5 | R14: =H14*Dane!$H$14+I14*Dane!$H$15+J14*Dane!$H$16+(H14+I14+J14)*Dane!$C$22 -> 468 | S14: =SUM(N14:R14) -> 1177.3637 | T14: =IF(C14="W",S14*Dane!$D$2,S14*Dane!$H$2) -> 235.47273 | U14: =SUM(S14:T14) -> 1412.8364 | V14: =IF(C14="W",S14*Dane!$C$23,S14*Dane!$C$23) -> 0 | W14: =IF(C14="W",(S14*Dane!$D$3)-V14,(S14*Dane!$H$3)-V14) -> 0 | X14: =SUM(U14:W14) -> 1412.8364 | Y14: =X14*0.1 -> 141.28364 | Z14: =X14*0.2 -> 282.56728 | AA14: =SUM(X14:Y14) -> 1554.12 | AB14: =SUM(X14,Z14) -> 1695.4037 | AC14: n.of
B15: =B14+1 -> 12 | C15: W | D15: Moduł do USPP | E15: MS-2d | G15: R405609 W430420 | I15: 4 | J15: 0.5 | N15: 355.33476 | O15: 0 | P15: =(H15)*Dane!$C$14+(I15)*Dane!$C$15+(J15)*Dane!$C$16 -> 151 | Q15: =H15*Dane!$F$14+I15*Dane!$F$15++J15*Dane!$F$17 -> 22.5 | R15: =H15*Dane!$H$14+I15*Dane!$H$15+J15*Dane!$H$16+(H15+I15+J15)*Dane!$C$22 -> 324 | S15: =SUM(N15:R15) -> 852.83476 | T15: =IF(C15="W",S15*Dane!$D$2,S15*Dane!$H$2) -> 170.56695 | U15: =SUM(S15:T15) -> 1023.4017 | V15: =IF(C15="W",S15*Dane!$C$23,S15*Dane!$C$23) -> 0 | W15: =IF(C15="W",(S15*Dane!$D$3)-V15,(S15*Dane!$H$3)-V15) -> 0 | X15: =SUM(U15:W15) -> 1023.4017 | Y15: =X15*0.1 -> 102.34017 | Z15: =X15*0.2 -> 204.68034 | AA15: =SUM(X15:Y15) -> 1125.7419 | AB15: =SUM(X15,Z15) -> 1228.0821 | AC15: n.of
B16: =B15+1 -> 13 | C16: W | D16: Moduł do USPP | E16: MW-d | G16: R405608 W430417 | I16: 7 | J16: 0.5 | N16: 437.38464 | O16: 0 | P16: =(H16)*Dane!$C$14+(I16)*Dane!$C$15+(J16)*Dane!$C$16 -> 250 | Q16: =H16*Dane!$F$14+I16*Dane!$F$15++J16*Dane!$F$17 -> 37.5 | R16: =H16*Dane!$H$14+I16*Dane!$H$15+J16*Dane!$H$16+(H16+I16+J16)*Dane!$C$22 -> 540 | S16: =SUM(N16:R16) -> 1264.8846 | T16: =IF(C16="W",S16*Dane!$D$2,S16*Dane!$H$2) -> 252.97693 | U16: =SUM(S16:T16) -> 1517.8616 | V16: =IF(C16="W",S16*Dane!$C$23,S16*Dane!$C$23) -> 0 | W16: =IF(C16="W",(S16*Dane!$D$3)-V16,(S16*Dane!$H$3)-V16) -> 0 | X16: =SUM(U16:W16) -> 1517.8616 | Y16: =X16*0.1 -> 151.78616 | Z16: =X16*0.2 -> 303.57231 | AA16: =SUM(X16:Y16) -> 1669.6477 | AB16: =SUM(X16,Z16) -> 1821.4339 | AC16: n.of
B17: =B16+1 -> 14 | C17: W | D17: Moduł do USPP | E17: MC | G17: R405420 R237294 | I17: 3 | J17: 0.5 | N17: 262.06241 | O17: 0 | P17: =(H17)*Dane!$C$14+(I17)*Dane!$C$15+(J17)*Dane!$C$16 -> 118 | Q17: =H17*Dane!$F$14+I17*Dane!$F$15++J17*Dane!$F$17 -> 17.5 | R17: =H17*Dane!$H$14+I17*Dane!$H$15+J17*Dane!$H$16+(H17+I17+J17)*Dane!$C$22 -> 252 | S17: =SUM(N17:R17) -> 649.56241 | T17: =IF(C17="W",S17*Dane!$D$2,S17*Dane!$H$2) -> 129.91248 | U17: =SUM(S17:T17) -> 779.47489 | V17: =IF(C17="W",S17*Dane!$C$23,S17*Dane!$C$23) -> 0 | W17: =IF(C17="W",(S17*Dane!$D$3)-V17,(S17*Dane!$H$3)-V17) -> 0 | X17: =SUM(U17:W17) -> 779.47489 | Y17: =X17*0.1 -> 77.947489 | Z17: =X17*0.2 -> 155.89498 | AA17: =SUM(X17:Y17) -> 857.42237 | AB17: =SUM(X17,Z17) -> 935.36986 | AC17: 1316 | AD17: =AC17*Dane!$D$6 -> 197.4 | AE17: =AC17*Dane!$D$7 -> 394.8 | AF17: =AC17*Dane!$D$8 -> 789.6
B18: =B17+1 -> 15 | C18: W | D18: Moduł do USPP | E18: MF-1 | G18: R405420 R237294 | I18: 3.5 | J18: 1 | N18: 249.27985 | O18: 0 | P18: =(H18)*Dane!$C$14+(I18)*Dane!$C$15+(J18)*Dane!$C$16 -> 153.5 | Q18: =H18*Dane!$F$14+I18*Dane!$F$15++J18*Dane!$F$17 -> 22.5 | R18: =H18*Dane!$H$14+I18*Dane!$H$15+J18*Dane!$H$16+(H18+I18+J18)*Dane!$C$22 -> 324 | S18: =SUM(N18:R18) -> 749.27985 | T18: =IF(C18="W",S18*Dane!$D$2,S18*Dane!$H$2) -> 149.85597 | U18: =SUM(S18:T18) -> 899.13583 | V18: =IF(C18="W",S18*Dane!$C$23,S18*Dane!$C$23) -> 0 | W18: =IF(C18="W",(S18*Dane!$D$3)-V18,(S18*Dane!$H$3)-V18) -> 0 | X18: =SUM(U18:W18) -> 899.13583 | Y18: =X18*0.1 -> 89.913583 | Z18: =X18*0.2 -> 179.82717 | AA18: =SUM(X18:Y18) -> 989.04941 | AB18: =SUM(X18,Z18) -> 1078.963 | AC18: 1458 | AD18: =AC18*Dane!$D$6 -> 218.7 | AE18: =AC18*Dane!$D$7 -> 437.4 | AF18: =AC18*Dane!$D$8 -> 874.8
B19: =B18+1 -> 16 | C19: W | D19: Moduł do USPP | E19: MF-2 | G19: R405420 R237294 | I19: 3.5 | J19: 1 | N19: 250.35681 | O19: 0 | P19: =(H19)*Dane!$C$14+(I19)*Dane!$C$15+(J19)*Dane!$C$16 -> 153.5 | Q19: =H19*Dane!$F$14+I19*Dane!$F$15++J19*Dane!$F$17 -> 22.5 | R19: =H19*Dane!$H$14+I19*Dane!$H$15+J19*Dane!$H$16+(H19+I19+J19)*Dane!$C$22 -> 324 | S19: =SUM(N19:R19) -> 750.35681 | T19: =IF(C19="W",S19*Dane!$D$2,S19*Dane!$H$2) -> 150.07136 | U19: =SUM(S19:T19) -> 900.42817 | V19: =IF(C19="W",S19*Dane!$C$23,S19*Dane!$C$23) -> 0 | W19: =IF(C19="W",(S19*Dane!$D$3)-V19,(S19*Dane!$H$3)-V19) -> 0 | X19: =SUM(U19:W19) -> 900.42817 | Y19: =X19*0.1 -> 90.042817 | Z19: =X19*0.2 -> 180.08563 | AA19: =SUM(X19:Y19) -> 990.47099 | AB19: =SUM(X19,Z19) -> 1080.5138 | AC19: 1458 | AD19: =AC19*Dane!$D$6 -> 218.7 | AE19: =AC19*Dane!$D$7 -> 437.4 | AF19: =AC19*Dane!$D$8 -> 874.8
B20: =B19+1 -> 17 | C20: W | D20: Moduł do USPP | E20: MCR | G20: R325854 R237403 | I20: 6 | J20: 1 | N20: 379.75245 | O20: 0 | P20: =(H20)*Dane!$C$14+(I20)*Dane!$C$15+(J20)*Dane!$C$16 -> 236 | Q20: =H20*Dane!$F$14+I20*Dane!$F$15++J20*Dane!$F$17 -> 35 | R20: =H20*Dane!$H$14+I20*Dane!$H$15+J20*Dane!$H$16+(H20+I20+J20)*Dane!$C$22 -> 504 | S20: =SUM(N20:R20) -> 1154.7524 | T20: =IF(C20="W",S20*Dane!$D$2,S20*Dane!$H$2) -> 230.95049 | U20: =SUM(S20:T20) -> 1385.7029 | V20: =IF(C20="W",S20*Dane!$C$23,S20*Dane!$C$23) -> 0 | W20: =IF(C20="W",(S20*Dane!$D$3)-V20,(S20*Dane!$H$3)-V20) -> 0 | X20: =SUM(U20:W20) -> 1385.7029 | Y20: =X20*0.1 -> 138.57029 | Z20: =X20*0.2 -> 277.14059 | AA20: =SUM(X20:Y20) -> 1524.2732 | AB20: =SUM(X20,Z20) -> 1662.8435 | AC20: 2488 | AD20: =AC20*Dane!$D$6 -> 373.2 | AE20: =AC20*Dane!$D$7 -> 746.4 | AF20: =AC20*Dane!$D$8 -> 1492.8
B21: =B20+1 -> 18 | C21: W | D21: Moduł do USPP | E21: MF-1R | G21: R325855 R237403 | I21: 3.5 | J21: 1 | N21: 250.24609 | O21: 0 | P21: =(H21)*Dane!$C$14+(I21)*Dane!$C$15+(J21)*Dane!$C$16 -> 153.5 | Q21: =H21*Dane!$F$14+I21*Dane!$F$15++J21*Dane!$F$17 -> 22.5 | R21: =H21*Dane!$H$14+I21*Dane!$H$15+J21*Dane!$H$16+(H21+I21+J21)*Dane!$C$22 -> 324 | S21: =SUM(N21:R21) -> 750.24609 | T21: =IF(C21="W",S21*Dane!$D$2,S21*Dane!$H$2) -> 150.04922 | U21: =SUM(S21:T21) -> 900.29531 | V21: =IF(C21="W",S21*Dane!$C$23,S21*Dane!$C$23) -> 0 | W21: =IF(C21="W",(S21*Dane!$D$3)-V21,(S21*Dane!$H$3)-V21) -> 0 | X21: =SUM(U21:W21) -> 900.29531 | Y21: =X21*0.1 -> 90.029531 | Z21: =X21*0.2 -> 180.05906 | AA21: =SUM(X21:Y21) -> 990.32485 | AB21: =SUM(X21,Z21) -> 1080.3544 | AC21: 1964 | AD21: =AC21*Dane!$D$6 -> 294.6 | AE21: =AC21*Dane!$D$7 -> 589.2 | AF21: =AC21*Dane!$D$8 -> 1178.4
B22: =B21+1 -> 19 | C22: W | D22: Moduł do USPP | E22: MF-2R | G22: R325855 R237403 | I22: 5 | J22: 1 | N22: 285.32262 | O22: 0 | P22: =(H22)*Dane!$C$14+(I22)*Dane!$C$15+(J22)*Dane!$C$16 -> 203 | Q22: =H22*Dane!$F$14+I22*Dane!$F$15++J22*Dane!$F$17 -> 30 | R22: =H22*Dane!$H$14+I22*Dane!$H$15+J22*Dane!$H$16+(H22+I22+J22)*Dane!$C$22 -> 432 | S22: =SUM(N22:R22) -> 950.32262 | T22: =IF(C22="W",S22*Dane!$D$2,S22*Dane!$H$2) -> 190.06452 | U22: =SUM(S22:T22) -> 1140.3871 | V22: =IF(C22="W",S22*Dane!$C$23,S22*Dane!$C$23) -> 0 | W22: =IF(C22="W",(S22*Dane!$D$3)-V22,(S22*Dane!$H$3)-V22) -> 0 | X22: =SUM(U22:W22) -> 1140.3871 | Y22: =X22*0.1 -> 114.03871 | Z22: =X22*0.2 -> 228.07743 | AA22: =SUM(X22:Y22) -> 1254.4259 | AB22: =SUM(X22,Z22) -> 1368.4646 | AC22: 1876 | AD22: =AC22*Dane!$D$6 -> 281.4 | AE22: =AC22*Dane!$D$7 -> 562.8 | AF22: =AC22*Dane!$D$8 -> 1125.6
B23: =B22+1 -> 20 | C23: W | D23: Sterownik KS | E23: EH-A/02/01.01-003 | F23: EH-2161-1-000007-01 | I23: 15.59 | J23: 10.5 | N23: 2210.8276 | O23: 0 | P23: =(H23)*Dane!$C$14+(I23)*Dane!$C$15+(J23)*Dane!$C$16 -> 913.47 | Q23: =H23*Dane!$F$14+I23*Dane!$F$15++J23*Dane!$F$17 -> 130.45 | R23: =H23*Dane!$H$14+I23*Dane!$H$15+J23*Dane!$H$16+(H23+I23+J23)*Dane!$C$22 -> 1878.48 | S23: =SUM(N23:R23) -> 5133.2276 | T23: =IF(C23="W",S23*Dane!$D$2,S23*Dane!$H$2) -> 1026.6455 | U23: =SUM(S23:T23) -> 6159.8731 | V23: =IF(C23="W",S23*Dane!$C$23,S23*Dane!$C$23) -> 0 | W23: =IF(C23="W",(S23*Dane!$D$3)-V23,(S23*Dane!$H$3)-V23) -> 0 | X23: =SUM(U23:W23) -> 6159.8731 | Y23: =X23*0.1 -> 615.98731 | Z23: =X23*0.2 -> 1231.9746 | AA23: =SUM(X23:Y23) -> 6775.8604 | AB23: =SUM(X23,Z23) -> 7391.8477 | AC23: 7103.8578 | AD23: =AC23*Dane!$D$6 -> 1065.5787 | AE23: =AC23*Dane!$D$7 -> 2131.1574 | AF23: =AC23*Dane!$D$8 -> 4262.3147
B24: =B23+1 -> 21 | C24: W | D24: System sterowania przenośnikiem taśmowym | E24: ZS-05 z modemem | F24: 1361-R405735.01.MODEM | G24: R336376 | I24: 87.1 | J24: 1.35 | N24: 5092.1351 | O24: 0 | P24: =(H24)*Dane!$C$14+(I24)*Dane!$C$15+(J24)*Dane!$C$16 -> 2925.6 | Q24: =H24*Dane!$F$14+I24*Dane!$F$15++J24*Dane!$F$17 -> 442.25 | R24: =H24*Dane!$H$14+I24*Dane!$H$15+J24*Dane!$H$16+(H24+I24+J24)*Dane!$C$22 -> 6368.4 | S24: =SUM(N24:R24) -> 14828.385 | T24: =IF(C24="W",S24*Dane!$D$2,S24*Dane!$H$2) -> 2965.677 | U24: =SUM(S24:T24) -> 17794.062 | V24: =IF(C24="W",S24*Dane!$C$23,S24*Dane!$C$23) -> 0 | W24: =IF(C24="W",(S24*Dane!$D$3)-V24,(S24*Dane!$H$3)-V24) -> 0 | X24: =SUM(U24:W24) -> 17794.062 | Y24: =X24*0.1 -> 1779.4062 | Z24: =X24*0.2 -> 3558.8124 | AA24: =SUM(X24:Y24) -> 19573.468 | AB24: =SUM(X24,Z24) -> 21352.875 | AC24: 24566 | AD24: =AC24*Dane!$D$6 -> 3684.9 | AE24: =AC24*Dane!$D$7 -> 7369.8 | AF24: =AC24*Dane!$D$8 -> 14739.6
B25: =B24+1 -> 22 | C25: W | D25: Moduł | E25: MWW* | F25: 1364-R938071 | G25: R938071 | I25: 9.6 | J25: 0 | N25: 324.75729 | O25: 0 | P25: =(H25)*Dane!$C$14+(I25)*Dane!$C$15+(J25)*Dane!$C$16 -> 316.8 | Q25: =H25*Dane!$F$14+I25*Dane!$F$15++J25*Dane!$F$17 -> 48 | R25: =H25*Dane!$H$14+I25*Dane!$H$15+J25*Dane!$H$16+(H25+I25+J25)*Dane!$C$22 -> 691.2 | S25: =SUM(N25:R25) -> 1380.7573 | T25: =IF(C25="W",S25*Dane!$D$2,S25*Dane!$H$2) -> 276.15146 | U25: =SUM(S25:T25) -> 1656.9087 | V25: =IF(C25="W",S25*Dane!$C$23,S25*Dane!$C$23) -> 0 | W25: =IF(C25="W",(S25*Dane!$D$3)-V25,(S25*Dane!$H$3)-V25) -> 0 | X25: =SUM(U25:W25) -> 1656.9087 | Y25: =X25*0.1 -> 165.69087 | Z25: =X25*0.2 -> 331.38175 | AA25: =SUM(X25:Y25) -> 1822.5996 | AB25: =SUM(X25,Z25) -> 1988.2905 | AC25: 2929 | AD25: =AC25*Dane!$D$6 -> 439.35 | AE25: =AC25*Dane!$D$7 -> 878.7 | AF25: =AC25*Dane!$D$8 -> 1757.4
B26: =B25+1 -> 23 | C26: W | D26: Moduł | E26: MWW | F26: 1364-R938069 | G26: R938069 | I26: 9.6 | J26: 0.1 | N26: 316.40334 | O26: 0 | P26: =(H26)*Dane!$C$14+(I26)*Dane!$C$15+(J26)*Dane!$C$16 -> 320.6 | Q26: =H26*Dane!$F$14+I26*Dane!$F$15++J26*Dane!$F$17 -> 48.5 | R26: =H26*Dane!$H$14+I26*Dane!$H$15+J26*Dane!$H$16+(H26+I26+J26)*Dane!$C$22 -> 698.4 | S26: =SUM(N26:R26) -> 1383.9033 | T26: =IF(C26="W",S26*Dane!$D$2,S26*Dane!$H$2) -> 276.78067 | U26: =SUM(S26:T26) -> 1660.684 | V26: =IF(C26="W",S26*Dane!$C$23,S26*Dane!$C$23) -> 0 | W26: =IF(C26="W",(S26*Dane!$D$3)-V26,(S26*Dane!$H$3)-V26) -> 0 | X26: =SUM(U26:W26) -> 1660.684 | Y26: =X26*0.1 -> 166.0684 | Z26: =X26*0.2 -> 332.1368 | AA26: =SUM(X26:Y26) -> 1826.7524 | AB26: =SUM(X26,Z26) -> 1992.8208 | AC26: 2929 | AD26: =AC26*Dane!$D$6 -> 439.35 | AE26: =AC26*Dane!$D$7 -> 878.7 | AF26: =AC26*Dane!$D$8 -> 1757.4
B27: =B26+1 -> 24 | C27: W | D27: Moduł | E27: MWP | F27: 1364-R938070 | G27: R938070 | I27: 7.9 | J27: 0 | N27: 168.88063 | O27: 0 | P27: =(H27)*Dane!$C$14+(I27)*Dane!$C$15+(J27)*Dane!$C$16 -> 260.7 | Q27: =H27*Dane!$F$14+I27*Dane!$F$15++J27*Dane!$F$17 -> 39.5 | R27: =H27*Dane!$H$14+I27*Dane!$H$15+J27*Dane!$H$16+(H27+I27+J27)*Dane!$C$22 -> 568.8 | S27: =SUM(N27:R27) -> 1037.8806 | T27: =IF(C27="W",S27*Dane!$D$2,S27*Dane!$H$2) -> 207.57613 | U27: =SUM(S27:T27) -> 1245.4568 | V27: =IF(C27="W",S27*Dane!$C$23,S27*Dane!$C$23) -> 0 | W27: =IF(C27="W",(S27*Dane!$D$3)-V27,(S27*Dane!$H$3)-V27) -> 0 | X27: =SUM(U27:W27) -> 1245.4568 | Y27: =X27*0.1 -> 124.54568 | Z27: =X27*0.2 -> 249.09135 | AA27: =SUM(X27:Y27) -> 1370.0024 | AB27: =SUM(X27,Z27) -> 1494.5481 | AC27: 2027 | AD27: =AC27*Dane!$D$6 -> 304.05 | AE27: =AC27*Dane!$D$7 -> 608.1 | AF27: =AC27*Dane!$D$8 -> 1216.2
B28: =B27+1 -> 25 | C28: W | D28: Moduł | E28: MWS | F28: 1364-R938068 | G28: R938068 | I28: 3.5 | J28: 0.1 | N28: 101.0828 | O28: 0 | P28: =(H28)*Dane!$C$14+(I28)*Dane!$C$15+(J28)*Dane!$C$16 -> 119.3 | Q28: =H28*Dane!$F$14+I28*Dane!$F$15++J28*Dane!$F$17 -> 18 | R28: =H28*Dane!$H$14+I28*Dane!$H$15+J28*Dane!$H$16+(H28+I28+J28)*Dane!$C$22 -> 259.2 | S28: =SUM(N28:R28) -> 497.5828 | T28: =IF(C28="W",S28*Dane!$D$2,S28*Dane!$H$2) -> 99.516559 | U28: =SUM(S28:T28) -> 597.09935 | V28: =IF(C28="W",S28*Dane!$C$23,S28*Dane!$C$23) -> 0 | W28: =IF(C28="W",(S28*Dane!$D$3)-V28,(S28*Dane!$H$3)-V28) -> 0 | X28: =SUM(U28:W28) -> 597.09935 | Y28: =X28*0.1 -> 59.709935 | Z28: =X28*0.2 -> 119.41987 | AA28: =SUM(X28:Y28) -> 656.80929 | AB28: =SUM(X28,Z28) -> 716.51922 | AC28: 1233 | AD28: =AC28*Dane!$D$6 -> 184.95 | AE28: =AC28*Dane!$D$7 -> 369.9 | AF28: =AC28*Dane!$D$8 -> 739.8
B29: =B28+1 -> 26 | C29: W | D29: Moduł | E29: MKG | F29: 1364-R938053 | G29: R938053 | I29: 8.3 | J29: 0.1 | N29: 289.44927 | O29: 0 | P29: =(H29)*Dane!$C$14+(I29)*Dane!$C$15+(J29)*Dane!$C$16 -> 277.7 | Q29: =H29*Dane!$F$14+I29*Dane!$F$15++J29*Dane!$F$17 -> 42 | R29: =H29*Dane!$H$14+I29*Dane!$H$15+J29*Dane!$H$16+(H29+I29+J29)*Dane!$C$22 -> 604.8 | S29: =SUM(N29:R29) -> 1213.9493 | T29: =IF(C29="W",S29*Dane!$D$2,S29*Dane!$H$2) -> 242.78985 | U29: =SUM(S29:T29) -> 1456.7391 | V29: =IF(C29="W",S29*Dane!$C$23,S29*Dane!$C$23) -> 0 | W29: =IF(C29="W",(S29*Dane!$D$3)-V29,(S29*Dane!$H$3)-V29) -> 0 | X29: =SUM(U29:W29) -> 1456.7391 | Y29: =X29*0.1 -> 145.67391 | Z29: =X29*0.2 -> 291.34782 | AA29: =SUM(X29:Y29) -> 1602.413 | AB29: =SUM(X29,Z29) -> 1748.0869 | AC29: 2169 | AD29: =AC29*Dane!$D$6 -> 325.35 | AE29: =AC29*Dane!$D$7 -> 650.7 | AF29: =AC29*Dane!$D$8 -> 1301.4
B30: =B29+1 -> 27 | C30: W | D30: Moduł | E30: HMI | F30: 1364-R525513 | G30: R525513 | I30: 6.3 | J30: 0.1 | N30: 235.77263 | O30: 0 | P30: =(H30)*Dane!$C$14+(I30)*Dane!$C$15+(J30)*Dane!$C$16 -> 211.7 | Q30: =H30*Dane!$F$14+I30*Dane!$F$15++J30*Dane!$F$17 -> 32 | R30: =H30*Dane!$H$14+I30*Dane!$H$15+J30*Dane!$H$16+(H30+I30+J30)*Dane!$C$22 -> 460.8 | S30: =SUM(N30:R30) -> 940.27263 | T30: =IF(C30="W",S30*Dane!$D$2,S30*Dane!$H$2) -> 188.05453 | U30: =SUM(S30:T30) -> 1128.3272 | V30: =IF(C30="W",S30*Dane!$C$23,S30*Dane!$C$23) -> 0 | W30: =IF(C30="W",(S30*Dane!$D$3)-V30,(S30*Dane!$H$3)-V30) -> 0 | X30: =SUM(U30:W30) -> 1128.3272 | Y30: =X30*0.1 -> 112.83272 | Z30: =X30*0.2 -> 225.66543 | AA30: =SUM(X30:Y30) -> 1241.1599 | AB30: =SUM(X30,Z30) -> 1353.9926 | AC30: 1863 | AD30: =AC30*Dane!$D$6 -> 279.45 | AE30: =AC30*Dane!$D$7 -> 558.9 | AF30: =AC30*Dane!$D$8 -> 1117.8
B31: =B30+1 -> 28 | C31: W | D31: Klawiatura | E31: ZS-05 | F31: 1364-R448054 | G31: R 448054 | I31: 0.6 | J31: 0.1 | N31: 77.62128 | O31: 0 | P31: =(H31)*Dane!$C$14+(I31)*Dane!$C$15+(J31)*Dane!$C$16 -> 23.6 | Q31: =H31*Dane!$F$14+I31*Dane!$F$15++J31*Dane!$F$17 -> 3.5 | R31: =H31*Dane!$H$14+I31*Dane!$H$15+J31*Dane!$H$16+(H31+I31+J31)*Dane!$C$22 -> 50.4 | S31: =SUM(N31:R31) -> 155.12128 | T31: =IF(C31="W",S31*Dane!$D$2,S31*Dane!$H$2) -> 31.024256 | U31: =SUM(S31:T31) -> 186.14554 | V31: =IF(C31="W",S31*Dane!$C$23,S31*Dane!$C$23) -> 0 | W31: =IF(C31="W",(S31*Dane!$D$3)-V31,(S31*Dane!$H$3)-V31) -> 0 | X31: =SUM(U31:W31) -> 186.14554 | Y31: =X31*0.1 -> 18.614554 | Z31: =X31*0.2 -> 37.229107 | AA31: =SUM(X31:Y31) -> 204.76009 | AB31: =SUM(X31,Z31) -> 223.37464 | AC31: 386 | AD31: =AC31*Dane!$D$6 -> 57.9 | AE31: =AC31*Dane!$D$7 -> 115.8 | AF31: =AC31*Dane!$D$8 -> 231.6
B32: =B31+1 -> 29 | C32: W | D32: Wyłącznik awaryjny iskrobezpieczny | E32: KFS-5/i | F32: 1366-R405670.01 | G32: R405670 R336339 | I32: 1.65 | J32: 0.1 | N32: 705.14384 | O32: 0 | P32: =(H32)*Dane!$C$14+(I32)*Dane!$C$15+(J32)*Dane!$C$16 -> 58.25 | Q32: =H32*Dane!$F$14+I32*Dane!$F$15++J32*Dane!$F$17 -> 8.75 | R32: =H32*Dane!$H$14+I32*Dane!$H$15+J32*Dane!$H$16+(H32+I32+J32)*Dane!$C$22 -> 126 | S32: =SUM(N32:R32) -> 898.14384 | T32: =IF(C32="W",S32*Dane!$D$2,S32*Dane!$H$2) -> 179.62877 | U32: =SUM(S32:T32) -> 1077.7726 | V32: =IF(C32="W",S32*Dane!$C$23,S32*Dane!$C$23) -> 0 | W32: =IF(C32="W",(S32*Dane!$D$3)-V32,(S32*Dane!$H$3)-V32) -> 0 | X32: =SUM(U32:W32) -> 1077.7726 | Y32: =X32*0.1 -> 107.77726 | Z32: =X32*0.2 -> 215.55452 | AA32: =SUM(X32:Y32) -> 1185.5499 | AB32: =SUM(X32,Z32) -> 1293.3271 | AC32: 2010 | AD32: =AC32*Dane!$D$6 -> 301.5 | AE32: =AC32*Dane!$D$7 -> 603 | AF32: =AC32*Dane!$D$8 -> 1206
B33: =B32+1 -> 30 | C33: W | D33: Wyłącznik awaryjny iskrobezpieczny | E33: KFS-5/i (wyk 03) | F33: 1366-R405670.03 | G33: R405670 R336339 | I33: 1.6 | J33: 0.1 | N33: 862.62082 | O33: 0 | P33: =(H33)*Dane!$C$14+(I33)*Dane!$C$15+(J33)*Dane!$C$16 -> 56.6 | Q33: =H33*Dane!$F$14+I33*Dane!$F$15++J33*Dane!$F$17 -> 8.5 | R33: =H33*Dane!$H$14+I33*Dane!$H$15+J33*Dane!$H$16+(H33+I33+J33)*Dane!$C$22 -> 122.4 | S33: =SUM(N33:R33) -> 1050.1208 | T33: =IF(C33="W",S33*Dane!$D$2,S33*Dane!$H$2) -> 210.02417 | U33: =SUM(S33:T33) -> 1260.145 | V33: =IF(C33="W",S33*Dane!$C$23,S33*Dane!$C$23) -> 0 | W33: =IF(C33="W",(S33*Dane!$D$3)-V33,(S33*Dane!$H$3)-V33) -> 0 | X33: =SUM(U33:W33) -> 1260.145 | Y33: =X33*0.1 -> 126.0145 | Z33: =X33*0.2 -> 252.029 | AA33: =SUM(X33:Y33) -> 1386.1595 | AB33: =SUM(X33,Z33) -> 1512.174 | AC33: 2166 | AD33: =AC33*Dane!$D$6 -> 324.9 | AE33: =AC33*Dane!$D$7 -> 649.8 | AF33: =AC33*Dane!$D$8 -> 1299.6
B34: =B33+1 -> 31 | C34: W | D34: Wyłącznik awaryjny | E34: KFS-5/n | F34: 1366-R405734.01 | G34: R405734 R336400 | I34: 1.6 | J34: 0.1 | N34: 804.7974 | O34: 0 | P34: =(H34)*Dane!$C$14+(I34)*Dane!$C$15+(J34)*Dane!$C$16 -> 56.6 | Q34: =H34*Dane!$F$14+I34*Dane!$F$15++J34*Dane!$F$17 -> 8.5 | R34: =H34*Dane!$H$14+I34*Dane!$H$15+J34*Dane!$H$16+(H34+I34+J34)*Dane!$C$22 -> 122.4 | S34: =SUM(N34:R34) -> 992.2974 | T34: =IF(C34="W",S34*Dane!$D$2,S34*Dane!$H$2) -> 198.45948 | U34: =SUM(S34:T34) -> 1190.7569 | V34: =IF(C34="W",S34*Dane!$C$23,S34*Dane!$C$23) -> 0 | W34: =IF(C34="W",(S34*Dane!$D$3)-V34,(S34*Dane!$H$3)-V34) -> 0 | X34: =SUM(U34:W34) -> 1190.7569 | Y34: =X34*0.1 -> 119.07569 | Z34: =X34*0.2 -> 238.15138 | AA34: =SUM(X34:Y34) -> 1309.8326 | AB34: =SUM(X34,Z34) -> 1428.9083 | AC34: 1915 | AD34: =AC34*Dane!$D$6 -> 287.25 | AE34: =AC34*Dane!$D$7 -> 574.5 | AF34: =AC34*Dane!$D$8 -> 1149
B35: =B34+1 -> 32 | C35: W | D35: Wyłącznik awaryjny | E35: KFS-5/n (wyk 03) | F35: 1366-R405734.03 | G35: R405734 R336400 | I35: 1.6 | J35: 0.1 | N35: 862.63089 | O35: 0 | P35: =(H35)*Dane!$C$14+(I35)*Dane!$C$15+(J35)*Dane!$C$16 -> 56.6 | Q35: =H35*Dane!$F$14+I35*Dane!$F$15++J35*Dane!$F$17 -> 8.5 | R35: =H35*Dane!$H$14+I35*Dane!$H$15+J35*Dane!$H$16+(H35+I35+J35)*Dane!$C$22 -> 122.4 | S35: =SUM(N35:R35) -> 1050.1309 | T35: =IF(C35="W",S35*Dane!$D$2,S35*Dane!$H$2) -> 210.02618 | U35: =SUM(S35:T35) -> 1260.1571 | V35: =IF(C35="W",S35*Dane!$C$23,S35*Dane!$C$23) -> 0 | W35: =IF(C35="W",(S35*Dane!$D$3)-V35,(S35*Dane!$H$3)-V35) -> 0 | X35: =SUM(U35:W35) -> 1260.1571 | Y35: =X35*0.1 -> 126.01571 | Z35: =X35*0.2 -> 252.03141 | AA35: =SUM(X35:Y35) -> 1386.1728 | AB35: =SUM(X35,Z35) -> 1512.1885 | AC35: 2166 | AD35: =AC35*Dane!$D$6 -> 324.9 | AE35: =AC35*Dane!$D$7 -> 649.8 | AF35: =AC35*Dane!$D$8 -> 1299.6
... B44: =B43+1 -> 41 | C44: W | D44: Urządzenia łączości głośnomówiącej | E44: GTLn | F44: 1365-R406683 | G44: R406683 | I44: 15.35 | J44: 0.12 | N44: 1969.4789 | O44: 0 | P44: =(H44)*Dane!$C$14+(I44)*Dane!$C$15+(J44)*Dane!$C$16 -> 511.11 | Q44: =H44*Dane!$F$14+I44*Dane!$F$15++J44*Dane!$F$17 -> 77.35 | R44: =H44*Dane!$H$14+I44*Dane!$H$15+J44*Dane!$H$16+(H44+I44+J44)*Dane!$C$22 -> 1113.84 | S44: =SUM(N44:R44) -> 3671.7789 | T44: =IF(C44="W",S44*Dane!$D$2,S44*Dane!$H$2) -> 734.35579 | U44: =SUM(S44:T44) -> 4406.1347 | V44: =IF(C44="W",S44*Dane!$C$23,S44*Dane!$C$23) -> 0 | W44: =IF(C44="W",(S44*Dane!$D$3)-V44,(S44*Dane!$H$3)-V44) -> 0 | X44: =SUM(U44:W44) -> 4406.1347 | Y44: =X44*0.1 -> 440.61347 | Z44: =X44*0.2 -> 881.22695 | AA44: =SUM(X44:Y44) -> 4846.7482 | AB44: =SUM(X44,Z44) -> 5287.3617 | AC44: 5879.3914 | AD44: =AC44*Dane!$D$6 -> 881.90871 | AE44: =AC44*Dane!$D$7 -> 1763.8174 | AF44: =AC44*Dane!$D$8 -> 3527.6349
B45: =B44+1 -> 42 | C45: W | D45: Zasilacz | E45: ZSI-6 | F45: 1367-R405694 | G45: R405694 | I45: 5.9 | J45: 0.3 | N45: 1271.6624 | O45: 0 | P45: =(H45)*Dane!$C$14+(I45)*Dane!$C$15+(J45)*Dane!$C$16 -> 206.1 | Q45: =H45*Dane!$F$14+I45*Dane!$F$15++J45*Dane!$F$17 -> 31 | R45: =H45*Dane!$H$14+I45*Dane!$H$15+J45*Dane!$H$16+(H45+I45+J45)*Dane!$C$22 -> 446.4 | S45: =SUM(N45:R45) -> 1955.1624 | T45: =IF(C45="W",S45*Dane!$D$2,S45*Dane!$H$2) -> 391.03249 | U45: =SUM(S45:T45) -> 2346.1949 | V45: =IF(C45="W",S45*Dane!$C$23,S45*Dane!$C$23) -> 0 | W45: =IF(C45="W",(S45*Dane!$D$3)-V45,(S45*Dane!$H$3)-V45) -> 0 | X45: =SUM(U45:W45) -> 2346.1949 | Y45: =X45*0.1 -> 234.61949 | Z45: =X45*0.2 -> 469.23898 | AA45: =SUM(X45:Y45) -> 2580.8144 | AB45: =SUM(X45,Z45) -> 2815.4339 | AC45: 4831.3242 | AD45: 456.00284 | AE45: 912.00569 | AF45: 1824.0114
B46: =B45+1 -> 43 | C46: W | D46: Zasilacz | E46: ZSI-15/G | F46: 1367-R405732 | G46: R405732 R938057 | I46: 7.2 | J46: 0 | N46: 1289.3768 | O46: 0 | P46: =(H46)*Dane!$C$14+(I46)*Dane!$C$15+(J46)*Dane!$C$16 -> 237.6 | Q46: =H46*Dane!$F$14+I46*Dane!$F$15++J46*Dane!$F$17 -> 36 | R46: =H46*Dane!$H$14+I46*Dane!$H$15+J46*Dane!$H$16+(H46+I46+J46)*Dane!$C$22 -> 518.4 | S46: =SUM(N46:R46) -> 2081.3768 | T46: =IF(C46="W",S46*Dane!$D$2,S46*Dane!$H$2) -> 416.27537 | U46: =SUM(S46:T46) -> 2497.6522 | V46: =IF(C46="W",S46*Dane!$C$23,S46*Dane!$C$23) -> 0 | W46: =IF(C46="W",(S46*Dane!$D$3)-V46,(S46*Dane!$H$3)-V46) -> 0 | X46: =SUM(U46:W46) -> 2497.6522 | Y46: =X46*0.1 -> 249.76522 | Z46: =X46*0.2 -> 499.53044 | AA46: =SUM(X46:Y46) -> 2747.4174 | AB46: =SUM(X46,Z46) -> 2997.1826 | AC46: 4185.94 | AD46: =AC46*Dane!$D$6 -> 627.891 | AE46: =AC46*Dane!$D$7 -> 1255.782 | AF46: =AC46*Dane!$D$8 -> 2511.564
B47: =B46+1 -> 44 | C47: W | D47: Łącznik sygnalizacyjno awaryjny | E47: ŁSA/n | F47: 1366-R405699 | G47: R405600 R136191 | I47: 2.95 | J47: 0.2 | N47: 1119.1475 | O47: 0 | P47: =(H47)*Dane!$C$14+(I47)*Dane!$C$15+(J47)*Dane!$C$16 -> 104.95 | Q47: =H47*Dane!$F$14+I47*Dane!$F$15++J47*Dane!$F$17 -> 15.75 | R47: =H47*Dane!$H$14+I47*Dane!$H$15+J47*Dane!$H$16+(H47+I47+J47)*Dane!$C$22 -> 226.8 | S47: =SUM(N47:R47) -> 1466.6475 | T47: =IF(C47="W",S47*Dane!$D$2,S47*Dane!$H$2) -> 293.3295 | U47: =SUM(S47:T47) -> 1759.977 | V47: =IF(C47="W",S47*Dane!$C$23,S47*Dane!$C$23) -> 0 | W47: =IF(C47="W",(S47*Dane!$D$3)-V47,(S47*Dane!$H$3)-V47) -> 0 | X47: =SUM(U47:W47) -> 1759.977 | Y47: =X47*0.1 -> 175.9977 | Z47: =X47*0.2 -> 351.9954 | AA47: =SUM(X47:Y47) -> 1935.9747 | AB47: =SUM(X47,Z47) -> 2111.9724 | AC47: 2641.52 | AD47: =AC47*Dane!$D$6 -> 396.228 | AE47: =AC47*Dane!$D$7 -> 792.456 | AF47: =AC47*Dane!$D$8 -> 1584.912
B48: =B47+1 -> 45 | C48: W | D48: Urządzenia łączości głośnomówiącej | E48: UGM-22N | F48: 1365-R406635 | G48: R336359 R406635 | I48: 7.2 | J48: 0.1 | N48: 719.02347 | O48: 0 | P48: =(H48)*Dane!$C$14+(I48)*Dane!$C$15+(J48)*Dane!$C$16 -> 241.4 | Q48: =H48*Dane!$F$14+I48*Dane!$F$15++J48*Dane!$F$17 -> 36.5 | R48: =H48*Dane!$H$14+I48*Dane!$H$15+J48*Dane!$H$16+(H48+I48+J48)*Dane!$C$22 -> 525.6 | S48: =SUM(N48:R48) -> 1522.5235 | T48: =IF(C48="W",S48*Dane!$D$2,S48*Dane!$H$2) -> 304.50469 | U48: =SUM(S48:T48) -> 1827.0282 | V48: =IF(C48="W",S48*Dane!$C$23,S48*Dane!$C$23) -> 0 | W48: =IF(C48="W",(S48*Dane!$D$3)-V48,(S48*Dane!$H$3)-V48) -> 0 | X48: =SUM(U48:W48) -> 1827.0282 | Y48: =X48*0.1 -> 182.70282 | Z48: =X48*0.2 -> 365.40563 | AA48: =SUM(X48:Y48) -> 2009.731 | AB48: =SUM(X48,Z48) -> 2192.4338 | AC48: 2503.72 | AD48: =AC48*Dane!$D$6 -> 375.558 | AE48: =AC48*Dane!$D$7 -> 751.116 | AF48: =AC48*Dane!$D$8 -> 1502.232
B49: =B48+1 -> 46 | C49: W | D49: Urządzenia łączości głośnomówiącej | E49: UGM-22N n mikrofzewn | F49: 1365-R406635.01 | G49: R336359 R406635 | I49: 8.2 | J49: 0.2 | N49: 902.18634 | O49: 0 | P49: =(H49)*Dane!$C$14+(I49)*Dane!$C$15+(J49)*Dane!$C$16 -> 278.2 | Q49: =H49*Dane!$F$14+I49*Dane!$F$15++J49*Dane!$F$17 -> 42 | R49: =H49*Dane!$H$14+I49*Dane!$H$15+J49*Dane!$H$16+(H49+I49+J49)*Dane!$C$22 -> 604.8 | S49: =SUM(N49:R49) -> 1827.1863 | T49: =IF(C49="W",S49*Dane!$D$2,S49*Dane!$H$2) -> 365.43727 | U49: =SUM(S49:T49) -> 2192.6236 | V49: =IF(C49="W",S49*Dane!$C$23,S49*Dane!$C$23) -> 0 | W49: =IF(C49="W",(S49*Dane!$D$3)-V49,(S49*Dane!$H$3)-V49) -> 0 | X49: =SUM(U49:W49) -> 2192.6236 | Y49: =X49*0.1 -> 219.26236 | Z49: =X49*0.2 -> 438.52472 | AA49: =SUM(X49:Y49) -> 2411.886 | AB49: =SUM(X49,Z49) -> 2631.1483 | AC49: 2925.9129 | AD49: =AC49*Dane!$D$6 -> 438.88693 | AE49: =AC49*Dane!$D$7 -> 877.77386 | AF49: =AC49*Dane!$D$8 -> 1755.5477
B50: =B49+1 -> 47 | C50: W | D50: Urządzenia łączości głośnomówiącej | E50: UGM-11N | F50: 1365-R406591 | G50: R406591 R136235 | I50: 9.05 | J50: 0.1 | N50: 1742.1408 | O50: 0 | P50: =(H50)*Dane!$C$14+(I50)*Dane!$C$15+(J50)*Dane!$C$16 -> 302.45 | Q50: =H50*Dane!$F$14+I50*Dane!$F$15++J50*Dane!$F$17 -> 45.75 | R50: =H50*Dane!$H$14+I50*Dane!$H$15+J50*Dane!$H$16+(H50+I50+J50)*Dane!$C$22 -> 658.8 | S50: =SUM(N50:R50) -> 2749.1408 | T50: =IF(C50="W",S50*Dane!$D$2,S50*Dane!$H$2) -> 549.82816 | U50: =SUM(S50:T50) -> 3298.9689 | V50: =IF(C50="W",S50*Dane!$C$23,S50*Dane!$C$23) -> 0 | W50: =IF(C50="W",(S50*Dane!$D$3)-V50,(S50*Dane!$H$3)-V50) -> 0 | X50: =SUM(U50:W50) -> 3298.9689 | Y50: =X50*0.1 -> 329.89689 | Z50: =X50*0.2 -> 659.79379 | AA50: =SUM(X50:Y50) -> 3628.8658 | AB50: =SUM(X50,Z50) -> 3958.7627 | AC50: 4331.8822 | AD50: =AC50*Dane!$D$6 -> 649.78233 | AE50: =AC50*Dane!$D$7 -> 1299.5647 | AF50: =AC50*Dane!$D$8 -> 2599.1293
B51: =B50+1 -> 48 | C51: W | D51: Urządzenia łączości głośnomówiącej | E51: UGM-11W | G51: R406605 R336395 | I51: 6 | J51: 2 | N51: 1543.6791 | O51: 0 | P51: =(H51)*Dane!$C$14+(I51)*Dane!$C$15+(J51)*Dane!$C$16 -> 274 | Q51: =H51*Dane!$F$14+I51*Dane!$F$15++J51*Dane!$F$17 -> 40 | R51: =H51*Dane!$H$14+I51*Dane!$H$15+J51*Dane!$H$16+(H51+I51+J51)*Dane!$C$22 -> 576 | S51: =SUM(N51:R51) -> 2433.6791 | T51: =IF(C51="W",S51*Dane!$D$2,S51*Dane!$H$2) -> 486.73582 | U51: =SUM(S51:T51) -> 2920.4149 | V51: =IF(C51="W",S51*Dane!$C$23,S51*Dane!$C$23) -> 0 | W51: =IF(C51="W",(S51*Dane!$D$3)-V51,(S51*Dane!$H$3)-V51) -> 0 | X51: =SUM(U51:W51) -> 2920.4149 | Y51: =X51*0.1 -> 292.04149 | Z51: =X51*0.2 -> 584.08299 | AA51: =SUM(X51:Y51) -> 3212.4564 | AB51: =SUM(X51,Z51) -> 3504.4979 | AC51: 4272.86 | AD51: =AC51*Dane!$D$6 -> 640.929 | AE51: =AC51*Dane!$D$7 -> 1281.858 | AF51: =AC51*Dane!$D$8 -> 2563.716
B52: =B51+1 -> 49 | C52: W | D52: Urządzenia łączości głośnomówiącej | E52: UGM-11C | F52: 1365-R406603 | G52: R406603 R336297 | I52: 6.8 | J52: 0.3 | N52: 1431.1122 | O52: 0 | P52: =(H52)*Dane!$C$14+(I52)*Dane!$C$15+(J52)*Dane!$C$16 -> 235.8 | Q52: =H52*Dane!$F$14+I52*Dane!$F$15++J52*Dane!$F$17 -> 35.5 | R52: =H52*Dane!$H$14+I52*Dane!$H$15+J52*Dane!$H$16+(H52+I52+J52)*Dane!$C$22 -> 511.2 | S52: =SUM(N52:R52) -> 2213.6122 | T52: =IF(C52="W",S52*Dane!$D$2,S52*Dane!$H$2) -> 442.72243 | U52: =SUM(S52:T52) -> 2656.3346 | V52: =IF(C52="W",S52*Dane!$C$23,S52*Dane!$C$23) -> 0 | W52: =IF(C52="W",(S52*Dane!$D$3)-V52,(S52*Dane!$H$3)-V52) -> 0 | X52: =SUM(U52:W52) -> 2656.3346 | Y52: =X52*0.1 -> 265.63346 | Z52: =X52*0.2 -> 531.26692 | AA52: =SUM(X52:Y52) -> 2921.968 | AB52: =SUM(X52,Z52) -> 3187.6015 | AC52: 3592.34 | AD52: =AC52*Dane!$D$6 -> 538.851 | AE52: =AC52*Dane!$D$7 -> 1077.702 | AF52: =AC52*Dane!$D$8 -> 2155.404
B53: =B52+1 -> 50 | C53: W | D53: Urządzenia łączości głośnomówiącej | E53: UGM-11CW | G53: R406624 R336327 | I53: 6 | J53: 1 | N53: 865.70072 | O53: 0 | P53: =(H53)*Dane!$C$14+(I53)*Dane!$C$15+(J53)*Dane!$C$16 -> 236 | Q53: =H53*Dane!$F$14+I53*Dane!$F$15++J53*Dane!$F$17 -> 35 | R53: =H53*Dane!$H$14+I53*Dane!$H$15+J53*Dane!$H$16+(H53+I53+J53)*Dane!$C$22 -> 504 | S53: =SUM(N53:R53) -> 1640.7007 | T53: =IF(C53="W",S53*Dane!$D$2,S53*Dane!$H$2) -> 328.14014 | U53: =SUM(S53:T53) -> 1968.8409 | V53: =IF(C53="W",S53*Dane!$C$23,S53*Dane!$C$23) -> 0 | W53: =IF(C53="W",(S53*Dane!$D$3)-V53,(S53*Dane!$H$3)-V53) -> 0 | X53: =SUM(U53:W53) -> 1968.8409 | Y53: =X53*0.1 -> 196.88409 | Z53: =X53*0.2 -> 393.76817 | AA53: =SUM(X53:Y53) -> 2165.7249 | AB53: =SUM(X53,Z53) -> 2362.609 | AC53: 3578.56 | AD53: =AC53*Dane!$D$6 -> 536.784 | AE53: =AC53*Dane!$D$7 -> 1073.568 | AF53: =AC53*Dane!$D$8 -> 2147.136
B54: =B53+1 -> 51 | C54: W | D54: Urządzenia łączości głośnomówiącej | E54: UGM-11P | F54: 1365-R405672 | G54: R405672 R336328 | I54: 9.05 | J54: 0.1 | N54: 939.2356 | O54: 0 | P54: =(H54)*Dane!$C$14+(I54)*Dane!$C$15+(J54)*Dane!$C$16 -> 302.45 | Q54: =H54*Dane!$F$14+I54*Dane!$F$15++J54*Dane!$F$17 -> 45.75 | R54: =H54*Dane!$H$14+I54*Dane!$H$15+J54*Dane!$H$16+(H54+I54+J54)*Dane!$C$22 -> 658.8 | S54: =SUM(N54:R54) -> 1946.2356 | T54: =IF(C54="W",S54*Dane!$D$2,S54*Dane!$H$2) -> 389.24712 | U54: =SUM(S54:T54) -> 2335.4827 | V54: =IF(C54="W",S54*Dane!$C$23,S54*Dane!$C$23) -> 0 | W54: =IF(C54="W",(S54*Dane!$D$3)-V54,(S54*Dane!$H$3)-V54) -> 0 | X54: =SUM(U54:W54) -> 2335.4827 | Y54: =X54*0.1 -> 233.54827 | Z54: =X54*0.2 -> 467.09655 | AA54: =SUM(X54:Y54) -> 2569.031 | AB54: =SUM(X54,Z54) -> 2802.5793 | AC54: 3484.22 | AD54: =AC54*Dane!$D$6 -> 522.633 | AE54: =AC54*Dane!$D$7 -> 1045.266 | AF54: =AC54*Dane!$D$8 -> 2090.532
B55: =B54+1 -> 52 | C55: W | D55: Urządzenia łączości głośnomówiącej | E55: UGM-R | F55: 1365-R406655 | G55: R336398 | I55: 7.33 | J55: 0.1 | N55: 610.64355 | O55: 0 | P55: =(H55)*Dane!$C$14+(I55)*Dane!$C$15+(J55)*Dane!$C$16 -> 245.69 | Q55: =H55*Dane!$F$14+I55*Dane!$F$15++J55*Dane!$F$17 -> 37.15 | R55: =H55*Dane!$H$14+I55*Dane!$H$15+J55*Dane!$H$16+(H55+I55+J55)*Dane!$C$22 -> 534.96 | S55: =SUM(N55:R55) -> 1428.4435 | T55: =IF(C55="W",S55*Dane!$D$2,S55*Dane!$H$2) -> 285.68871 | U55: =SUM(S55:T55) -> 1714.1323 | V55: =IF(C55="W",S55*Dane!$C$23,S55*Dane!$C$23) -> 0 | W55: =IF(C55="W",(S55*Dane!$D$3)-V55,(S55*Dane!$H$3)-V55) -> 0 | X55: =SUM(U55:W55) -> 1714.1323 | Y55: =X55*0.1 -> 171.41323 | Z55: =X55*0.2 -> 342.82645 | AA55: =SUM(X55:Y55) -> 1885.5455 | AB55: =SUM(X55,Z55) -> 2056.9587 | AC55: 3013.58 | AD55: =AC55*Dane!$D$6 -> 452.037 | AE55: =AC55*Dane!$D$7 -> 904.074 | AF55: =AC55*Dane!$D$8 -> 1808.148
B56: =B55+1 -> 53 | C56: W | D56: Urządzenia łączości głośnomówiącej | E56: UGM-R/1 | G56: R406655 R336398 | I56: 4.5 | J56: 1 | N56: 2171.0205 | O56: 0 | P56: =(H56)*Dane!$C$14+(I56)*Dane!$C$15+(J56)*Dane!$C$16 -> 186.5 | Q56: =H56*Dane!$F$14+I56*Dane!$F$15++J56*Dane!$F$17 -> 27.5 | R56: =H56*Dane!$H$14+I56*Dane!$H$15+J56*Dane!$H$16+(H56+I56+J56)*Dane!$C$22 -> 396 | S56: =SUM(N56:R56) -> 2781.0205 | T56: =IF(C56="W",S56*Dane!$D$2,S56*Dane!$H$2) -> 556.2041 | U56: =SUM(S56:T56) -> 3337.2246 | V56: =IF(C56="W",S56*Dane!$C$23,S56*Dane!$C$23) -> 0 | W56: =IF(C56="W",(S56*Dane!$D$3)-V56,(S56*Dane!$H$3)-V56) -> 0 | X56: =SUM(U56:W56) -> 3337.2246 | Y56: =X56*0.1 -> 333.72246 | Z56: =X56*0.2 -> 667.44492 | AA56: =SUM(X56:Y56) -> 3670.9471 | AB56: =SUM(X56,Z56) -> 4004.6695 | AC56: 4386.28 | AD56: =AC56*Dane!$D$6 -> 657.942 | AE56: =AC56*Dane!$D$7 -> 1315.884 | AF56: =AC56*Dane!$D$8 -> 2631.768
B57: =B56+1 -> 54 | C57: W | D57: Iskrobezpieczny moduł baterii | E57: MB1 | F57: EH-2151-1-000059-01 | I57: 3 | J57: 1 | N57: 200.2935 | O57: 25 | P57: =(H57)*Dane!$C$14+(I57)*Dane!$C$15+(J57)*Dane!$C$16 -> 137 | Q57: =H57*Dane!$F$14+I57*Dane!$F$15++J57*Dane!$F$17 -> 20 | R57: =H57*Dane!$H$14+I57*Dane!$H$15+J57*Dane!$H$16+(H57+I57+J57)*Dane!$C$22 -> 288 | S57: =SUM(N57:R57) -> 670.2935 | T57: =IF(C57="W",S57*Dane!$D$2,S57*Dane!$H$2) -> 134.0587 | U57: =SUM(S57:T57) -> 804.3522 | V57: =IF(C57="W",S57*Dane!$C$23,S57*Dane!$C$23) -> 0 | W57: =IF(C57="W",(S57*Dane!$D$3)-V57,(S57*Dane!$H$3)-V57) -> 0 | X57: =SUM(U57:W57) -> 804.3522 | Y57: =X57*0.1 -> 80.43522 | Z57: =X57*0.2 -> 160.87044 | AA57: =SUM(X57:Y57) -> 884.78742 | AB57: =SUM(X57,Z57) -> 965.22264 | AC57: 969.38394
B58: =B57+1 -> 55 | C58: W | D58: Układ sterowania napinaniem USN-11 - wzmacniacz | E58: W-11Nc | F58: 1369-R405676 | G58: R405676 R336375 | I58: 4.5 | J58: 0.1 | N58: 700.44348 | O58: 0 | P58: =(H58)*Dane!$C$14+(I58)*Dane!$C$15+(J58)*Dane!$C$16 -> 152.3 | Q58: =H58*Dane!$F$14+I58*Dane!$F$15++J58*Dane!$F$17 -> 23 | R58: =H58*Dane!$H$14+I58*Dane!$H$15+J58*Dane!$H$16+(H58+I58+J58)*Dane!$C$22 -> 331.2 | S58: =SUM(N58:R58) -> 1206.9435 | T58: =IF(C58="W",S58*Dane!$D$2,S58*Dane!$H$2) -> 241.3887 | U58: =SUM(S58:T58) -> 1448.3322 | V58: =IF(C58="W",S58*Dane!$C$23,S58*Dane!$C$23) -> 0 | W58: =IF(C58="W",(S58*Dane!$D$3)-V58,(S58*Dane!$H$3)-V58) -> 0 | X58: =SUM(U58:W58) -> 1448.3322 | Y58: =X58*0.1 -> 144.83322 | Z58: =X58*0.2 -> 289.66644 | AA58: =SUM(X58:Y58) -> 1593.1654 | AB58: =SUM(X58,Z58) -> 1737.9986 | AC58: 2867.3 | AD58: =AC58*Dane!$D$6 -> 430.095 | AE58: =AC58*Dane!$D$7 -> 860.19 | AF58: =AC58*Dane!$D$8 -> 1720.38
B59: =B58+1 -> 56 | C59: W | D59: Czujnik prędkości | E59: ECP-22/N | F59: 1369-R405649 | G59: R405649 R338944 | I59: 3.45 | J59: 0.1 | N59: 66.52965 | O59: 0 | P59: =(H59)*Dane!$C$14+(I59)*Dane!$C$15+(J59)*Dane!$C$16 -> 117.65 | Q59: =H59*Dane!$F$14+I59*Dane!$F$15++J59*Dane!$F$17 -> 17.75 | R59: =H59*Dane!$H$14+I59*Dane!$H$15+J59*Dane!$H$16+(H59+I59+J59)*Dane!$C$22 -> 255.6 | S59: =SUM(N59:R59) -> 457.52965 | T59: =IF(C59="W",S59*Dane!$D$2,S59*Dane!$H$2) -> 91.50593 | U59: =SUM(S59:T59) -> 549.03558 | V59: =IF(C59="W",S59*Dane!$C$23,S59*Dane!$C$23) -> 0 | W59: =IF(C59="W",(S59*Dane!$D$3)-V59,(S59*Dane!$H$3)-V59) -> 0 | X59: =SUM(U59:W59) -> 549.03558 | Y59: =X59*0.1 -> 54.903558 | Z59: =X59*0.2 -> 109.80712 | AA59: =SUM(X59:Y59) -> 603.93914 | AB59: =SUM(X59,Z59) -> 658.8427 | AC59: 1124 | AD59: =AC59*Dane!$D$6 -> 168.6 | AE59: =AC59*Dane!$D$7 -> 337.2 | AF59: =AC59*Dane!$D$8 -> 674.4
B60: =B59+1 -> 57 | C60: W | D60: Moduł do USPP | E60: MG/Sa | F60: 1364-R938017 | I60: 7.8 | J60: 0.01 | N60: 476.85957 | O60: 0 | P60: =(H60)*Dane!$C$14+(I60)*Dane!$C$15+(J60)*Dane!$C$16 -> 257.78 | Q60: =H60*Dane!$F$14+I60*Dane!$F$15++J60*Dane!$F$17 -> 39.05 | R60: =H60*Dane!$H$14+I60*Dane!$H$15+J60*Dane!$H$16+(H60+I60+J60)*Dane!$C$22 -> 562.32 | S60: =SUM(N60:R60) -> 1336.0096 | T60: =IF(C60="W",S60*Dane!$D$2,S60*Dane!$H$2) -> 267.20191 | U60: =SUM(S60:T60) -> 1603.2115 | V60: =IF(C60="W",S60*Dane!$C$23,S60*Dane!$C$23) -> 0 | W60: =IF(C60="W",(S60*Dane!$D$3)-V60,(S60*Dane!$H$3)-V60) -> 0 | X60: =SUM(U60:W60) -> 1603.2115 | Y60: =X60*0.1 -> 160.32115 | Z60: =X60*0.2 -> 320.6423 | AA60: =SUM(X60:Y60) -> 1763.5326 | AB60: =SUM(X60,Z60) -> 1923.8538 | AC60: 2427 | AD60: =AC60*Dane!$D$6 -> 364.05 | AE60: =AC60*Dane!$D$7 -> 728.1 | AF60: =AC60*Dane!$D$8 -> 1456.2
B61: =B60+1 -> 58 | C61: W | D61: Moduł do USPP | E61: MS-2a | F61: 1364-R938016 | I61: 11.3 | J61: 0.1 | N61: 426.10178 | O61: 0 | P61: =(H61)*Dane!$C$14+(I61)*Dane!$C$15+(J61)*Dane!$C$16 -> 376.7 | Q61: =H61*Dane!$F$14+I61*Dane!$F$15++J61*Dane!$F$17 -> 57 | R61: =H61*Dane!$H$14+I61*Dane!$H$15+J61*Dane!$H$16+(H61+I61+J61)*Dane!$C$22 -> 820.8 | S61: =SUM(N61:R61) -> 1680.6018 | T61: =IF(C61="W",S61*Dane!$D$2,S61*Dane!$H$2) -> 336.12036 | U61: =SUM(S61:T61) -> 2016.7221 | V61: =IF(C61="W",S61*Dane!$C$23,S61*Dane!$C$23) -> 0 | W61: =IF(C61="W",(S61*Dane!$D$3)-V61,(S61*Dane!$H$3)-V61) -> 0 | X61: =SUM(U61:W61) -> 2016.7221 | Y61: =X61*0.1 -> 201.67221 | Z61: =X61*0.2 -> 403.34443 | AA61: =SUM(X61:Y61) -> 2218.3943 | AB61: =SUM(X61,Z61) -> 2420.0666 | AC61: 3192 | AD61: =AC61*Dane!$D$6 -> 478.8 | AE61: =AC61*Dane!$D$7 -> 957.6 | AF61: =AC61*Dane!$D$8 -> 1915.2
B62: =B61+1 -> 59 | C62: W | D62: Moduł do USPP | E62: MW-2a | F62: 1364-R938015 | I62: 11.9 | J62: 0.1 | N62: 506.21918 | O62: 0 | P62: =(H62)*Dane!$C$14+(I62)*Dane!$C$15+(J62)*Dane!$C$16 -> 396.5 | Q62: =H62*Dane!$F$14+I62*Dane!$F$15++J62*Dane!$F$17 -> 60 | R62: =H62*Dane!$H$14+I62*Dane!$H$15+J62*Dane!$H$16+(H62+I62+J62)*Dane!$C$22 -> 864 | S62: =SUM(N62:R62) -> 1826.7192 | T62: =IF(C62="W",S62*Dane!$D$2,S62*Dane!$H$2) -> 365.34384 | U62: =SUM(S62:T62) -> 2192.063 | V62: =IF(C62="W",S62*Dane!$C$23,S62*Dane!$C$23) -> 0 | W62: =IF(C62="W",(S62*Dane!$D$3)-V62,(S62*Dane!$H$3)-V62) -> 0 | X62: =SUM(U62:W62) -> 2192.063 | Y62: =X62*0.1 -> 219.2063 | Z62: =X62*0.2 -> 438.4126 | AA62: =SUM(X62:Y62) -> 2411.2693 | AB62: =SUM(X62,Z62) -> 2630.4756 | AC62: 3236.18 | AD62: =AC62*Dane!$D$6 -> 485.427 | AE62: =AC62*Dane!$D$7 -> 970.854 | AF62: =AC62*Dane!$D$8 -> 1941.708
B63: =B62+1 -> 60 | C63: W | D63: Blok akumulatorów | E63: GTL | F63: 1369-R437462 | G63: R437462 | I63: 0.5 | J63: 0 | N63: 56.917575 | O63: 0 | P63: =(H63)*Dane!$C$14+(I63)*Dane!$C$15+(J63)*Dane!$C$16 -> 16.5 | Q63: =H63*Dane!$F$14+I63*Dane!$F$15++J63*Dane!$F$17 -> 2.5 | R63: =H63*Dane!$H$14+I63*Dane!$H$15+J63*Dane!$H$16+(H63+I63+J63)*Dane!$C$22 -> 36 | S63: =SUM(N63:R63) -> 111.91757 | T63: =IF(C63="W",S63*Dane!$D$2,S63*Dane!$H$2) -> 22.383515 | U63: =SUM(S63:T63) -> 134.30109 | V63: =IF(C63="W",S63*Dane!$C$23,S63*Dane!$C$23) -> 0 | W63: =IF(C63="W",(S63*Dane!$D$3)-V63,(S63*Dane!$H$3)-V63) -> 0 | X63: =SUM(U63:W63) -> 134.30109 | Y63: =X63*0.1 -> 13.430109 | Z63: =X63*0.2 -> 26.860218 | AA63: =SUM(X63:Y63) -> 147.7312 | AB63: =SUM(X63,Z63) -> 161.16131 | AC63: 180.52365 | AD63: =AC63*Dane!$D$6 -> 27.078548 | AE63: =AC63*Dane!$D$7 -> 54.157095 | AF63: =AC63*Dane!$D$8 -> 108.31419
B64: =B63+1 -> 61 | C64: W | D64: Wiązka | E64: ZLS-1 | F64: 1369-R034014 | G64: R034014 | I64: 4.2 | J64: 0.01 | N64: 32.16774 | O64: 0 | P64: =(H64)*Dane!$C$14+(I64)*Dane!$C$15+(J64)*Dane!$C$16 -> 138.98 | Q64: =H64*Dane!$F$14+I64*Dane!$F$15++J64*Dane!$F$17 -> 21.05 | R64: =H64*Dane!$H$14+I64*Dane!$H$15+J64*Dane!$H$16+(H64+I64+J64)*Dane!$C$22 -> 303.12 | S64: =SUM(N64:R64) -> 495.31774 | T64: =IF(C64="W",S64*Dane!$D$2,S64*Dane!$H$2) -> 99.063548 | U64: =SUM(S64:T64) -> 594.38129 | V64: =IF(C64="W",S64*Dane!$C$23,S64*Dane!$C$23) -> 0 | W64: =IF(C64="W",(S64*Dane!$D$3)-V64,(S64*Dane!$H$3)-V64) -> 0 | X64: =SUM(U64:W64) -> 594.38129 | Y64: =X64*0.1 -> 59.438129 | Z64: =X64*0.2 -> 118.87626 | AA64: =SUM(X64:Y64) -> 653.81942 | AB64: =SUM(X64,Z64) -> 713.25755 | AC64: 853.9655 | AD64: =AC64*Dane!$D$6 -> 128.09482 | AE64: =AC64*Dane!$D$7 -> 256.18965 | AF64: =AC64*Dane!$D$8 -> 512.3793
B65: =B64+1 -> 62 | C65: W | D65: Wpust kablowy | E65: KFS,WAG | G65: R236178 | I65: 0.5 | J65: 0 | N65: 37.54245 | O65: 0 | P65: =(H65)*Dane!$C$14+(I65)*Dane!$C$15+(J65)*Dane!$C$16 -> 16.5 | Q65: =H65*Dane!$F$14+I65*Dane!$F$15++J65*Dane!$F$17 -> 2.5 | R65: =H65*Dane!$H$14+I65*Dane!$H$15+J65*Dane!$H$16+(H65+I65+J65)*Dane!$C$22 -> 36 | S65: =SUM(N65:R65) -> 92.54245 | T65: =IF(C65="W",S65*Dane!$D$2,S65*Dane!$H$2) -> 18.50849 | U65: =SUM(S65:T65) -> 111.05094 | V65: =IF(C65="W",S65*Dane!$C$23,S65*Dane!$C$23) -> 0 | W65: =IF(C65="W",(S65*Dane!$D$3)-V65,(S65*Dane!$H$3)-V65) -> 0 | X65: =SUM(U65:W65) -> 111.05094 | Y65: =X65*0.1 -> 11.105094 | Z65: =X65*0.2 -> 22.210188 | AA65: =SUM(X65:Y65) -> 122.15603 | AB65: =SUM(X65,Z65) -> 133.26113 | AC65: 177.13093 | AD65: =AC65*Dane!$D$6 -> 26.569639 | AE65: =AC65*Dane!$D$7 -> 53.139279 | AF65: =AC65*Dane!$D$8 -> 106.27856
B66: =B65+1 -> 63 | C66: W | D66: Zespół transformatora | E66: ZLS-1 | F66: 1369-R437122 | I66: 1.7 | J66: 0.1 | N66: 10.658835 | O66: 0 | P66: =(H66)*Dane!$C$14+(I66)*Dane!$C$15+(J66)*Dane!$C$16 -> 59.9 | Q66: =H66*Dane!$F$14+I66*Dane!$F$15++J66*Dane!$F$17 -> 9 | R66: =H66*Dane!$H$14+I66*Dane!$H$15+J66*Dane!$H$16+(H66+I66+J66)*Dane!$C$22 -> 129.6 | S66: =SUM(N66:R66) -> 209.15884 | T66: =IF(C66="W",S66*Dane!$D$2,S66*Dane!$H$2) -> 41.831767 | U66: =SUM(S66:T66) -> 250.9906 | V66: =IF(C66="W",S66*Dane!$C$23,S66*Dane!$C$23) -> 0 | W66: =IF(C66="W",(S66*Dane!$D$3)-V66,(S66*Dane!$H$3)-V66) -> 0 | X66: =SUM(U66:W66) -> 250.9906 | Y66: =X66*0.1 -> 25.09906 | Z66: =X66*0.2 -> 50.19812 | AA66: =SUM(X66:Y66) -> 276.08966 | AB66: =SUM(X66,Z66) -> 301.18872 | AC66: 347.80539 | AD66: =AC66*Dane!$D$6 -> 52.170809 | AE66: =AC66*Dane!$D$7 -> 104.34162 | AF66: =AC66*Dane!$D$8 -> 208.68324
B67: =B66+1 -> 64 | C67: W | D67: Zespół transformatora | E67: ZLS-1 | F67: 1369-R438135 | I67: 1.1 | J67: 0.01 | N67: 10.82994 | O67: 0 | P67: =(H67)*Dane!$C$14+(I67)*Dane!$C$15+(J67)*Dane!$C$16 -> 36.68 | Q67: =H67*Dane!$F$14+I67*Dane!$F$15++J67*Dane!$F$17 -> 5.55 | R67: =H67*Dane!$H$14+I67*Dane!$H$15+J67*Dane!$H$16+(H67+I67+J67)*Dane!$C$22 -> 79.92 | S67: =SUM(N67:R67) -> 132.97994 | T67: =IF(C67="W",S67*Dane!$D$2,S67*Dane!$H$2) -> 26.595988 | U67: =SUM(S67:T67) -> 159.57593 | V67: =IF(C67="W",S67*Dane!$C$23,S67*Dane!$C$23) -> 0 | W67: =IF(C67="W",(S67*Dane!$D$3)-V67,(S67*Dane!$H$3)-V67) -> 0 | X67: =SUM(U67:W67) -> 159.57593 | Y67: =X67*0.1 -> 15.957593 | Z67: =X67*0.2 -> 31.915186 | AA67: =SUM(X67:Y67) -> 175.53352 | AB67: =SUM(X67,Z67) -> 191.49111 | AC67: 227.66913 | AD67: =AC67*Dane!$D$6 -> 34.15037 | AE67: =AC67*Dane!$D$7 -> 68.30074 | AF67: =AC67*Dane!$D$8 -> 136.60148
B68: =B67+1 -> 65 | C68: W | D68: Zespół pokrywy | E68: ZS-05 | G68: R938065 | I68: 0.5 | J68: 0.5 | N68: 344.13242 | O68: 0 | P68: =(H68)*Dane!$C$14+(I68)*Dane!$C$15+(J68)*Dane!$C$16 -> 35.5 | Q68: =H68*Dane!$F$14+I68*Dane!$F$15++J68*Dane!$F$17 -> 5 | R68: =H68*Dane!$H$14+I68*Dane!$H$15+J68*Dane!$H$16+(H68+I68+J68)*Dane!$C$22 -> 72 | S68: =SUM(N68:R68) -> 456.63242 | T68: =IF(C68="W",S68*Dane!$D$2,S68*Dane!$H$2) -> 91.326483 | U68: =SUM(S68:T68) -> 547.9589 | V68: =IF(C68="W",S68*Dane!$C$23,S68*Dane!$C$23) -> 0 | W68: =IF(C68="W",(S68*Dane!$D$3)-V68,(S68*Dane!$H$3)-V68) -> 0 | X68: =SUM(U68:W68) -> 547.9589 | Y68: =X68*0.1 -> 54.79589 | Z68: =X68*0.2 -> 109.59178 | AA68: =SUM(X68:Y68) -> 602.75479 | AB68: =SUM(X68,Z68) -> 657.55068 | AC68: 971.596 | AD68: =AC68*Dane!$D$6 -> 145.7394 | AE68: =AC68*Dane!$D$7 -> 291.4788 | AF68: =AC68*Dane!$D$8 -> 582.9576
B69: =B68+1 -> 66 | C69: W | D69: Zespół elektroniki płytki MD-1 | E69: ZLS-2, ZLS-2a | G69: R425858, R525391 | I69: 0.5 | J69: 0 | N69: 3.60327 | O69: 0 | P69: =(H69)*Dane!$C$14+(I69)*Dane!$C$15+(J69)*Dane!$C$16 -> 16.5 | Q69: =H69*Dane!$F$14+I69*Dane!$F$15++J69*Dane!$F$17 -> 2.5 | R69: =H69*Dane!$H$14+I69*Dane!$H$15+J69*Dane!$H$16+(H69+I69+J69)*Dane!$C$22 -> 36 | S69: =SUM(N69:R69) -> 58.60327 | T69: =IF(C69="W",S69*Dane!$D$2,S69*Dane!$H$2) -> 11.720654 | U69: =SUM(S69:T69) -> 70.323924 | V69: =IF(C69="W",S69*Dane!$C$23,S69*Dane!$C$23) -> 0 | W69: =IF(C69="W",(S69*Dane!$D$3)-V69,(S69*Dane!$H$3)-V69) -> 0 | X69: =SUM(U69:W69) -> 70.323924 | Y69: =X69*0.1 -> 7.0323924 | Z69: =X69*0.2 -> 14.064785 | AA69: =SUM(X69:Y69) -> 77.356316 | AB69: =SUM(X69,Z69) -> 84.388709 | AC69: 98.898 | AD69: =AC69*Dane!$D$6 -> 14.8347 | AE69: =AC69*Dane!$D$7 -> 29.6694 | AF69: =AC69*Dane!$D$8 -> 59.3388
B70: =B69+1 -> 67 | C70: W | D70: Zespół elektroniki płytki MD-2 | E70: ZLS-2, ZLS-2a | G70: R425857 | I70: 0.5 | J70: 0 | N70: 12.92346 | O70: 0 | P70: =(H70)*Dane!$C$14+(I70)*Dane!$C$15+(J70)*Dane!$C$16 -> 16.5 | Q70: =H70*Dane!$F$14+I70*Dane!$F$15++J70*Dane!$F$17 -> 2.5 | R70: =H70*Dane!$H$14+I70*Dane!$H$15+J70*Dane!$H$16+(H70+I70+J70)*Dane!$C$22 -> 36 | S70: =SUM(N70:R70) -> 67.92346 | T70: =IF(C70="W",S70*Dane!$D$2,S70*Dane!$H$2) -> 13.584692 | U70: =SUM(S70:T70) -> 81.508152 | V70: =IF(C70="W",S70*Dane!$C$23,S70*Dane!$C$23) -> 0 | W70: =IF(C70="W",(S70*Dane!$D$3)-V70,(S70*Dane!$H$3)-V70) -> 0 | X70: =SUM(U70:W70) -> 81.508152 | Y70: =X70*0.1 -> 8.1508152 | Z70: =X70*0.2 -> 16.30163 | AA70: =SUM(X70:Y70) -> 89.658967 | AB70: =SUM(X70,Z70) -> 97.809782 | AC70: 127.518 | AD70: =AC70*Dane!$D$6 -> 19.1277 | AE70: =AC70*Dane!$D$7 -> 38.2554 | AF70: =AC70*Dane!$D$8 -> 76.5108
B71: =B70+1 -> 68 | C71: W | D71: Zespół elektroniki płytki MD-Wa | E71: ZLS-2, ZLS-2a | F71: 1361-R327115 | G71: R327115 R525389 | I71: 0.9 | J71: 0.05 | N71: 67.968945 | O71: 0 | P71: =(H71)*Dane!$C$14+(I71)*Dane!$C$15+(J71)*Dane!$C$16 -> 31.6 | Q71: =H71*Dane!$F$14+I71*Dane!$F$15++J71*Dane!$F$17 -> 4.75 | R71: =H71*Dane!$H$14+I71*Dane!$H$15+J71*Dane!$H$16+(H71+I71+J71)*Dane!$C$22 -> 68.4 | S71: =SUM(N71:R71) -> 172.71895 | T71: =IF(C71="W",S71*Dane!$D$2,S71*Dane!$H$2) -> 34.543789 | U71: =SUM(S71:T71) -> 207.26273 | V71: =IF(C71="W",S71*Dane!$C$23,S71*Dane!$C$23) -> 0 | W71: =IF(C71="W",(S71*Dane!$D$3)-V71,(S71*Dane!$H$3)-V71) -> 0 | X71: =SUM(U71:W71) -> 207.26273 | Y71: =X71*0.1 -> 20.726273 | Z71: =X71*0.2 -> 41.452547 | AA71: =SUM(X71:Y71) -> 227.98901 | AB71: =SUM(X71,Z71) -> 248.71528 | AC71: 290.864 | AD71: =AC71*Dane!$D$6 -> 43.6296 | AE71: =AC71*Dane!$D$7 -> 87.2592 | AF71: =AC71*Dane!$D$8 -> 174.5184
B72: =B71+1 -> 69 | C72: W | D72: Zespół elektroniki OI-2 | E72: ZLS-2i, ZLS-2i atex | F72: 1369-R525213/1369-R525409 | G72: R525213 R525409 | I72: 1 | J72: 0.01 | N72: 69.38811 | O72: 0 | P72: =(H72)*Dane!$C$14+(I72)*Dane!$C$15+(J72)*Dane!$C$16 -> 33.38 | Q72: =H72*Dane!$F$14+I72*Dane!$F$15++J72*Dane!$F$17 -> 5.05 | R72: =H72*Dane!$H$14+I72*Dane!$H$15+J72*Dane!$H$16+(H72+I72+J72)*Dane!$C$22 -> 72.72 | S72: =SUM(N72:R72) -> 180.53811 | T72: =IF(C72="W",S72*Dane!$D$2,S72*Dane!$H$2) -> 36.107622 | U72: =SUM(S72:T72) -> 216.64573 | V72: =IF(C72="W",S72*Dane!$C$23,S72*Dane!$C$23) -> 0 | W72: =IF(C72="W",(S72*Dane!$D$3)-V72,(S72*Dane!$H$3)-V72) -> 0 | X72: =SUM(U72:W72) -> 216.64573 | Y72: =X72*0.1 -> 21.664573 | Z72: =X72*0.2 -> 43.329146 | AA72: =SUM(X72:Y72) -> 238.31031 | AB72: =SUM(X72,Z72) -> 259.97488 | AC72: 404.072 | AD72: =AC72*Dane!$D$6 -> 60.6108 | AE72: =AC72*Dane!$D$7 -> 121.2216 | AF72: =AC72*Dane!$D$8 -> 242.4432
B73: =B72+1 -> 70 | C73: W | D73: Korpus M26x1,5 | E73: WAR | G73: R442182 | I73: 0.1 | J73: 0 | N73: 0 | O73: 0 | P73: =(H73)*Dane!$C$14+(I73)*Dane!$C$15+(J73)*Dane!$C$16 -> 3.3 | Q73: =H73*Dane!$F$14+I73*Dane!$F$15++J73*Dane!$F$17 -> 0.5 | R73: =H73*Dane!$H$14+I73*Dane!$H$15+J73*Dane!$H$16+(H73+I73+J73)*Dane!$C$22 -> 7.2 | S73: =SUM(N73:R73) -> 11 | T73: =IF(C73="W",S73*Dane!$D$2,S73*Dane!$H$2) -> 2.2 | U73: =SUM(S73:T73) -> 13.2 | V73: =IF(C73="W",S73*Dane!$C$23,S73*Dane!$C$23) -> 0 | W73: =IF(C73="W",(S73*Dane!$D$3)-V73,(S73*Dane!$H$3)-V73) -> 0 | X73: =SUM(U73:W73) -> 13.2 | Y73: =X73*0.1 -> 1.32 | Z73: =X73*0.2 -> 2.64 | AA73: =SUM(X73:Y73) -> 14.52 | AB73: =SUM(X73,Z73) -> 15.84 | AC73: 19.17972 | AD73: =AC73*Dane!$D$6 -> 2.876958 | AE73: =AC73*Dane!$D$7 -> 5.753916 | AF73: =AC73*Dane!$D$8 -> 11.507832
B74: =B73+1 -> 71 | C74: Z | D74: Korpus wpustu kpl W2/16-23 R236178 | E74: KFS-5,MK-4a | F74: 684-820-2170 | G74: R236178 | I74: 0 | J74: 0 | N74: 63.30885 | O74: 0 | P74: =(H74)*Dane!$C$14+(I74)*Dane!$C$15+(J74)*Dane!$C$16 -> 0 | Q74: =H74*Dane!$F$14+I74*Dane!$F$15++J74*Dane!$F$17 -> 0 | R74: =H74*Dane!$H$14+I74*Dane!$H$15+J74*Dane!$H$16+(H74+I74+J74)*Dane!$C$22 -> 0 | S74: =SUM(N74:R74) -> 63.30885 | T74: =IF(C74="W",S74*Dane!$D$2,S74*Dane!$H$2) -> 12.66177 | U74: =SUM(S74:T74) -> 75.97062 | V74: =IF(C74="W",S74*Dane!$C$23,S74*Dane!$C$23) -> 0 | W74: =IF(C74="W",(S74*Dane!$D$3)-V74,(S74*Dane!$H$3)-V74) -> 0 | X74: =SUM(U74:W74) -> 75.97062 | Y74: =X74*0.1 -> 7.597062 | Z74: =X74*0.2 -> 15.194124 | AA74: =SUM(X74:Y74) -> 83.567682 | AB74: =SUM(X74,Z74) -> 91.164744 | AC74: 160.696 | AD74: =AC74*Dane!$D$6 -> 24.1044 | AE74: =AC74*Dane!$D$7 -> 48.2088 | AF74: =AC74*Dane!$D$8 -> 96.4176
B75: =B74+1 -> 72 | C75: Z | D75: Mocownik wpustu kabl | E75: ZLS-2 | F75: 702-357-6342 | G75: R344044 wyk2 | I75: 0 | J75: 0 | N75: 15.64101 | O75: 0 | P75: =(H75)*Dane!$C$14+(I75)*Dane!$C$15+(J75)*Dane!$C$16 -> 0 | Q75: =H75*Dane!$F$14+I75*Dane!$F$15++J75*Dane!$F$17 -> 0 | R75: =H75*Dane!$H$14+I75*Dane!$H$15+J75*Dane!$H$16+(H75+I75+J75)*Dane!$C$22 -> 0 | S75: =SUM(N75:R75) -> 15.64101 | T75: =IF(C75="W",S75*Dane!$D$2,S75*Dane!$H$2) -> 3.128202 | U75: =SUM(S75:T75) -> 18.769212 | V75: =IF(C75="W",S75*Dane!$C$23,S75*Dane!$C$23) -> 0 | W75: =IF(C75="W",(S75*Dane!$D$3)-V75,(S75*Dane!$H$3)-V75) -> 0 | X75: =SUM(U75:W75) -> 18.769212 | Y75: =X75*0.1 -> 1.8769212 | Z75: =X75*0.2 -> 3.7538424 | AA75: =SUM(X75:Y75) -> 20.646133 | AB75: =SUM(X75,Z75) -> 22.523054 | AC75: 32.542 | AD75: =AC75*Dane!$D$6 -> 4.8813 | AE75: =AC75*Dane!$D$7 -> 9.7626 | AF75: =AC75*Dane!$D$8 -> 19.5252
B76: =B75+1 -> 73 | C76: W | D76: Moduł MZWa-m | E76: GTL-im | G76: R338647 R425235 | I76: 3 | J76: 0.5 | N76: 2466.1263 | O76: 0 | P76: =(H76)*Dane!$C$14+(I76)*Dane!$C$15+(J76)*Dane!$C$16 -> 118 | Q76: =H76*Dane!$F$14+I76*Dane!$F$15++J76*Dane!$F$17 -> 17.5 | R76: =H76*Dane!$H$14+I76*Dane!$H$15+J76*Dane!$H$16+(H76+I76+J76)*Dane!$C$22 -> 252 | S76: =SUM(N76:R76) -> 2853.6263 | T76: =IF(C76="W",S76*Dane!$D$2,S76*Dane!$H$2) -> 570.72526 | U76: =SUM(S76:T76) -> 3424.3516 | V76: =IF(C76="W",S76*Dane!$C$23,S76*Dane!$C$23) -> 0 | W76: =IF(C76="W",(S76*Dane!$D$3)-V76,(S76*Dane!$H$3)-V76) -> 0 | X76: =SUM(U76:W76) -> 3424.3516 | Y76: =X76*0.1 -> 342.43516 | Z76: =X76*0.2 -> 684.87031 | AA76: =SUM(X76:Y76) -> 3766.7867 | AB76: =SUM(X76,Z76) -> 4109.2219 | AC76: 4069.8284 | AD76: =AC76*Dane!$D$6 -> 610.47426 | AE76: =AC76*Dane!$D$7 -> 1220.9485 | AF76: =AC76*Dane!$D$8 -> 2441.897
B77: =B76+1 -> 74 | C77: W | D77: Moduł zasil-wzmacMZWa-z | E77: GTLi-z | G77: R338660 R327358 | I77: 1.5 | J77: 0.5 | N77: 220.78584 | O77: 0 | P77: =(H77)*Dane!$C$14+(I77)*Dane!$C$15+(J77)*Dane!$C$16 -> 68.5 | Q77: =H77*Dane!$F$14+I77*Dane!$F$15++J77*Dane!$F$17 -> 10 | R77: =H77*Dane!$H$14+I77*Dane!$H$15+J77*Dane!$H$16+(H77+I77+J77)*Dane!$C$22 -> 144 | S77: =SUM(N77:R77) -> 443.28584 | T77: =IF(C77="W",S77*Dane!$D$2,S77*Dane!$H$2) -> 88.657168 | U77: =SUM(S77:T77) -> 531.94301 | V77: =IF(C77="W",S77*Dane!$C$23,S77*Dane!$C$23) -> 0 | W77: =IF(C77="W",(S77*Dane!$D$3)-V77,(S77*Dane!$H$3)-V77) -> 0 | X77: =SUM(U77:W77) -> 531.94301 | Y77: =X77*0.1 -> 53.194301 | Z77: =X77*0.2 -> 106.3886 | AA77: =SUM(X77:Y77) -> 585.13731 | AB77: =SUM(X77,Z77) -> 638.33161 | AC77: 1467.358 | AD77: =AC77*Dane!$D$6 -> 220.1037 | AE77: =AC77*Dane!$D$7 -> 440.2074 | AF77: =AC77*Dane!$D$8 -> 880.4148
B78: =B77+1 -> 75 | C78: W | D78: Moduł MZW | E78: GTLw | F78: 1365-R937011.E | G78: R937011 | I78: 4 | J78: 0.1 | N78: 222.87936 | O78: 0 | P78: =(H78)*Dane!$C$14+(I78)*Dane!$C$15+(J78)*Dane!$C$16 -> 135.8 | Q78: =H78*Dane!$F$14+I78*Dane!$F$15++J78*Dane!$F$17 -> 20.5 | R78: =H78*Dane!$H$14+I78*Dane!$H$15+J78*Dane!$H$16+(H78+I78+J78)*Dane!$C$22 -> 295.2 | S78: =SUM(N78:R78) -> 674.37936 | T78: =IF(C78="W",S78*Dane!$D$2,S78*Dane!$H$2) -> 134.87587 | U78: =SUM(S78:T78) -> 809.25523 | V78: =IF(C78="W",S78*Dane!$C$23,S78*Dane!$C$23) -> 0 | W78: =IF(C78="W",(S78*Dane!$D$3)-V78,(S78*Dane!$H$3)-V78) -> 0 | X78: =SUM(U78:W78) -> 809.25523 | Y78: =X78*0.1 -> 80.925523 | Z78: =X78*0.2 -> 161.85105 | AA78: =SUM(X78:Y78) -> 890.18076 | AB78: =SUM(X78,Z78) -> 971.10628 | AC78: 1269.562 | AD78: =AC78*Dane!$D$6 -> 190.4343 | AE78: =AC78*Dane!$D$7 -> 380.8686 | AF78: =AC78*Dane!$D$8 -> 761.7372
B79: =B78+1 -> 76 | C79: W | D79: Moduł wzmacniacza | E79: UGM-11w | G79: R438263 | I79: 2.5 | J79: 0.5 | N79: 91.7928 | O79: 0 | P79: =(H79)*Dane!$C$14+(I79)*Dane!$C$15+(J79)*Dane!$C$16 -> 101.5 | Q79: =H79*Dane!$F$14+I79*Dane!$F$15++J79*Dane!$F$17 -> 15 | R79: =H79*Dane!$H$14+I79*Dane!$H$15+J79*Dane!$H$16+(H79+I79+J79)*Dane!$C$22 -> 216 | S79: =SUM(N79:R79) -> 424.2928 | T79: =IF(C79="W",S79*Dane!$D$2,S79*Dane!$H$2) -> 84.85856 | U79: =SUM(S79:T79) -> 509.15136 | V79: =IF(C79="W",S79*Dane!$C$23,S79*Dane!$C$23) -> 0 | W79: =IF(C79="W",(S79*Dane!$D$3)-V79,(S79*Dane!$H$3)-V79) -> 0 | X79: =SUM(U79:W79) -> 509.15136 | Y79: =X79*0.1 -> 50.915136 | Z79: =X79*0.2 -> 101.83027 | AA79: =SUM(X79:Y79) -> 560.0665 | AB79: =SUM(X79,Z79) -> 610.98163 | AC79: 743.802 | AD79: =AC79*Dane!$D$6 -> 111.5703 | AE79: =AC79*Dane!$D$7 -> 223.1406 | AF79: =AC79*Dane!$D$8 -> 446.2812
B80: =B79+1 -> 77 | C80: W | D80: Moduł M/UGM-22N | E80: UGM-22N | G80: R327472 | I80: 2.5 | J80: 0.5 | N80: 146.06328 | O80: 0 | P80: =(H80)*Dane!$C$14+(I80)*Dane!$C$15+(J80)*Dane!$C$16 -> 101.5 | Q80: =H80*Dane!$F$14+I80*Dane!$F$15++J80*Dane!$F$17 -> 15 | R80: =H80*Dane!$H$14+I80*Dane!$H$15+J80*Dane!$H$16+(H80+I80+J80)*Dane!$C$22 -> 216 | S80: =SUM(N80:R80) -> 478.56328 | T80: =IF(C80="W",S80*Dane!$D$2,S80*Dane!$H$2) -> 95.712656 | U80: =SUM(S80:T80) -> 574.27594 | V80: =IF(C80="W",S80*Dane!$C$23,S80*Dane!$C$23) -> 0 | W80: =IF(C80="W",(S80*Dane!$D$3)-V80,(S80*Dane!$H$3)-V80) -> 0 | X80: =SUM(U80:W80) -> 574.27594 | Y80: =X80*0.1 -> 57.427594 | Z80: =X80*0.2 -> 114.85519 | AA80: =SUM(X80:Y80) -> 631.70353 | AB80: =SUM(X80,Z80) -> 689.13112 | AC80: 902.378 | AD80: =AC80*Dane!$D$6 -> 135.3567 | AE80: =AC80*Dane!$D$7 -> 270.7134 | AF80: =AC80*Dane!$D$8 -> 541.4268
B81: =B80+1 -> 78 | C81: W | D81: Nakrętka wpustu kablkpl W2 | E81: KFS-5,MK-4a | G81: R236178 | I81: 0.5 | J81: 0.5 | N81: 38.075895 | O81: 0 | P81: =(H81)*Dane!$C$14+(I81)*Dane!$C$15+(J81)*Dane!$C$16 -> 35.5 | Q81: =H81*Dane!$F$14+I81*Dane!$F$15++J81*Dane!$F$17 -> 5 | R81: =H81*Dane!$H$14+I81*Dane!$H$15+J81*Dane!$H$16+(H81+I81+J81)*Dane!$C$22 -> 72 | S81: =SUM(N81:R81) -> 150.5759 | T81: =IF(C81="W",S81*Dane!$D$2,S81*Dane!$H$2) -> 30.115179 | U81: =SUM(S81:T81) -> 180.69107 | V81: =IF(C81="W",S81*Dane!$C$23,S81*Dane!$C$23) -> 0 | W81: =IF(C81="W",(S81*Dane!$D$3)-V81,(S81*Dane!$H$3)-V81) -> 0 | X81: =SUM(U81:W81) -> 180.69107 | Y81: =X81*0.1 -> 18.069107 | Z81: =X81*0.2 -> 36.138215 | AA81: =SUM(X81:Y81) -> 198.76018 | AB81: =SUM(X81,Z81) -> 216.82929 | AC81: 177.24378 | AD81: =AC81*Dane!$D$6 -> 26.586567 | AE81: =AC81*Dane!$D$7 -> 53.173134 | AF81: =AC81*Dane!$D$8 -> 106.34627
B82: =B81+1 -> 79 | C82: W | D82: Obudowa OPU | E82: ZLS-1 | G82: R237295 | I82: 12 | J82: 3 | N82: 125.0073 | O82: 85 | P82: =(H82)*Dane!$C$14+(I82)*Dane!$C$15+(J82)*Dane!$C$16 -> 510 | Q82: =H82*Dane!$F$14+I82*Dane!$F$15++J82*Dane!$F$17 -> 75 | R82: =H82*Dane!$H$14+I82*Dane!$H$15+J82*Dane!$H$16+(H82+I82+J82)*Dane!$C$22 -> 1080 | S82: =SUM(N82:R82) -> 1875.0073 | T82: =IF(C82="W",S82*Dane!$D$2,S82*Dane!$H$2) -> 375.00146 | U82: =SUM(S82:T82) -> 2250.0088 | V82: =IF(C82="W",S82*Dane!$C$23,S82*Dane!$C$23) -> 0 | W82: =IF(C82="W",(S82*Dane!$D$3)-V82,(S82*Dane!$H$3)-V82) -> 0 | X82: =SUM(U82:W82) -> 2250.0088 | Y82: =X82*0.1 -> 225.00088 | Z82: =X82*0.2 -> 450.00175 | AA82: =SUM(X82:Y82) -> 2475.0096 | AB82: =SUM(X82,Z82) -> 2700.0105 | AC82: 2796.5982 | AD82: =AC82*Dane!$D$6 -> 419.48974 | AE82: =AC82*Dane!$D$7 -> 838.97947 | AF82: =AC82*Dane!$D$8 -> 1677.9589
B83: =B82+1 -> 80 | C83: Z | D83: Płyta czołowa | E83: ZLS-1 | F83: 5112-R341091 | G83: R341091 | I83: 0 | J83: 0 | N83: 206.08087 | O83: 0 | P83: =(H83)*Dane!$C$14+(I83)*Dane!$C$15+(J83)*Dane!$C$16 -> 0 | Q83: =H83*Dane!$F$14+I83*Dane!$F$15++J83*Dane!$F$17 -> 0 | R83: =H83*Dane!$H$14+I83*Dane!$H$15+J83*Dane!$H$16+(H83+I83+J83)*Dane!$C$22 -> 0 | S83: =SUM(N83:R83) -> 206.08087 | T83: =IF(C83="W",S83*Dane!$D$2,S83*Dane!$H$2) -> 41.216175 | U83: =SUM(S83:T83) -> 247.29705 | V83: =IF(C83="W",S83*Dane!$C$23,S83*Dane!$C$23) -> 0 | W83: =IF(C83="W",(S83*Dane!$D$3)-V83,(S83*Dane!$H$3)-V83) -> 0 | X83: =SUM(U83:W83) -> 247.29705 | Y83: =X83*0.1 -> 24.729705 | Z83: =X83*0.2 -> 49.45941 | AA83: =SUM(X83:Y83) -> 272.02675 | AB83: =SUM(X83,Z83) -> 296.75646 | AC83: 507.104 | AD83: =AC83*Dane!$D$6 -> 76.0656 | AE83: =AC83*Dane!$D$7 -> 152.1312 | AF83: =AC83*Dane!$D$8 -> 304.2624
B84: =B83+1 -> 81 | C84: Z | D84: Płyta czołowa | E84: ZLS-2, 2w, 2i | F84: 5112-R346083.R341156 | G84: R346083 R341156 | I84: 0 | J84: 0 | N84: 176.48977 | O84: 0 | P84: =(H84)*Dane!$C$14+(I84)*Dane!$C$15+(J84)*Dane!$C$16 -> 0 | Q84: =H84*Dane!$F$14+I84*Dane!$F$15++J84*Dane!$F$17 -> 0 | R84: =H84*Dane!$H$14+I84*Dane!$H$15+J84*Dane!$H$16+(H84+I84+J84)*Dane!$C$22 -> 0 | S84: =SUM(N84:R84) -> 176.48977 | T84: =IF(C84="W",S84*Dane!$D$2,S84*Dane!$H$2) -> 35.297955 | U84: =SUM(S84:T84) -> 211.78773 | V84: =IF(C84="W",S84*Dane!$C$23,S84*Dane!$C$23) -> 0 | W84: =IF(C84="W",(S84*Dane!$D$3)-V84,(S84*Dane!$H$3)-V84) -> 0 | X84: =SUM(U84:W84) -> 211.78773 | Y84: =X84*0.1 -> 21.178773 | Z84: =X84*0.2 -> 42.357546 | AA84: =SUM(X84:Y84) -> 232.9665 | AB84: =SUM(X84,Z84) -> 254.14528 | AC84: 330.508 | AD84: =AC84*Dane!$D$6 -> 49.5762 | AE84: =AC84*Dane!$D$7 -> 99.1524 | AF84: =AC84*Dane!$D$8 -> 198.3048
B85: =B84+1 -> 82 | C85: W | D85: Płytka czujników ruchu MWP | E85: ZS-05 | F85: 5131-R525507 | G85: R525507 | I85: 0.5 | J85: 0.01 | N85: 3.271125 | O85: 0 | P85: =(H85)*Dane!$C$14+(I85)*Dane!$C$15+(J85)*Dane!$C$16 -> 16.88 | Q85: =H85*Dane!$F$14+I85*Dane!$F$15++J85*Dane!$F$17 -> 2.55 | R85: =H85*Dane!$H$14+I85*Dane!$H$15+J85*Dane!$H$16+(H85+I85+J85)*Dane!$C$22 -> 36.72 | S85: =SUM(N85:R85) -> 59.421125 | T85: =IF(C85="W",S85*Dane!$D$2,S85*Dane!$H$2) -> 11.884225 | U85: =SUM(S85:T85) -> 71.30535 | V85: =IF(C85="W",S85*Dane!$C$23,S85*Dane!$C$23) -> 0 | W85: =IF(C85="W",(S85*Dane!$D$3)-V85,(S85*Dane!$H$3)-V85) -> 0 | X85: =SUM(U85:W85) -> 71.30535 | Y85: =X85*0.1 -> 7.130535 | Z85: =X85*0.2 -> 14.26107 | AA85: =SUM(X85:Y85) -> 78.435885 | AB85: =SUM(X85,Z85) -> 85.56642 | AC85: 333.264 | AD85: =AC85*Dane!$D$6 -> 49.9896 | AE85: =AC85*Dane!$D$7 -> 99.9792 | AF85: =AC85*Dane!$D$8 -> 199.9584
B86: =B85+1 -> 83 | C86: W | D86: Płytka FBM | E86: ZS-05 | G86: R525517 | I86: 0.5 | J86: 0 | N86: 18.66051 | O86: 0 | P86: =(H86)*Dane!$C$14+(I86)*Dane!$C$15+(J86)*Dane!$C$16 -> 16.5 | Q86: =H86*Dane!$F$14+I86*Dane!$F$15++J86*Dane!$F$17 -> 2.5 | R86: =H86*Dane!$H$14+I86*Dane!$H$15+J86*Dane!$H$16+(H86+I86+J86)*Dane!$C$22 -> 36 | S86: =SUM(N86:R86) -> 73.66051 | T86: =IF(C86="W",S86*Dane!$D$2,S86*Dane!$H$2) -> 14.732102 | U86: =SUM(S86:T86) -> 88.392612 | V86: =IF(C86="W",S86*Dane!$C$23,S86*Dane!$C$23) -> 0 | W86: =IF(C86="W",(S86*Dane!$D$3)-V86,(S86*Dane!$H$3)-V86) -> 0 | X86: =SUM(U86:W86) -> 88.392612 | Y86: =X86*0.1 -> 8.8392612 | Z86: =X86*0.2 -> 17.678522 | AA86: =SUM(X86:Y86) -> 97.231873 | AB86: =SUM(X86,Z86) -> 106.07113 | AC86: 156.88 | AD86: =AC86*Dane!$D$6 -> 23.532 | AE86: =AC86*Dane!$D$7 -> 47.064 | AF86: =AC86*Dane!$D$8 -> 94.128
B87: =B86+1 -> 84 | C87: W | D87: Płytka identyfikacji modułu MWP | E87: ZS-05 | G87: R525506 | I87: 1 | J87: 0 | N87: 53.737035 | O87: 0 | P87: =(H87)*Dane!$C$14+(I87)*Dane!$C$15+(J87)*Dane!$C$16 -> 33 | Q87: =H87*Dane!$F$14+I87*Dane!$F$15++J87*Dane!$F$17 -> 5 | R87: =H87*Dane!$H$14+I87*Dane!$H$15+J87*Dane!$H$16+(H87+I87+J87)*Dane!$C$22 -> 72 | S87: =SUM(N87:R87) -> 163.73703 | T87: =IF(C87="W",S87*Dane!$D$2,S87*Dane!$H$2) -> 32.747407 | U87: =SUM(S87:T87) -> 196.48444 | V87: =IF(C87="W",S87*Dane!$C$23,S87*Dane!$C$23) -> 0 | W87: =IF(C87="W",(S87*Dane!$D$3)-V87,(S87*Dane!$H$3)-V87) -> 0 | X87: =SUM(U87:W87) -> 196.48444 | Y87: =X87*0.1 -> 19.648444 | Z87: =X87*0.2 -> 39.296888 | AA87: =SUM(X87:Y87) -> 216.13289 | AB87: =SUM(X87,Z87) -> 235.78133 | AC87: 347.15 | AD87: =AC87*Dane!$D$6 -> 52.0725 | AE87: =AC87*Dane!$D$7 -> 104.145 | AF87: =AC87*Dane!$D$8 -> 208.29
B88: =B87+1 -> 85 | C88: W | D88: Płytka kpl D | E88: GTLw | G88: R424746 R525568 | I88: 0.5 | J88: 0 | N88: 57.360435 | O88: 0 | P88: =(H88)*Dane!$C$14+(I88)*Dane!$C$15+(J88)*Dane!$C$16 -> 16.5 | Q88: =H88*Dane!$F$14+I88*Dane!$F$15++J88*Dane!$F$17 -> 2.5 | R88: =H88*Dane!$H$14+I88*Dane!$H$15+J88*Dane!$H$16+(H88+I88+J88)*Dane!$C$22 -> 36 | S88: =SUM(N88:R88) -> 112.36043 | T88: =IF(C88="W",S88*Dane!$D$2,S88*Dane!$H$2) -> 22.472087 | U88: =SUM(S88:T88) -> 134.83252 | V88: =IF(C88="W",S88*Dane!$C$23,S88*Dane!$C$23) -> 0 | W88: =IF(C88="W",(S88*Dane!$D$3)-V88,(S88*Dane!$H$3)-V88) -> 0 | X88: =SUM(U88:W88) -> 134.83252 | Y88: =X88*0.1 -> 13.483252 | Z88: =X88*0.2 -> 26.966504 | AA88: =SUM(X88:Y88) -> 148.31577 | AB88: =SUM(X88,Z88) -> 161.79903 | AC88: 247.616 | AD88: =AC88*Dane!$D$6 -> 37.1424 | AE88: =AC88*Dane!$D$7 -> 74.2848 | AF88: =AC88*Dane!$D$8 -> 148.5696
B89: =B88+1 -> 86 | C89: W | D89: Płytka kpl PZL-13 | E89: GTLw | F89: 1365-R525570 | G89: R525570 | I89: 1.2 | J89: 0.05 | N89: 53.40489 | O89: 0 | P89: =(H89)*Dane!$C$14+(I89)*Dane!$C$15+(J89)*Dane!$C$16 -> 41.5 | Q89: =H89*Dane!$F$14+I89*Dane!$F$15++J89*Dane!$F$17 -> 6.25 | R89: =H89*Dane!$H$14+I89*Dane!$H$15+J89*Dane!$H$16+(H89+I89+J89)*Dane!$C$22 -> 90 | S89: =SUM(N89:R89) -> 191.15489 | T89: =IF(C89="W",S89*Dane!$D$2,S89*Dane!$H$2) -> 38.230978 | U89: =SUM(S89:T89) -> 229.38587 | V89: =IF(C89="W",S89*Dane!$C$23,S89*Dane!$C$23) -> 0 | W89: =IF(C89="W",(S89*Dane!$D$3)-V89,(S89*Dane!$H$3)-V89) -> 0 | X89: =SUM(U89:W89) -> 229.38587 | Y89: =X89*0.1 -> 22.938587 | Z89: =X89*0.2 -> 45.877174 | AA89: =SUM(X89:Y89) -> 252.32445 | AB89: =SUM(X89,Z89) -> 275.26304 | AC89: 333.264 | AD89: =AC89*Dane!$D$6 -> 49.9896 | AE89: =AC89*Dane!$D$7 -> 99.9792 | AF89: =AC89*Dane!$D$8 -> 199.9584
B90: =B89+1 -> 87 | C90: W | D90: Płytka VCM | E90: ZS-05 | G90: R525518 | I90: 1 | J90: 0.5 | N90: 117.60952 | O90: 0 | P90: =(H90)*Dane!$C$14+(I90)*Dane!$C$15+(J90)*Dane!$C$16 -> 52 | Q90: =H90*Dane!$F$14+I90*Dane!$F$15++J90*Dane!$F$17 -> 7.5 | R90: =H90*Dane!$H$14+I90*Dane!$H$15+J90*Dane!$H$16+(H90+I90+J90)*Dane!$C$22 -> 108 | S90: =SUM(N90:R90) -> 285.10952 | T90: =IF(C90="W",S90*Dane!$D$2,S90*Dane!$H$2) -> 57.021905 | U90: =SUM(S90:T90) -> 342.13143 | V90: =IF(C90="W",S90*Dane!$C$23,S90*Dane!$C$23) -> 0 | W90: =IF(C90="W",(S90*Dane!$D$3)-V90,(S90*Dane!$H$3)-V90) -> 0 | X90: =SUM(U90:W90) -> 342.13143 | Y90: =X90*0.1 -> 34.213143 | Z90: =X90*0.2 -> 68.426286 | AA90: =SUM(X90:Y90) -> 376.34457 | AB90: =SUM(X90,Z90) -> 410.55772 | AC90: 550.882 | AD90: =AC90*Dane!$D$6 -> 82.6323 | AE90: =AC90*Dane!$D$7 -> 165.2646 | AF90: =AC90*Dane!$D$8 -> 330.5292
B91: =B90+1 -> 88 | C91: W | D91: Płytka wejść diodowych | E91: ZS-05 | G91: R525510 | I91: 0.5 | J91: 0.5 | N91: 86.025555 | O91: 0 | P91: =(H91)*Dane!$C$14+(I91)*Dane!$C$15+(J91)*Dane!$C$16 -> 35.5 | Q91: =H91*Dane!$F$14+I91*Dane!$F$15++J91*Dane!$F$17 -> 5 | R91: =H91*Dane!$H$14+I91*Dane!$H$15+J91*Dane!$H$16+(H91+I91+J91)*Dane!$C$22 -> 72 | S91: =SUM(N91:R91) -> 198.52555 | T91: =IF(C91="W",S91*Dane!$D$2,S91*Dane!$H$2) -> 39.705111 | U91: =SUM(S91:T91) -> 238.23067 | V91: =IF(C91="W",S91*Dane!$C$23,S91*Dane!$C$23) -> 0 | W91: =IF(C91="W",(S91*Dane!$D$3)-V91,(S91*Dane!$H$3)-V91) -> 0 | X91: =SUM(U91:W91) -> 238.23067 | Y91: =X91*0.1 -> 23.823067 | Z91: =X91*0.2 -> 47.646133 | AA91: =SUM(X91:Y91) -> 262.05373 | AB91: =SUM(X91,Z91) -> 285.8768 | AC91: 391.14 | AD91: =AC91*Dane!$D$6 -> 58.671 | AE91: =AC91*Dane!$D$7 -> 117.342 | AF91: =AC91*Dane!$D$8 -> 234.684
B92: =B91+1 -> 89 | C92: W | D92: Pokrywa | E92: ZS-05 | G92: R938067 | I92: 2 | J92: 1 | N92: 55.01529 | O92: 0 | P92: =(H92)*Dane!$C$14+(I92)*Dane!$C$15+(J92)*Dane!$C$16 -> 104 | Q92: =H92*Dane!$F$14+I92*Dane!$F$15++J92*Dane!$F$17 -> 15 | R92: =H92*Dane!$H$14+I92*Dane!$H$15+J92*Dane!$H$16+(H92+I92+J92)*Dane!$C$22 -> 216 | S92: =SUM(N92:R92) -> 390.01529 | T92: =IF(C92="W",S92*Dane!$D$2,S92*Dane!$H$2) -> 78.003058 | U92: =SUM(S92:T92) -> 468.01835 | V92: =IF(C92="W",S92*Dane!$C$23,S92*Dane!$C$23) -> 0 | W92: =IF(C92="W",(S92*Dane!$D$3)-V92,(S92*Dane!$H$3)-V92) -> 0 | X92: =SUM(U92:W92) -> 468.01835 | Y92: =X92*0.1 -> 46.801835 | Z92: =X92*0.2 -> 93.60367 | AA92: =SUM(X92:Y92) -> 514.82018 | AB92: =SUM(X92,Z92) -> 561.62202 | AC92: 535.07173 | AD92: =AC92*Dane!$D$6 -> 80.26076 | AE92: =AC92*Dane!$D$7 -> 160.52152 | AF92: =AC92*Dane!$D$8 -> 321.04304
B93: =B92+1 -> 90 | C93: W | D93: Pokrywa kpl | E93: ZS-05 | G93: R938066 | I93: 2.5 | J93: 0.5 | N93: 75.014445 | O93: 0 | P93: =(H93)*Dane!$C$14+(I93)*Dane!$C$15+(J93)*Dane!$C$16 -> 101.5 | Q93: =H93*Dane!$F$14+I93*Dane!$F$15++J93*Dane!$F$17 -> 15 | R93: =H93*Dane!$H$14+I93*Dane!$H$15+J93*Dane!$H$16+(H93+I93+J93)*Dane!$C$22 -> 216 | S93: =SUM(N93:R93) -> 407.51445 | T93: =IF(C93="W",S93*Dane!$D$2,S93*Dane!$H$2) -> 81.502889 | U93: =SUM(S93:T93) -> 489.01733 | V93: =IF(C93="W",S93*Dane!$C$23,S93*Dane!$C$23) -> 0 | W93: =IF(C93="W",(S93*Dane!$D$3)-V93,(S93*Dane!$H$3)-V93) -> 0 | X93: =SUM(U93:W93) -> 489.01733 | Y93: =X93*0.1 -> 48.901733 | Z93: =X93*0.2 -> 97.803467 | AA93: =SUM(X93:Y93) -> 537.91907 | AB93: =SUM(X93,Z93) -> 586.8208 | AC93: 626.89483 | AD93: =AC93*Dane!$D$6 -> 94.034224 | AE93: =AC93*Dane!$D$7 -> 188.06845 | AF93: =AC93*Dane!$D$8 -> 376.1369
B94: =B93+1 -> 91 | C94: W | D94: Pokrywa kpl | E94: KFS-5i | G94: R338980 | I94: 1 | J94: 0 | N94: 37.13985 | O94: 0 | P94: =(H94)*Dane!$C$14+(I94)*Dane!$C$15+(J94)*Dane!$C$16 -> 33 | Q94: =H94*Dane!$F$14+I94*Dane!$F$15++J94*Dane!$F$17 -> 5 | R94: =H94*Dane!$H$14+I94*Dane!$H$15+J94*Dane!$H$16+(H94+I94+J94)*Dane!$C$22 -> 72 | S94: =SUM(N94:R94) -> 147.13985 | T94: =IF(C94="W",S94*Dane!$D$2,S94*Dane!$H$2) -> 29.42797 | U94: =SUM(S94:T94) -> 176.56782 | V94: =IF(C94="W",S94*Dane!$C$23,S94*Dane!$C$23) -> 0 | W94: =IF(C94="W",(S94*Dane!$D$3)-V94,(S94*Dane!$H$3)-V94) -> 0 | X94: =SUM(U94:W94) -> 176.56782 | Y94: =X94*0.1 -> 17.656782 | Z94: =X94*0.2 -> 35.313564 | AA94: =SUM(X94:Y94) -> 194.2246 | AB94: =SUM(X94,Z94) -> 211.88138 | AC94: 236.85168 | AD94: =AC94*Dane!$D$6 -> 35.527752 | AE94: =AC94*Dane!$D$7 -> 71.055504 | AF94: =AC94*Dane!$D$8 -> 142.11101
B95: =B94+1 -> 92 | C95: W | D95: Pokrywa kpl | E95: GTL-iz | G95: R238254 R327250 | I95: 1.5 | J95: 0 | N95: 336.9762 | O95: 0 | P95: =(H95)*Dane!$C$14+(I95)*Dane!$C$15+(J95)*Dane!$C$16 -> 49.5 | Q95: =H95*Dane!$F$14+I95*Dane!$F$15++J95*Dane!$F$17 -> 7.5 | R95: =H95*Dane!$H$14+I95*Dane!$H$15+J95*Dane!$H$16+(H95+I95+J95)*Dane!$C$22 -> 108 | S95: =SUM(N95:R95) -> 501.9762 | T95: =IF(C95="W",S95*Dane!$D$2,S95*Dane!$H$2) -> 100.39524 | U95: =SUM(S95:T95) -> 602.37144 | V95: =IF(C95="W",S95*Dane!$C$23,S95*Dane!$C$23) -> 0 | W95: =IF(C95="W",(S95*Dane!$D$3)-V95,(S95*Dane!$H$3)-V95) -> 0 | X95: =SUM(U95:W95) -> 602.37144 | Y95: =X95*0.1 -> 60.237144 | Z95: =X95*0.2 -> 120.47429 | AA95: =SUM(X95:Y95) -> 662.60858 | AB95: =SUM(X95,Z95) -> 722.84573 | AC95: 1348.214 | AD95: =AC95*Dane!$D$6 -> 202.2321 | AE95: =AC95*Dane!$D$7 -> 404.4642 | AF95: =AC95*Dane!$D$8 -> 808.9284
B96: =B95+1 -> 93 | C96: W | D96: Pokrywa kpl | E96: UGM-11W | F96: 1365-R938081,R327238 | G96: R938081 | I96: 1.5 | J96: 0.1 | N96: 379.64173 | O96: 0 | P96: =(H96)*Dane!$C$14+(I96)*Dane!$C$15+(J96)*Dane!$C$16 -> 53.3 | Q96: =H96*Dane!$F$14+I96*Dane!$F$15++J96*Dane!$F$17 -> 8 | R96: =H96*Dane!$H$14+I96*Dane!$H$15+J96*Dane!$H$16+(H96+I96+J96)*Dane!$C$22 -> 115.2 | S96: =SUM(N96:R96) -> 556.14174 | T96: =IF(C96="W",S96*Dane!$D$2,S96*Dane!$H$2) -> 111.22835 | U96: =SUM(S96:T96) -> 667.37008 | V96: =IF(C96="W",S96*Dane!$C$23,S96*Dane!$C$23) -> 0 | W96: =IF(C96="W",(S96*Dane!$D$3)-V96,(S96*Dane!$H$3)-V96) -> 0 | X96: =SUM(U96:W96) -> 667.37008 | Y96: =X96*0.1 -> 66.737008 | Z96: =X96*0.2 -> 133.47402 | AA96: =SUM(X96:Y96) -> 734.10709 | AB96: =SUM(X96,Z96) -> 800.8441 | AC96: 1003.82 | AD96: =AC96*Dane!$D$6 -> 150.573 | AE96: =AC96*Dane!$D$7 -> 301.146 | AF96: =AC96*Dane!$D$8 -> 602.292
B97: =B96+1 -> 94 | C97: W | D97: PF-Przycisk sterowniczy MPS-2 wyk.I NO | E97: ZLS | F97: 1362-R405381.WYK.I NO | G97: R405381 K336011/2 | I97: 0.4 | J97: 0 | N97: 39.505125 | O97: 0 | P97: =(H97)*Dane!$C$14+(I97)*Dane!$C$15+(J97)*Dane!$C$16 -> 13.2 | Q97: =H97*Dane!$F$14+I97*Dane!$F$15++J97*Dane!$F$17 -> 2 | R97: =H97*Dane!$H$14+I97*Dane!$H$15+J97*Dane!$H$16+(H97+I97+J97)*Dane!$C$22 -> 28.8 | S97: =SUM(N97:R97) -> 83.505125 | T97: =IF(C97="W",S97*Dane!$D$2,S97*Dane!$H$2) -> 16.701025 | U97: =SUM(S97:T97) -> 100.20615 | V97: =IF(C97="W",S97*Dane!$C$23,S97*Dane!$C$23) -> 0 | W97: =IF(C97="W",(S97*Dane!$D$3)-V97,(S97*Dane!$H$3)-V97) -> 0 | X97: =SUM(U97:W97) -> 100.20615 | Y97: =X97*0.1 -> 10.020615 | Z97: =X97*0.2 -> 20.04123 | AA97: =SUM(X97:Y97) -> 110.22677 | AB97: =SUM(X97,Z97) -> 120.24738 | AC97: 216 | AD97: =AC97*Dane!$D$6 -> 32.4 | AE97: =AC97*Dane!$D$7 -> 64.8 | AF97: =AC97*Dane!$D$8 -> 129.6
B98: =B97+1 -> 95 | C98: W | D98: Wskaznik WDK-1 | E98: ZLS,IZS | F98: 1361-R405235,R436014 | G98: R405235 R436014 | I98: 0.23 | J98: 0.05 | N98: 9.38058 | O98: 0 | P98: =(H98)*Dane!$C$14+(I98)*Dane!$C$15+(J98)*Dane!$C$16 -> 9.49 | Q98: =H98*Dane!$F$14+I98*Dane!$F$15++J98*Dane!$F$17 -> 1.4 | R98: =H98*Dane!$H$14+I98*Dane!$H$15+J98*Dane!$H$16+(H98+I98+J98)*Dane!$C$22 -> 20.16 | S98: =SUM(N98:R98) -> 40.43058 | T98: =IF(C98="W",S98*Dane!$D$2,S98*Dane!$H$2) -> 8.086116 | U98: =SUM(S98:T98) -> 48.516696 | V98: =IF(C98="W",S98*Dane!$C$23,S98*Dane!$C$23) -> 0 | W98: =IF(C98="W",(S98*Dane!$D$3)-V98,(S98*Dane!$H$3)-V98) -> 0 | X98: =SUM(U98:W98) -> 48.516696 | Y98: =X98*0.1 -> 4.8516696 | Z98: =X98*0.2 -> 9.7033392 | AA98: =SUM(X98:Y98) -> 53.368366 | AB98: =SUM(X98,Z98) -> 58.220035 | AC98: 154.972 | AD98: =AC98*Dane!$D$6 -> 23.2458 | AE98: =AC98*Dane!$D$7 -> 46.4916 | AF98: =AC98*Dane!$D$8 -> 92.9832
B99: =B98+1 -> 96 | C99: W | D99: Zespół blokady | E99: KFS-5i | G99: R437439 | I99: 1 | J99: 0.5 | N99: 5.4351 | O99: 0 | P99: =(H99)*Dane!$C$14+(I99)*Dane!$C$15+(J99)*Dane!$C$16 -> 52 | Q99: =H99*Dane!$F$14+I99*Dane!$F$15++J99*Dane!$F$17 -> 7.5 | R99: =H99*Dane!$H$14+I99*Dane!$H$15+J99*Dane!$H$16+(H99+I99+J99)*Dane!$C$22 -> 108 | S99: =SUM(N99:R99) -> 172.9351 | T99: =IF(C99="W",S99*Dane!$D$2,S99*Dane!$H$2) -> 34.58702 | U99: =SUM(S99:T99) -> 207.52212 | V99: =IF(C99="W",S99*Dane!$C$23,S99*Dane!$C$23) -> 0 | W99: =IF(C99="W",(S99*Dane!$D$3)-V99,(S99*Dane!$H$3)-V99) -> 0 | X99: =SUM(U99:W99) -> 207.52212 | Y99: =X99*0.1 -> 20.752212 | Z99: =X99*0.2 -> 41.504424 | AA99: =SUM(X99:Y99) -> 228.27433 | AB99: =SUM(X99,Z99) -> 249.02654 | AC99: 230.47936 | AD99: =AC99*Dane!$D$6 -> 34.571904 | AE99: =AC99*Dane!$D$7 -> 69.143808 | AF99: =AC99*Dane!$D$8 -> 138.28762
