Workbook
Name OLE_LINK1: EH!#REF!
Name OLE_LINK1: 'II_Części zamienne'!#REF!
Name OLE_LINK1: III_Automatyka!#REF!
Name OLE_LINK1: 'IV_Urządzenia strzałowe'!$AC$4
Name OLE_LINK1: 'VIII_Części RSPC'!#REF!

Sheet EH
A1: CENNIK ISTOTNYCH DLA ZAMAWIAJĄCEGO NOWYCH CZĘŚCI ZAMIENNYCH
A2: Lp. | B2: Cennik części zamiennych i podzespołów nowych - 2020 i 2021r | C2: Typ | D2: Indeks | E2: Nr Rysunku | F2: Rbh wyrób | I2: Rbh półwyroby | L2: Wycena 2019 | AA2: Cena jednostkowa netto [PLN/JM] | AB2: Usługi wycena 2019
A3: 1 | B3: Dławik gumowy Wkd… Wkd | D3: 700-161-0001 ÷ 700-161-0020 | L3: 10 | N3: =(M3-L3)/L3 -> -1 | O3: 0 | P3: =F3*Dane!$C$14+G3*Dane!$C$15+H3*Dane!$C$17 -> 0 | Q3: =F3*Dane!$F$14+G3*Dane!$F$15+H3*Dane!$F$17 -> 0 | R3: =F3*Dane!$H$14+G3*Dane!$H$15+H3*Dane!$H$16+(F3+G3+H3)*Dane!$C$22 -> 0 | S3: =SUM(L3,O3:R3) -> 10 | T3: =S3*Dane!$D$2 -> 2 | U3: 0 | V3: =SUM(S3:U3) -> 12 | W3: =V3*0.1 -> 1.2 | X3: =V3*0.2 -> 2.4 | Y3: =SUM(V3:W3) -> 13.2 | Z3: =SUM(V3,X3) -> 14.4 | AB3: =IFERROR(IF(#REF!="W",$AA3*Dane!$D$6,"-"),"-") -> - | AC3: =IFERROR(IF(#REF!="W",$AA3*Dane!$D$7,"-"),"-") -> - | AD3: =IFERROR(IF(#REF!="W",$AA3*Dane!$D$8,"-"),"-") -> -
A4: 2 | B4: Gniazdo EA-2 / ZLS | D4: 729-318-0410 | L4: 113.006 | M4: =VLOOKUP($D4,Materiał!$B$2:$E$1153,3,0) -> 113.006 | N4: =(M4-L4)/L4 -> 0 | O4: 0 | P4: =F4*Dane!$C$14+G4*Dane!$C$15+H4*Dane!$C$17 -> 0 | Q4: =F4*Dane!$F$14+G4*Dane!$F$15+H4*Dane!$F$17 -> 0 | R4: =F4*Dane!$H$14+G4*Dane!$H$15+H4*Dane!$H$16+(F4+G4+H4)*Dane!$C$22 -> 0 | S4: =SUM(L4,O4:R4) -> 113.006 | T4: =S4*Dane!$D$2 -> 22.6012 | U4: 0 | V4: =SUM(S4:U4) -> 135.6072 | W4: =V4*0.1 -> 13.56072 | X4: =V4*0.2 -> 27.12144 | Y4: =SUM(V4:W4) -> 149.16792 | Z4: =SUM(V4,X4) -> 162.72864 | AB4: =IFERROR(IF(#REF!="W",$AA4*Dane!$D$6,"-"),"-") -> - | AC4: =IFERROR(IF(#REF!="W",$AA4*Dane!$D$7,"-"),"-") -> - | AD4: =IFERROR(IF(#REF!="W",$AA4*Dane!$D$8,"-"),"-") -> -
A5: 3 | B5: Izolator prądowy przepustowy E16-M42 (C40) (2000V 450A),zacisk przyłączeniowy P18-1A (Ag) | C5: =MID(B5,FIND("E1",B5,1),50) -> E16-M42 (C40) (2000V 450A),zacisk przyłączeniowy P | D5: 687-471-0140 | L5: 397.5675 | M5: =VLOOKUP($D5,Materiał!$B$2:$E$1153,3,0) -> 332.5 | N5: =(M5-L5)/L5 -> -0.16366403 | O5: 0 | P5: =F5*Dane!$C$14+G5*Dane!$C$15+H5*Dane!$C$17 -> 0 | Q5: =F5*Dane!$F$14+G5*Dane!$F$15+H5*Dane!$F$17 -> 0 | R5: =F5*Dane!$H$14+G5*Dane!$H$15+H5*Dane!$H$16+(F5+G5+H5)*Dane!$C$22 -> 0 | S5: =SUM(L5,O5:R5) -> 397.5675 | T5: =S5*Dane!$D$2 -> 79.5135 | U5: 0 | V5: =SUM(S5:U5) -> 477.081 | W5: =V5*0.1 -> 47.7081 | X5: =V5*0.2 -> 95.4162 | Y5: =SUM(V5:W5) -> 524.7891 | Z5: =SUM(V5,X5) -> 572.4972 | AB5: =IFERROR(IF(#REF!="W",$AA5*Dane!$D$6,"-"),"-") -> - | AC5: =IFERROR(IF(#REF!="W",$AA5*Dane!$D$7,"-"),"-") -> - | AD5: =IFERROR(IF(#REF!="W",$AA5*Dane!$D$8,"-"),"-") -> -
A6: 4 | B6: Izolator przepustowy 450A ZEG IPP | D6: 2011-R511694 | F6: 0 | G6: 1.5 | H6: 0.25 | L6: 145.97 | M6: =VLOOKUP($D6,Materiał!$B$2:$E$1153,3,0) -> 145.97 | N6: =(M6-L6)/L6 -> 0 | O6: 0 | P6: =F6*Dane!$C$14+G6*Dane!$C$15+H6*Dane!$C$17 -> 59 | Q6: =F6*Dane!$F$14+G6*Dane!$F$15+H6*Dane!$F$17 -> 8.75 | R6: =F6*Dane!$H$14+G6*Dane!$H$15+H6*Dane!$H$16+(F6+G6+H6)*Dane!$C$22 -> 126 | S6: =SUM(L6,O6:R6) -> 339.72 | T6: =S6*Dane!$D$2 -> 67.944 | U6: 0 | V6: =SUM(S6:U6) -> 407.664 | W6: =V6*0.1 -> 40.7664 | X6: =V6*0.2 -> 81.5328 | Y6: =SUM(V6:W6) -> 448.4304 | Z6: =SUM(V6,X6) -> 489.1968 | AB6: =IFERROR(IF(#REF!="W",$AA6*Dane!$D$6,"-"),"-") -> - | AC6: =IFERROR(IF(#REF!="W",$AA6*Dane!$D$7,"-"),"-") -> - | AD6: =IFERROR(IF(#REF!="W",$AA6*Dane!$D$8,"-"),"-") -> -
A7: 5 | B7: Izolatory prądowe przepustowe ZEG-IPP 450A WI ZEG-IPP 450A WII | D7: 2011-R511694, 2011-R511694.WI | F7: 0 | G7: 1.5 | H7: 0.25 | L7: 150 | N7: =(M7-L7)/L7 -> -1 | O7: 0 | P7: =F7*Dane!$C$14+G7*Dane!$C$15+H7*Dane!$C$17 -> 59 | Q7: =F7*Dane!$F$14+G7*Dane!$F$15+H7*Dane!$F$17 -> 8.75 | R7: =F7*Dane!$H$14+G7*Dane!$H$15+H7*Dane!$H$16+(F7+G7+H7)*Dane!$C$22 -> 126 | S7: =SUM(L7,O7:R7) -> 343.75 | T7: =S7*Dane!$D$2 -> 68.75 | U7: 0 | V7: =SUM(S7:U7) -> 412.5 | W7: =V7*0.1 -> 41.25 | X7: =V7*0.2 -> 82.5 | Y7: =SUM(V7:W7) -> 453.75 | Z7: =SUM(V7,X7) -> 495 | AB7: =IFERROR(IF(#REF!="W",$AA7*Dane!$D$6,"-"),"-") -> - | AC7: =IFERROR(IF(#REF!="W",$AA7*Dane!$D$7,"-"),"-") -> - | AD7: =IFERROR(IF(#REF!="W",$AA7*Dane!$D$8,"-"),"-") -> -
A8: 6 | B8: Napęd przycisków i przełączników ZB4/… | D8: 682-703-1820(60);681-758-0551;682-703-1410(20)(50) | L8: 50 | N8: =(M8-L8)/L8 -> -1 | O8: 0 | P8: =F8*Dane!$C$14+G8*Dane!$C$15+H8*Dane!$C$17 -> 0 | Q8: =F8*Dane!$F$14+G8*Dane!$F$15+H8*Dane!$F$17 -> 0 | R8: =F8*Dane!$H$14+G8*Dane!$H$15+H8*Dane!$H$16+(F8+G8+H8)*Dane!$C$22 -> 0 | S8: =SUM(L8,O8:R8) -> 50 | T8: =S8*Dane!$D$2 -> 10 | U8: 0 | V8: =SUM(S8:U8) -> 60 | W8: =V8*0.1 -> 6 | X8: =V8*0.2 -> 12 | Y8: =SUM(V8:W8) -> 66 | Z8: =SUM(V8,X8) -> 72 | AB8: =IFERROR(IF(#REF!="W",$AA8*Dane!$D$6,"-"),"-") -> - | AC8: =IFERROR(IF(#REF!="W",$AA8*Dane!$D$7,"-"),"-") -> - | AD8: =IFERROR(IF(#REF!="W",$AA8*Dane!$D$8,"-"),"-") -> -
A9: 7 | B9: Podstawa bezpiecznikowa 2A/1200 do bezpiecznika 2A/1200V | D9: 681-930-0151 | L9: 72 | M9: =VLOOKUP($D9,Materiał!$B$2:$E$1153,3,0) -> 72 | N9: =(M9-L9)/L9 -> 0 | O9: 0 | P9: =F9*Dane!$C$14+G9*Dane!$C$15+H9*Dane!$C$17 -> 0 | Q9: =F9*Dane!$F$14+G9*Dane!$F$15+H9*Dane!$F$17 -> 0 | R9: =F9*Dane!$H$14+G9*Dane!$H$15+H9*Dane!$H$16+(F9+G9+H9)*Dane!$C$22 -> 0 | S9: =SUM(L9,O9:R9) -> 72 | T9: =S9*Dane!$D$2 -> 14.4 | U9: 0 | V9: =SUM(S9:U9) -> 86.4 | W9: =V9*0.1 -> 8.64 | X9: =V9*0.2 -> 17.28 | Y9: =SUM(V9:W9) -> 95.04 | Z9: =SUM(V9,X9) -> 103.68 | AB9: =IFERROR(IF(#REF!="W",$AA9*Dane!$D$6,"-"),"-") -> - | AC9: =IFERROR(IF(#REF!="W",$AA9*Dane!$D$7,"-"),"-") -> - | AD9: =IFERROR(IF(#REF!="W",$AA9*Dane!$D$8,"-"),"-") -> -
A10: 8 | B10: Podstawa bezpiecznikowa- PB | D10: 681-930-1730 | L10: 110.715 | N10: =(M10-L10)/L10 -> -1 | O10: 0 | P10: =F10*Dane!$C$14+G10*Dane!$C$15+H10*Dane!$C$17 -> 0 | Q10: =F10*Dane!$F$14+G10*Dane!$F$15+H10*Dane!$F$17 -> 0 | R10: =F10*Dane!$H$14+G10*Dane!$H$15+H10*Dane!$H$16+(F10+G10+H10)*Dane!$C$22 -> 0 | S10: =SUM(L10,O10:R10) -> 110.715 | T10: =S10*Dane!$D$2 -> 22.143 | U10: 0 | V10: =SUM(S10:U10) -> 132.858 | W10: =V10*0.1 -> 13.2858 | X10: =V10*0.2 -> 26.5716 | Y10: =SUM(V10:W10) -> 146.1438 | Z10: =SUM(V10,X10) -> 159.4296 | AB10: =IFERROR(IF(#REF!="W",$AA10*Dane!$D$6,"-"),"-") -> - | AC10: =IFERROR(IF(#REF!="W",$AA10*Dane!$D$7,"-"),"-") -> - | AD10: =IFERROR(IF(#REF!="W",$AA10*Dane!$D$8,"-"),"-") -> -
A11: 9 | B11: Programator PNP | D11: 1999-R405709 | E11: R405709 | F11: 0 | G11: 1 | H11: 0.1 | L11: 29.66 | M11: =VLOOKUP($D11,Materiał!$B$2:$E$1153,3,0) -> 29.66 | N11: =(M11-L11)/L11 -> 0 | O11: 0 | P11: =F11*Dane!$C$14+G11*Dane!$C$15+H11*Dane!$C$17 -> 36.8 | Q11: =F11*Dane!$F$14+G11*Dane!$F$15+H11*Dane!$F$17 -> 5.5 | R11: =F11*Dane!$H$14+G11*Dane!$H$15+H11*Dane!$H$16+(F11+G11+H11)*Dane!$C$22 -> 79.2 | S11: =SUM(L11,O11:R11) -> 151.16 | T11: =S11*Dane!$D$2 -> 30.232 | U11: 0 | V11: =SUM(S11:U11) -> 181.392 | W11: =V11*0.1 -> 18.1392 | X11: =V11*0.2 -> 36.2784 | Y11: =SUM(V11:W11) -> 199.5312 | Z11: =SUM(V11,X11) -> 217.6704 | AB11: =IFERROR(IF(#REF!="W",$AA11*Dane!$D$6,"-"),"-") -> - | AC11: =IFERROR(IF(#REF!="W",$AA11*Dane!$D$7,"-"),"-") -> - | AD11: =IFERROR(IF(#REF!="W",$AA11*Dane!$D$8,"-"),"-") -> -
A12: 10 | B12: Przekaźnik ZLS (czasowy) | C12: ZLS | D12: 687-302-7001 | L12: =113*Dane!$D$4 -> 538.1964 | M12: =VLOOKUP($D12,Materiał!$B$2:$E$1153,3,0) -> 335 | N12: =(M12-L12)/L12 -> -0.37755065 | O12: 0 | P12: =F12*Dane!$C$14+G12*Dane!$C$15+H12*Dane!$C$17 -> 0 | Q12: =F12*Dane!$F$14+G12*Dane!$F$15+H12*Dane!$F$17 -> 0 | R12: =F12*Dane!$H$14+G12*Dane!$H$15+H12*Dane!$H$16+(F12+G12+H12)*Dane!$C$22 -> 0 | S12: =SUM(L12,O12:R12) -> 538.1964 | T12: =S12*Dane!$D$2 -> 107.63928 | U12: 0 | V12: =SUM(S12:U12) -> 645.83568 | W12: =V12*0.1 -> 64.583568 | X12: =V12*0.2 -> 129.16714 | Y12: =SUM(V12:W12) -> 710.41925 | Z12: =SUM(V12,X12) -> 775.00282 | AB12: =$AA12*Dane!$D$6 -> 0 | AC12: =IFERROR(IF(#REF!="W",$AA12*Dane!$D$7,"-"),"-") -> - | AD12: =$AA12*Dane!$D$8 -> 0
A13: 11 | B13: Przekaźnik centralno – blokujący UP6R | D13: 687-302-1012, 687-302-1013, 687-302-1011 | L13: =270*Dane!$D$4 -> 1285.956 | N13: =(M13-L13)/L13 -> -1 | O13: 0 | P13: =F13*Dane!$C$14+G13*Dane!$C$15+H13*Dane!$C$17 -> 0 | Q13: =F13*Dane!$F$14+G13*Dane!$F$15+H13*Dane!$F$17 -> 0 | R13: =F13*Dane!$H$14+G13*Dane!$H$15+H13*Dane!$H$16+(F13+G13+H13)*Dane!$C$22 -> 0 | S13: =SUM(L13,O13:R13) -> 1285.956 | T13: =S13*Dane!$D$2 -> 257.1912 | U13: 0 | V13: =SUM(S13:U13) -> 1543.1472 | W13: =V13*0.1 -> 154.31472 | X13: =V13*0.2 -> 308.62944 | Y13: =SUM(V13:W13) -> 1697.4619 | Z13: =SUM(V13,X13) -> 1851.7766 | AB13: =IFERROR(IF(#REF!="W",$AA13*Dane!$D$6,"-"),"-") -> - | AC13: =IFERROR(IF(#REF!="W",$AA13*Dane!$D$7,"-"),"-") -> - | AD13: =$AA13*Dane!$D$8 -> 0
A14: 12 | B14: Przekaźnik ciągłości uziemienia i temperatury PTC-1a | D14: 2099-R511745 | E14: R511745 R336446 | F14: 0 | G14: 4.8 | H14: 0.1 | L14: 352.76 | M14: =VLOOKUP($D14,Materiał!$B$2:$E$1153,3,0) -> 352.76 | N14: =(M14-L14)/L14 -> 0 | O14: 0 | P14: =F14*Dane!$C$14+G14*Dane!$C$15+H14*Dane!$C$17 -> 162.2 | Q14: =F14*Dane!$F$14+G14*Dane!$F$15+H14*Dane!$F$17 -> 24.5 | R14: =F14*Dane!$H$14+G14*Dane!$H$15+H14*Dane!$H$16+(F14+G14+H14)*Dane!$C$22 -> 352.8 | S14: =SUM(L14,O14:R14) -> 892.26 | T14: =S14*Dane!$D$2 -> 178.452 | U14: 0 | V14: =SUM(S14:U14) -> 1070.712 | W14: =V14*0.1 -> 107.0712 | X14: =V14*0.2 -> 214.1424 | Y14: =SUM(V14:W14) -> 1177.7832 | Z14: =SUM(V14,X14) -> 1284.8544 | AB14: =IFERROR(IF(#REF!="W",$AA14*Dane!$D$6,"-"),"-") -> - | AC14: =IFERROR(IF(#REF!="W",$AA14*Dane!$D$7,"-"),"-") -> - | AD14: =IFERROR(IF(#REF!="W",$AA14*Dane!$D$8,"-"),"-") -> -
A15: 13 | B15: Przekaźnik czasowy FINDER 8211 Tryb pracy A | D15: 687-336-0013 | L15: 130 | M15: =VLOOKUP($D15,Materiał!$B$2:$E$1153,3,0) -> 130 | N15: =(M15-L15)/L15 -> 0 | O15: 0 | P15: =F15*Dane!$C$14+G15*Dane!$C$15+H15*Dane!$C$17 -> 0 | Q15: =F15*Dane!$F$14+G15*Dane!$F$15+H15*Dane!$F$17 -> 0 | R15: =F15*Dane!$H$14+G15*Dane!$H$15+H15*Dane!$H$16+(F15+G15+H15)*Dane!$C$22 -> 0 | S15: =SUM(L15,O15:R15) -> 130 | T15: =S15*Dane!$D$2 -> 26 | U15: 0 | V15: =SUM(S15:U15) -> 156 | W15: =V15*0.1 -> 15.6 | X15: =V15*0.2 -> 31.2 | Y15: =SUM(V15:W15) -> 171.6 | Z15: =SUM(V15,X15) -> 187.2 | AB15: =IFERROR(IF(#REF!="W",$AA15*Dane!$D$6,"-"),"-") -> - | AC15: =IFERROR(IF(#REF!="W",$AA15*Dane!$D$7,"-"),"-") -> - | AD15: =IFERROR(IF(#REF!="W",$AA15*Dane!$D$8,"-"),"-") -> -
A16: 14 | B16: Przekaźnik kontroli ciągłości uziemienia (cz zam) RSL-1 | E16: R411380 R336048 | F16: 0 | G16: 7 | H16: 3 | L16: 297.51133 | M16: =VLOOKUP($D16,Materiał!$B$2:$E$1153,3,0) -> #N/A | N16: =(M16-L16)/L16 -> #N/A | O16: 0 | P16: =F16*Dane!$C$14+G16*Dane!$C$15+H16*Dane!$C$17 -> 345 | Q16: =F16*Dane!$F$14+G16*Dane!$F$15+H16*Dane!$F$17 -> 50 | R16: =F16*Dane!$H$14+G16*Dane!$H$15+H16*Dane!$H$16+(F16+G16+H16)*Dane!$C$22 -> 720 | S16: =SUM(L16,O16:R16) -> 1412.5113 | T16: =S16*Dane!$D$2 -> 282.50227 | U16: 0 | V16: =SUM(S16:U16) -> 1695.0136 | W16: =V16*0.1 -> 169.50136 | X16: =V16*0.2 -> 339.00272 | Y16: =SUM(V16:W16) -> 1864.515 | Z16: =SUM(V16,X16) -> 2034.0163 | AB16: =IFERROR(IF(#REF!="W",$AA16*Dane!$D$6,"-"),"-") -> - | AC16: =IFERROR(IF(#REF!="W",$AA16*Dane!$D$7,"-"),"-") -> - | AD16: =IFERROR(IF(#REF!="W",$AA16*Dane!$D$8,"-"),"-") -> -
A17: 15 | B17: Przekaźnik nadmiarowo-prądowy PNP-1 | D17: 2092-R405703 | E17: R405703 R426052 | F17: 0 | G17: 5.34 | H17: 0.1 | L17: 589.81 | M17: =VLOOKUP($D17,Materiał!$B$2:$E$1153,3,0) -> 589.81 | N17: =(M17-L17)/L17 -> 0 | O17: 0 | P17: =F17*Dane!$C$14+G17*Dane!$C$15+H17*Dane!$C$17 -> 180.02 | Q17: =F17*Dane!$F$14+G17*Dane!$F$15+H17*Dane!$F$17 -> 27.2 | R17: =F17*Dane!$H$14+G17*Dane!$H$15+H17*Dane!$H$16+(F17+G17+H17)*Dane!$C$22 -> 391.68 | S17: =SUM(L17,O17:R17) -> 1188.71 | T17: =S17*Dane!$D$2 -> 237.742 | U17: 0 | V17: =SUM(S17:U17) -> 1426.452 | W17: =V17*0.1 -> 142.6452 | X17: =V17*0.2 -> 285.2904 | Y17: =SUM(V17:W17) -> 1569.0972 | Z17: =SUM(V17,X17) -> 1711.7424 | AB17: =IFERROR(IF(#REF!="W",$AA17*Dane!$D$6,"-"),"-") -> - | AC17: =IFERROR(IF(#REF!="W",$AA17*Dane!$D$7,"-"),"-") -> - | AD17: =IFERROR(IF(#REF!="W",$AA17*Dane!$D$8,"-"),"-") -> -
A18: 16 | B18: Przekaźnik separujący iskrobezpieczny PSI-1 | D18: 2094-R511752 | E18: R405692 R424690 | F18: 0 | G18: 4.5 | H18: 0.3 | L18: 127.08 | M18: =VLOOKUP($D18,Materiał!$B$2:$E$1153,3,0) -> 127.08 | N18: =(M18-L18)/L18 -> 0 | O18: 0 | P18: =F18*Dane!$C$14+G18*Dane!$C$15+H18*Dane!$C$17 -> 159.9 | Q18: =F18*Dane!$F$14+G18*Dane!$F$15+H18*Dane!$F$17 -> 24 | R18: =F18*Dane!$H$14+G18*Dane!$H$15+H18*Dane!$H$16+(F18+G18+H18)*Dane!$C$22 -> 345.6 | S18: =SUM(L18,O18:R18) -> 656.58 | T18: =S18*Dane!$D$2 -> 131.316 | U18: 0 | V18: =SUM(S18:U18) -> 787.896 | W18: =V18*0.1 -> 78.7896 | X18: =V18*0.2 -> 157.5792 | Y18: =SUM(V18:W18) -> 866.6856 | Z18: =SUM(V18,X18) -> 945.4752 | AB18: =IFERROR(IF(#REF!="W",$AA18*Dane!$D$6,"-"),"-") -> - | AC18: =IFERROR(IF(#REF!="W",$AA18*Dane!$D$7,"-"),"-") -> - | AD18: =IFERROR(IF(#REF!="W",$AA18*Dane!$D$8,"-"),"-") -> -
A19: 17 | B19: Przekaźnik separujący iskrobezpieczny RExi-3a/24V,42V | D19: 2094-R405713.WYK.01,02 | E19: R405713 R336337 | F19: 0 | G19: 6.55 | H19: 0.1007 | L19: 366.66 | M19: =VLOOKUP($D19,Materiał!$B$2:$E$1153,3,0) -> 366.66 | N19: =(M19-L19)/L19 -> 0 | O19: 0 | P19: =F19*Dane!$C$14+G19*Dane!$C$15+H19*Dane!$C$17 -> 219.9766 | Q19: =F19*Dane!$F$14+G19*Dane!$F$15+H19*Dane!$F$17 -> 33.2535 | R19: =F19*Dane!$H$14+G19*Dane!$H$15+H19*Dane!$H$16+(F19+G19+H19)*Dane!$C$22 -> 478.8504 | S19: =SUM(L19,O19:R19) -> 1098.7405 | T19: =S19*Dane!$D$2 -> 219.7481 | U19: 0 | V19: =SUM(S19:U19) -> 1318.4886 | W19: =V19*0.1 -> 131.84886 | X19: =V19*0.2 -> 263.69772 | Y19: =SUM(V19:W19) -> 1450.3375 | Z19: =SUM(V19,X19) -> 1582.1863 | AB19: =IFERROR(IF(#REF!="W",$AA19*Dane!$D$6,"-"),"-") -> - | AC19: - | AD19: =AA19 -> 0
A20: 18 | B20: Przełącznik CA10-1…… CA10-1 WA… | D20: 729-601-1405, 729-601-1406 | L20: 745.60514 | N20: =(M20-L20)/L20 -> -1 | O20: 0 | P20: =F20*Dane!$C$14+G20*Dane!$C$15+H20*Dane!$C$17 -> 0 | Q20: =F20*Dane!$F$14+G20*Dane!$F$15+H20*Dane!$F$17 -> 0 | R20: =F20*Dane!$H$14+G20*Dane!$H$15+H20*Dane!$H$16+(F20+G20+H20)*Dane!$C$22 -> 0 | S20: =SUM(L20,O20:R20) -> 745.60514 | T20: =S20*Dane!$D$2 -> 149.12103 | U20: 0 | V20: =SUM(S20:U20) -> 894.72616 | W20: =V20*0.1 -> 89.472616 | X20: =V20*0.2 -> 178.94523 | Y20: =SUM(V20:W20) -> 984.19878 | Z20: =SUM(V20,X20) -> 1073.6714 | AB20: =IFERROR(IF(#REF!="W",$AA20*Dane!$D$6,"-"),"-") -> - | AC20: =IFERROR(IF(#REF!="W",$AA20*Dane!$D$7,"-"),"-") -> - | AD20: =IFERROR(IF(#REF!="W",$AA20*Dane!$D$8,"-"),"-") -> -
A21: 19 | B21: Przełącznik CA4-1 A 723-600E CA4-1 A 723-600E | D21: 729-601-1407 | L21: 105.58 | M21: =VLOOKUP($D21,Materiał!$B$2:$E$1153,3,0) -> 105.58 | N21: =(M21-L21)/L21 -> 0 | O21: 0 | P21: =F21*Dane!$C$14+G21*Dane!$C$15+H21*Dane!$C$17 -> 0 | Q21: =F21*Dane!$F$14+G21*Dane!$F$15+H21*Dane!$F$17 -> 0 | R21: =F21*Dane!$H$14+G21*Dane!$H$15+H21*Dane!$H$16+(F21+G21+H21)*Dane!$C$22 -> 0 | S21: =SUM(L21,O21:R21) -> 105.58 | T21: =S21*Dane!$D$2 -> 21.116 | U21: 0 | V21: =SUM(S21:U21) -> 126.696 | W21: =V21*0.1 -> 12.6696 | X21: =V21*0.2 -> 25.3392 | Y21: =SUM(V21:W21) -> 139.3656 | Z21: =SUM(V21,X21) -> 152.0352 | AB21: =IFERROR(IF(#REF!="W",$AA21*Dane!$D$6,"-"),"-") -> - | AC21: =IFERROR(IF(#REF!="W",$AA21*Dane!$D$7,"-"),"-") -> - | AD21: =IFERROR(IF(#REF!="W",$AA21*Dane!$D$8,"-"),"-") -> -
A22: 20 | B22: Przepust wielożyłowy ognioszczelny (Ø35 18 żył - 25 żył) ZEG-PWd 35-18, 35-25 | D22: 2023-R511696.3518 2023-R511696.3525 | E22: R511696 R438333 | F22: 0 | G22: 1.5 | H22: 0.75 | L22: 114 | N22: =(M22-L22)/L22 -> -1 | O22: 0 | P22: =F22*Dane!$C$14+G22*Dane!$C$15+H22*Dane!$C$17 -> 78 | Q22: =F22*Dane!$F$14+G22*Dane!$F$15+H22*Dane!$F$17 -> 11.25 | R22: =F22*Dane!$H$14+G22*Dane!$H$15+H22*Dane!$H$16+(F22+G22+H22)*Dane!$C$22 -> 162 | S22: =SUM(L22,O22:R22) -> 365.25 | T22: =S22*Dane!$D$2 -> 73.05 | U22: 0 | V22: =SUM(S22:U22) -> 438.3 | W22: =V22*0.1 -> 43.83 | X22: =V22*0.2 -> 87.66 | Y22: =SUM(V22:W22) -> 482.13 | Z22: =SUM(V22,X22) -> 525.96 | AB22: =IFERROR(IF(#REF!="W",$AA22*Dane!$D$6,"-"),"-") -> - | AC22: =IFERROR(IF(#REF!="W",$AA22*Dane!$D$7,"-"),"-") -> - | AD22: =IFERROR(IF(#REF!="W",$AA22*Dane!$D$8,"-"),"-") -> -
A23: 21 | B23: Przepust wielożyłowy ognioszczelny (Ø36 18 żył - 25 żył) ZEG-PW 36-18 ZEG-PWd 36-25 | D23: 2023-R511696.3625 2023-R511696.3618 | E23: R511696 R438333 | F23: 0 | G23: 1.5 | H23: 0.75 | L23: 137 | N23: =(M23-L23)/L23 -> -1 | O23: 0 | P23: =F23*Dane!$C$14+G23*Dane!$C$15+H23*Dane!$C$17 -> 78 | Q23: =F23*Dane!$F$14+G23*Dane!$F$15+H23*Dane!$F$17 -> 11.25 | R23: =F23*Dane!$H$14+G23*Dane!$H$15+H23*Dane!$H$16+(F23+G23+H23)*Dane!$C$22 -> 162 | S23: =SUM(L23,O23:R23) -> 388.25 | T23: =S23*Dane!$D$2 -> 77.65 | U23: 0 | V23: =SUM(S23:U23) -> 465.9 | W23: =V23*0.1 -> 46.59 | X23: =V23*0.2 -> 93.18 | Y23: =SUM(V23:W23) -> 512.49 | Z23: =SUM(V23,X23) -> 559.08 | AB23: =IFERROR(IF(#REF!="W",$AA23*Dane!$D$6,"-"),"-") -> - | AC23: =IFERROR(IF(#REF!="W",$AA23*Dane!$D$7,"-"),"-") -> - | AD23: =IFERROR(IF(#REF!="W",$AA23*Dane!$D$8,"-"),"-") -> -
A24: 22 | B24: Przepust wielożyłowy ognioszczelny (Ø42 3 żyły) ZEG-PWd 42-3 | D24: 2023-R406654 | E24: R436047 R406654 | F24: 0 | G24: 1.3 | H24: 0.2 | L24: 285.86 | M24: =VLOOKUP($D24,Materiał!$B$2:$E$1153,3,0) -> 285.86 | N24: =(M24-L24)/L24 -> 0 | O24: 0 | P24: =F24*Dane!$C$14+G24*Dane!$C$15+H24*Dane!$C$17 -> 50.5 | Q24: =F24*Dane!$F$14+G24*Dane!$F$15+H24*Dane!$F$17 -> 7.5 | R24: =F24*Dane!$H$14+G24*Dane!$H$15+H24*Dane!$H$16+(F24+G24+H24)*Dane!$C$22 -> 108 | S24: =SUM(L24,O24:R24) -> 451.86 | T24: =S24*Dane!$D$2 -> 90.372 | U24: 0 | V24: =SUM(S24:U24) -> 542.232 | W24: =V24*0.1 -> 54.2232 | X24: =V24*0.2 -> 108.4464 | Y24: =SUM(V24:W24) -> 596.4552 | Z24: =SUM(V24,X24) -> 650.6784 | AB24: =IFERROR(IF(#REF!="W",$AA24*Dane!$D$6,"-"),"-") -> - | AC24: =IFERROR(IF(#REF!="W",$AA24*Dane!$D$7,"-"),"-") -> - | AD24: =IFERROR(IF(#REF!="W",$AA24*Dane!$D$8,"-"),"-") -> -
A25: 23 | B25: Pulpit sterowniczy ZEG PS-1 | F25: 0 | G25: 0 | H25: 0 | L25: 2664.2558 | M25: =VLOOKUP($D25,Materiał!$B$2:$E$1153,3,0) -> #N/A | N25: =(M25-L25)/L25 -> #N/A | O25: 0 | P25: =F25*Dane!$C$14+G25*Dane!$C$15+H25*Dane!$C$17 -> 0 | Q25: =F25*Dane!$F$14+G25*Dane!$F$15+H25*Dane!$F$17 -> 0 | R25: =F25*Dane!$H$14+G25*Dane!$H$15+H25*Dane!$H$16+(F25+G25+H25)*Dane!$C$22 -> 0 | S25: =SUM(L25,O25:R25) -> 2664.2558 | T25: =S25*Dane!$D$2 -> 532.85117 | U25: 0 | V25: =SUM(S25:U25) -> 3197.107 | W25: =V25*0.1 -> 319.7107 | X25: =V25*0.2 -> 639.4214 | Y25: =SUM(V25:W25) -> 3516.8177 | Z25: =SUM(V25,X25) -> 3836.5284 | AB25: =IFERROR(IF(#REF!="W",$AA25*Dane!$D$6,"-"),"-") -> - | AC25: =IFERROR(IF(#REF!="W",$AA25*Dane!$D$7,"-"),"-") -> - | AD25: =IFERROR(IF(#REF!="W",$AA25*Dane!$D$8,"-"),"-") -> -
A26: 24 | B26: Pulpit sterowniczy ZEG PS-2.1 | D26: 1321-R513435.PZP | F26: 0 | G26: 10 | H26: 0.5 | L26: 1128.6 | M26: =VLOOKUP($D26,Materiał!$B$2:$E$1153,3,0) -> 1128.6 | N26: =(M26-L26)/L26 -> 0 | O26: 0 | P26: =F26*Dane!$C$14+G26*Dane!$C$15+H26*Dane!$C$17 -> 349 | Q26: =F26*Dane!$F$14+G26*Dane!$F$15+H26*Dane!$F$17 -> 52.5 | R26: =F26*Dane!$H$14+G26*Dane!$H$15+H26*Dane!$H$16+(F26+G26+H26)*Dane!$C$22 -> 756 | S26: =SUM(L26,O26:R26) -> 2286.1 | T26: =S26*Dane!$D$2 -> 457.22 | U26: 0 | V26: =SUM(S26:U26) -> 2743.32 | W26: =V26*0.1 -> 274.332 | X26: =V26*0.2 -> 548.664 | Y26: =SUM(V26:W26) -> 3017.652 | Z26: =SUM(V26,X26) -> 3291.984 | AB26: =IFERROR(IF(#REF!="W",$AA26*Dane!$D$6,"-"),"-") -> - | AC26: =IFERROR(IF(#REF!="W",$AA26*Dane!$D$7,"-"),"-") -> - | AD26: =IFERROR(IF(#REF!="W",$AA26*Dane!$D$8,"-"),"-") -> -
A27: 25 | B27: Pulpit sterowniczy ZEG PS-3 | D27: 1321-R406663 | F27: 0 | G27: 10 | H27: 0.5 | L27: 1742.22 | M27: =VLOOKUP($D27,Materiał!$B$2:$E$1153,3,0) -> 1742.22 | N27: =(M27-L27)/L27 -> 0 | O27: 0 | P27: =F27*Dane!$C$14+G27*Dane!$C$15+H27*Dane!$C$17 -> 349 | Q27: =F27*Dane!$F$14+G27*Dane!$F$15+H27*Dane!$F$17 -> 52.5 | R27: =F27*Dane!$H$14+G27*Dane!$H$15+H27*Dane!$H$16+(F27+G27+H27)*Dane!$C$22 -> 756 | S27: =SUM(L27,O27:R27) -> 2899.72 | T27: =S27*Dane!$D$2 -> 579.944 | U27: 0 | V27: =SUM(S27:U27) -> 3479.664 | W27: =V27*0.1 -> 347.9664 | X27: =V27*0.2 -> 695.9328 | Y27: =SUM(V27:W27) -> 3827.6304 | Z27: =SUM(V27,X27) -> 4175.5968 | AB27: =IFERROR(IF(#REF!="W",$AA27*Dane!$D$6,"-"),"-") -> - | AC27: =IFERROR(IF(#REF!="W",$AA27*Dane!$D$7,"-"),"-") -> - | AD27: =IFERROR(IF(#REF!="W",$AA27*Dane!$D$8,"-"),"-") -> -
A28: 26 | B28: Stycznik powietrzny LC1 D 25P7 | C28: =MID(B28,FIND("LC",B28,1),50) -> LC1 D 25P7 | D28: 681-152-3141 | L28: 107.97732 | M28: =VLOOKUP($D28,Materiał!$B$2:$E$1153,3,0) -> 86.19 | N28: =(M28-L28)/L28 -> -0.20177682 | O28: 0 | P28: =F28*Dane!$C$14+G28*Dane!$C$15+H28*Dane!$C$17 -> 0 | Q28: =F28*Dane!$F$14+G28*Dane!$F$15+H28*Dane!$F$17 -> 0 | R28: =F28*Dane!$H$14+G28*Dane!$H$15+H28*Dane!$H$16+(F28+G28+H28)*Dane!$C$22 -> 0 | S28: =SUM(L28,O28:R28) -> 107.97732 | T28: =S28*Dane!$D$2 -> 21.595464 | U28: 0 | V28: =SUM(S28:U28) -> 129.57278 | W28: =V28*0.1 -> 12.957278 | X28: =V28*0.2 -> 25.914557 | Y28: =SUM(V28:W28) -> 142.53006 | Z28: =SUM(V28,X28) -> 155.48734 | AB28: =IFERROR(IF(#REF!="W",$AA28*Dane!$D$6,"-"),"-") -> - | AC28: =IFERROR(IF(#REF!="W",$AA28*Dane!$D$7,"-"),"-") -> - | AD28: =IFERROR(IF(#REF!="W",$AA28*Dane!$D$8,"-"),"-") -> -
A29: 27 | B29: Stycznik powietrzny LC1 D 65P7 | C29: =MID(B29,FIND("LC",B29,1),50) -> LC1 D 65P7 | D29: 681-152-3170 | L29: 362.94 | M29: =VLOOKUP($D29,Materiał!$B$2:$E$1153,3,0) -> 362.94 | N29: =(M29-L29)/L29 -> 0 | O29: 0 | P29: =F29*Dane!$C$14+G29*Dane!$C$15+H29*Dane!$C$17 -> 0 | Q29: =F29*Dane!$F$14+G29*Dane!$F$15+H29*Dane!$F$17 -> 0 | R29: =F29*Dane!$H$14+G29*Dane!$H$15+H29*Dane!$H$16+(F29+G29+H29)*Dane!$C$22 -> 0 | S29: =SUM(L29,O29:R29) -> 362.94 | T29: =S29*Dane!$D$2 -> 72.588 | U29: 0 | V29: =SUM(S29:U29) -> 435.528 | W29: =V29*0.1 -> 43.5528 | X29: =V29*0.2 -> 87.1056 | Y29: =SUM(V29:W29) -> 479.0808 | Z29: =SUM(V29,X29) -> 522.6336 | AB29: =IFERROR(IF(#REF!="W",$AA29*Dane!$D$6,"-"),"-") -> - | AC29: =IFERROR(IF(#REF!="W",$AA29*Dane!$D$7,"-"),"-") -> - | AD29: =IFERROR(IF(#REF!="W",$AA29*Dane!$D$8,"-"),"-") -> -
A30: 28 | B30: Stycznik SHV 400 QM AC200V 4A4B | C30: =MID(B30,FIND("SH",B30,1),50) -> SHV 400 QM AC200V 4A4B | D30: 681-200-1010 | L30: 5128.1175 | M30: =VLOOKUP($D30,Materiał!$B$2:$E$1153,3,0) -> 4900 | N30: =(M30-L30)/L30 -> -0.044483673 | O30: 0 | P30: =F30*Dane!$C$14+G30*Dane!$C$15+H30*Dane!$C$17 -> 0 | Q30: =F30*Dane!$F$14+G30*Dane!$F$15+H30*Dane!$F$17 -> 0 | R30: =F30*Dane!$H$14+G30*Dane!$H$15+H30*Dane!$H$16+(F30+G30+H30)*Dane!$C$22 -> 0 | S30: =SUM(L30,O30:R30) -> 5128.1175 | T30: =S30*Dane!$D$2 -> 1025.6235 | U30: 0 | V30: =SUM(S30:U30) -> 6153.741 | W30: =V30*0.1 -> 615.3741 | X30: =V30*0.2 -> 1230.7482 | Y30: =SUM(V30:W30) -> 6769.1151 | Z30: =SUM(V30,X30) -> 7384.4892 | AB30: =IFERROR(IF(#REF!="W",$AA30*Dane!$D$6,"-"),"-") -> - | AC30: =IFERROR(IF(#REF!="W",$AA30*Dane!$D$7,"-"),"-") -> - | AD30: =IFERROR(IF(#REF!="W",$AA30*Dane!$D$8,"-"),"-") -> -
A31: 29 | B31: Styk pomocniczy LA8-DN11 | D31: 689-150-4420 | L31: 14.091 | M31: =VLOOKUP($D31,Materiał!$B$2:$E$1153,3,0) -> 10.1534 | N31: =(M31-L31)/L31 -> -0.27944078 | O31: 0 | P31: =F31*Dane!$C$14+G31*Dane!$C$15+H31*Dane!$C$17 -> 0 | Q31: =F31*Dane!$F$14+G31*Dane!$F$15+H31*Dane!$F$17 -> 0 | R31: =F31*Dane!$H$14+G31*Dane!$H$15+H31*Dane!$H$16+(F31+G31+H31)*Dane!$C$22 -> 0 | S31: =SUM(L31,O31:R31) -> 14.091 | T31: =S31*Dane!$D$2 -> 2.8182 | U31: 0 | V31: =SUM(S31:U31) -> 16.9092 | W31: =V31*0.1 -> 1.69092 | X31: =V31*0.2 -> 3.38184 | Y31: =SUM(V31:W31) -> 18.60012 | Z31: =SUM(V31,X31) -> 20.29104 | AB31: =IFERROR(IF(#REF!="W",$AA31*Dane!$D$6,"-"),"-") -> - | AC31: =IFERROR(IF(#REF!="W",$AA31*Dane!$D$7,"-"),"-") -> - | AD31: =IFERROR(IF(#REF!="W",$AA31*Dane!$D$8,"-"),"-") -> -
A32: 30 | B32: Transformator ET1SG-3oG-9,0 Moc 100VA ET13oG-9,0 | D32: 662-850-3110 | L32: 4544.6998 | N32: =(M32-L32)/L32 -> -1 | O32: 0 | P32: =F32*Dane!$C$14+G32*Dane!$C$15+H32*Dane!$C$17 -> 0 | Q32: =F32*Dane!$F$14+G32*Dane!$F$15+H32*Dane!$F$17 -> 0 | R32: =F32*Dane!$H$14+G32*Dane!$H$15+H32*Dane!$H$16+(F32+G32+H32)*Dane!$C$22 -> 0 | S32: =SUM(L32,O32:R32) -> 4544.6998 | T32: =S32*Dane!$D$2 -> 908.93996 | U32: 0 | V32: =SUM(S32:U32) -> 5453.6397 | W32: =V32*0.1 -> 545.36397 | X32: =V32*0.2 -> 1090.7279 | Y32: =SUM(V32:W32) -> 5999.0037 | Z32: =SUM(V32,X32) -> 6544.3677 | AB32: =IFERROR(IF(#REF!="W",$AA32*Dane!$D$6,"-"),"-") -> - | AC32: =IFERROR(IF(#REF!="W",$AA32*Dane!$D$7,"-"),"-") -> - | AD32: =IFERROR(IF(#REF!="W",$AA32*Dane!$D$8,"-"),"-") -> -
A33: 31 | B33: Transformator pomocniczy ET1SG 100-1500 VA | D33: 662-850-3080 | L33: 720 | M33: =VLOOKUP($D33,Materiał!$B$2:$E$1153,3,0) -> 720 | N33: =(M33-L33)/L33 -> 0 | O33: 0 | P33: =F33*Dane!$C$14+G33*Dane!$C$15+H33*Dane!$C$17 -> 0 | Q33: =F33*Dane!$F$14+G33*Dane!$F$15+H33*Dane!$F$17 -> 0 | R33: =F33*Dane!$H$14+G33*Dane!$H$15+H33*Dane!$H$16+(F33+G33+H33)*Dane!$C$22 -> 0 | S33: =SUM(L33,O33:R33) -> 720 | T33: =S33*Dane!$D$2 -> 144 | U33: 0 | V33: =SUM(S33:U33) -> 864 | W33: =V33*0.1 -> 86.4 | X33: =V33*0.2 -> 172.8 | Y33: =SUM(V33:W33) -> 950.4 | Z33: =SUM(V33,X33) -> 1036.8 | AB33: =IFERROR(IF(#REF!="W",$AA33*Dane!$D$6,"-"),"-") -> - | AC33: =IFERROR(IF(#REF!="W",$AA33*Dane!$D$7,"-"),"-") -> - | AD33: =IFERROR(IF(#REF!="W",$AA33*Dane!$D$8,"-"),"-") -> -
A34: 32 | B34: Wpust kablowy ZEG-Wkd 01,03,04,05 | D34: 2021-R436080, 2021-R436081, 2021-R436082, 2021-R336336 | F34: 0 | G34: 0 | H34: 0 | L34: 187.05802 | M34: =VLOOKUP($D34,Materiał!$B$2:$E$1153,3,0) -> #N/A | N34: =(M34-L34)/L34 -> #N/A | O34: 0 | P34: =F34*Dane!$C$14+G34*Dane!$C$15+H34*Dane!$C$17 -> 0 | Q34: =F34*Dane!$F$14+G34*Dane!$F$15+H34*Dane!$F$17 -> 0 | R34: =F34*Dane!$H$14+G34*Dane!$H$15+H34*Dane!$H$16+(F34+G34+H34)*Dane!$C$22 -> 0 | S34: =SUM(L34,O34:R34) -> 187.05802 | T34: =S34*Dane!$D$2 -> 37.411605 | U34: 0 | V34: =SUM(S34:U34) -> 224.46963 | W34: =V34*0.1 -> 22.446963 | X34: =V34*0.2 -> 44.893926 | Y34: =SUM(V34:W34) -> 246.91659 | Z34: =SUM(V34,X34) -> 269.36356 | AB34: =IFERROR(IF(#REF!="W",$AA34*Dane!$D$6,"-"),"-") -> - | AC34: =IFERROR(IF(#REF!="W",$AA34*Dane!$D$7,"-"),"-") -> - | AD34: =IFERROR(IF(#REF!="W",$AA34*Dane!$D$8,"-"),"-") -> -
A35: 33 | B35: Wziernik ZEG-Wd 01 | D35: 1999-R344058 | E35: R344058 R511688 | F35: 0 | G35: 0.44 | H35: 0.25 | L35: 170.96 | M35: =VLOOKUP($D35,Materiał!$B$2:$E$1153,3,0) -> 170.96 | N35: =(M35-L35)/L35 -> 0 | O35: 0 | P35: =F35*Dane!$C$14+G35*Dane!$C$15+H35*Dane!$C$17 -> 24.02 | Q35: =F35*Dane!$F$14+G35*Dane!$F$15+H35*Dane!$F$17 -> 3.45 | R35: =F35*Dane!$H$14+G35*Dane!$H$15+H35*Dane!$H$16+(F35+G35+H35)*Dane!$C$22 -> 49.68 | S35: =SUM(L35,O35:R35) -> 248.11 | T35: =S35*Dane!$D$2 -> 49.622 | U35: 0 | V35: =SUM(S35:U35) -> 297.732 | W35: =V35*0.1 -> 29.7732 | X35: =V35*0.2 -> 59.5464 | Y35: =SUM(V35:W35) -> 327.5052 | Z35: =SUM(V35,X35) -> 357.2784 | AB35: =IFERROR(IF(#REF!="W",$AA35*Dane!$D$6,"-"),"-") -> - | AC35: =IFERROR(IF(#REF!="W",$AA35*Dane!$D$7,"-"),"-") -> - | AD35: =IFERROR(IF(#REF!="W",$AA35*Dane!$D$8,"-"),"-") -> -
A36: 34 | B36: Zasilacz impulsowy ZI-1 42V | D36: 2152-R405725 | F36: 0 | G36: 1.6 | H36: 0.2 | L36: 422.56896 | M36: =VLOOKUP($D36,Materiał!$B$2:$E$1153,3,0) -> 373.05 | N36: =(M36-L36)/L36 -> -0.11718551 | O36: 0 | P36: =F36*Dane!$C$14+G36*Dane!$C$15+H36*Dane!$C$17 -> 60.4 | Q36: =F36*Dane!$F$14+G36*Dane!$F$15+H36*Dane!$F$17 -> 9 | R36: =F36*Dane!$H$14+G36*Dane!$H$15+H36*Dane!$H$16+(F36+G36+H36)*Dane!$C$22 -> 129.6 | S36: =SUM(L36,O36:R36) -> 621.56896 | T36: =S36*Dane!$D$2 -> 124.31379 | U36: 0 | V36: =SUM(S36:U36) -> 745.88275 | W36: =V36*0.1 -> 74.588275 | X36: =V36*0.2 -> 149.17655 | Y36: =SUM(V36:W36) -> 820.47103 | Z36: =SUM(V36,X36) -> 895.0593 | AB36: =IFERROR(IF(#REF!="W",$AA36*Dane!$D$6,"-"),"-") -> - | AC36: - | AD36: =AA36 -> 0
A37: 35 | B37: Zespół dławików sztucznego zera ZD-11-3 | D37: 2091-R406721 | E37: R405721 R336347 | F37: 0 | G37: 2.1 | H37: 0.3 | L37: 545.07007 | M37: =VLOOKUP($D37,Materiał!$B$2:$E$1153,3,0) -> 410.38 | N37: =(M37-L37)/L37 -> -0.24710598 | O37: 0 | P37: =F37*Dane!$C$14+G37*Dane!$C$15+H37*Dane!$C$17 -> 80.7 | Q37: =F37*Dane!$F$14+G37*Dane!$F$15+H37*Dane!$F$17 -> 12 | R37: =F37*Dane!$H$14+G37*Dane!$H$15+H37*Dane!$H$16+(F37+G37+H37)*Dane!$C$22 -> 172.8 | S37: =SUM(L37,O37:R37) -> 810.57008 | T37: =S37*Dane!$D$2 -> 162.11402 | U37: 0 | V37: =SUM(S37:U37) -> 972.68409 | W37: =V37*0.1 -> 97.268409 | X37: =V37*0.2 -> 194.53682 | Y37: =SUM(V37:W37) -> 1069.9525 | Z37: =SUM(V37,X37) -> 1167.2209 | AB37: =IFERROR(IF(#REF!="W",$AA37*Dane!$D$6,"-"),"-") -> - | AC37: - | AD37: =AA37 -> 0
A38: 36 | B38: Moduł do USPP (ZLS) typ MW | C38: MW | D38: 1364-W430187 | E38: R225241 W430187 | G38: 9.7 | H38: 0.2 | L38: 585.53 | M38: =VLOOKUP($D38,Materiał!$B$2:$E$1153,3,0) -> 585.53 | N38: =(M38-L38)/L38 -> 0 | O38: 0 | P38: =F38*Dane!$C$14+G38*Dane!$C$15+H38*Dane!$C$17 -> 327.7 | Q38: =F38*Dane!$F$14+G38*Dane!$F$15+H38*Dane!$F$17 -> 49.5 | R38: =F38*Dane!$H$14+G38*Dane!$H$15+H38*Dane!$H$16+(F38+G38+H38)*Dane!$C$22 -> 712.8 | S38: =SUM(L38,O38:R38) -> 1675.53 | T38: =S38*Dane!$D$2 -> 335.106 | U38: 0 | V38: =SUM(S38:U38) -> 2010.636 | W38: =V38*0.1 -> 201.0636 | X38: =V38*0.2 -> 402.1272 | Y38: =SUM(V38:W38) -> 2211.6996 | Z38: =SUM(V38,X38) -> 2412.7632 | AB38: =IFERROR(IF(#REF!="W",$AA38*Dane!$D$6,"-"),"-") -> - | AC38: =IFERROR(IF(#REF!="W",$AA38*Dane!$D$7,"-"),"-") -> - | AD38: =IFERROR(IF(#REF!="W",$AA38*Dane!$D$8,"-"),"-") -> -
A39: 37 | B39: Moduł do USPP (ZLS) typ MS | C39: MS | D39: 1364-W430188 | E39: R405383 W430188 | G39: 10.2 | H39: 0.1 | L39: 785.29 | M39: =VLOOKUP($D39,Materiał!$B$2:$E$1153,3,0) -> 785.29 | N39: =(M39-L39)/L39 -> 0 | O39: 0 | P39: =F39*Dane!$C$14+G39*Dane!$C$15+H39*Dane!$C$17 -> 340.4 | Q39: =F39*Dane!$F$14+G39*Dane!$F$15+H39*Dane!$F$17 -> 51.5 | R39: =F39*Dane!$H$14+G39*Dane!$H$15+H39*Dane!$H$16+(F39+G39+H39)*Dane!$C$22 -> 741.6 | S39: =SUM(L39,O39:R39) -> 1918.79 | T39: =S39*Dane!$D$2 -> 383.758 | U39: 0 | V39: =SUM(S39:U39) -> 2302.548 | W39: =V39*0.1 -> 230.2548 | X39: =V39*0.2 -> 460.5096 | Y39: =SUM(V39:W39) -> 2532.8028 | Z39: =SUM(V39,X39) -> 2763.0576 | AB39: =IFERROR(IF(#REF!="W",$AA39*Dane!$D$6,"-"),"-") -> - | AC39: =IFERROR(IF(#REF!="W",$AA39*Dane!$D$7,"-"),"-") -> - | AD39: =IFERROR(IF(#REF!="W",$AA39*Dane!$D$8,"-"),"-") -> -
A40: 38 | B40: Moduł do USPP (ZLS) typ MG/S | C40: MG/S | D40: 1364-W430393 | G40: 10.25 | H40: 0.02 | L40: 540.04 | M40: =VLOOKUP($D40,Materiał!$B$2:$E$1153,3,0) -> 540.04 | N40: =(M40-L40)/L40 -> 0 | O40: 0 | P40: =F40*Dane!$C$14+G40*Dane!$C$15+H40*Dane!$C$17 -> 339.01 | Q40: =F40*Dane!$F$14+G40*Dane!$F$15+H40*Dane!$F$17 -> 51.35 | R40: =F40*Dane!$H$14+G40*Dane!$H$15+H40*Dane!$H$16+(F40+G40+H40)*Dane!$C$22 -> 739.44 | S40: =SUM(L40,O40:R40) -> 1669.84 | T40: =S40*Dane!$D$2 -> 333.968 | U40: 0 | V40: =SUM(S40:U40) -> 2003.808 | W40: =V40*0.1 -> 200.3808 | X40: =V40*0.2 -> 400.7616 | Y40: =SUM(V40:W40) -> 2204.1888 | Z40: =SUM(V40,X40) -> 2404.5696 | AB40: =IFERROR(IF(#REF!="W",$AA40*Dane!$D$6,"-"),"-") -> - | AC40: =IFERROR(IF(#REF!="W",$AA40*Dane!$D$7,"-"),"-") -> - | AD40: =IFERROR(IF(#REF!="W",$AA40*Dane!$D$8,"-"),"-") -> -
...

Sheet II_Części zamienne
C1: II - CZĘŚCI ZAMIENNE | J1: =F4*Dane!$D$4 -> 0 | W1: Data aktualizacji: | X1: =EH!Z1 -> 0
A2: Lp. | B2: Klasyf.: Wyrób / Zakup | C2: Nazwa / typ | D2: Indeks | E2: Nr rysunku | F2: Rbh wyrób + półwyroby | G2: Kolumna1 | H2: Kolumna2 | I2: Wycena 2018 | J2: Kolumna3 | K2: Kolumna4 | L2: Kolumna5 | M2: Kolumna6 | N2: Kolumna7 | O2: Kolumna8 | P2: Kolumna9 | Q2: Kolumna10 | R2: Kolumna11 | S2: Kolumna12 | T2: Kolumna13 | U2: Kolumna14 | V2: Kolumna15 | W2: Kolumna16 | X2: Cena oferowana 2018 | Y2: Usługi wycena 2018 | Z2: Kolumna17 | AA2: Kolumna18
F3: TPU | G3: TPE | H3: TKJ | I3: Wartość materiału | J3: Kooperacja | K3: Koszt robocizny bezpośredniej | L3: Koszty wydziałowe zmienne | M3: Koszty wydziałowe stałe | N3: Techniczny koszt wytworzenia | O3: Koszty ogólno-zakładowe | P3: Całkowity koszt wytworzenia | Q3: Koszty sprzedaży zmienne | R3: Koszty sprzedaży stałe | S3: Całkowity koszt własny sprzedaży | T3: Marża 10% | U3: Marża 20% | V3: Cena sprzedaży z marżą 10% | W3: Cena sprzedaży z marżą 20% | Y3: Sprawdzenie | Z3: Remont podstawowy | AA3: Remont kapitalny
A4: 1 | B4: W | C4: Amperomierz cyfrowy E+H | D4: EH-2031-1-000001-01 | F4: 0 | G4: 2 | H4: 0 | I4: 99.150315 | J4: 0 | K4: =F4*Dane!$C$14+G4*Dane!$C$15+H4*Dane!$C$16 -> 66 | L4: =F4*Dane!$F$14+G4*Dane!$F$15+H4*Dane!$F$17 -> 10 | M4: =F4*Dane!$H$14+G4*Dane!$H$15+H4*Dane!$H$16+(F4+G4+H4)*Dane!$C$22 -> 144 | N4: =SUM(I4:M4) -> 319.15031 | O4: =IF(B4="W",N4*Dane!$D$2,N4*Dane!$H$2) -> 63.830063 | P4: =SUM(N4:O4) -> 382.98038 | Q4: =IF(B4="W",N4*Dane!$C$23,N4*Dane!$C$23) -> 0 | R4: =IF(B4="W",(N4*Dane!$D$3)-Q4,(N4*Dane!$H$3)-Q4) -> 0 | S4: =SUM(P4:R4) -> 382.98038 | T4: =S4*0.1 -> 38.298038 | U4: =S4*0.2 -> 76.596076 | V4: =SUM(S4:T4) -> 421.27842 | W4: =SUM(S4,U4) -> 459.57645 | X4: 2166.93 | Y4: =$X$4*Dane!$D6 -> 325.0395 | Z4: =$X$4*Dane!$D7 -> 650.079 | AA4: =$X$4*Dane!$D8 -> 1300.158
A5: =A4+1 -> 2 | B5: Z | C5: Amperomierz EA 17 | D5: 571-551-1511 | F5: 0 | G5: 0 | H5: 0 | I5: 90.585 | J5: 0 | K5: =F5*Dane!$C$14+G5*Dane!$C$15+H5*Dane!$C$16 -> 0 | L5: =F5*Dane!$F$14+G5*Dane!$F$15+H5*Dane!$F$17 -> 0 | M5: =F5*Dane!$H$14+G5*Dane!$H$15+H5*Dane!$H$16+(F5+G5+H5)*Dane!$C$22 -> 0 | N5: =SUM(I5:M5) -> 90.585 | O5: =IF(B5="W",N5*Dane!$D$2,N5*Dane!$H$2) -> 18.117 | P5: =SUM(N5:O5) -> 108.702 | Q5: =IF(B5="W",N5*Dane!$C$23,N5*Dane!$C$23) -> 0 | R5: =IF(B5="W",(N5*Dane!$D$3)-Q5,(N5*Dane!$H$3)-Q5) -> 0 | S5: =SUM(P5:R5) -> 108.702 | T5: =S5*0.1 -> 10.8702 | U5: =S5*0.2 -> 21.7404 | V5: =SUM(S5:T5) -> 119.5722 | W5: =SUM(S5,U5) -> 130.4424 | X5: 722.7 | Y5: - | Z5: - | AA5: -
A6: =A5+1 -> 3 | B6: Z | C6: AMP Kontakt męski/żeński | D6: - | F6: 0 | G6: 0 | H6: 0 | I6: 1.944558 | J6: 0 | K6: =F6*Dane!$C$14+G6*Dane!$C$15+H6*Dane!$C$16 -> 0 | L6: =F6*Dane!$F$14+G6*Dane!$F$15+H6*Dane!$F$17 -> 0 | M6: =F6*Dane!$H$14+G6*Dane!$H$15+H6*Dane!$H$16+(F6+G6+H6)*Dane!$C$22 -> 0 | N6: =SUM(I6:M6) -> 1.944558 | O6: =IF(B6="W",N6*Dane!$D$2,N6*Dane!$H$2) -> 0.3889116 | P6: =SUM(N6:O6) -> 2.3334696 | Q6: =IF(B6="W",N6*Dane!$C$23,N6*Dane!$C$23) -> 0 | R6: =IF(B6="W",(N6*Dane!$D$3)-Q6,(N6*Dane!$H$3)-Q6) -> 0 | S6: =SUM(P6:R6) -> 2.3334696 | T6: =S6*0.1 -> 0.23334696 | U6: =S6*0.2 -> 0.46669392 | V6: =SUM(S6:T6) -> 2.5668166 | W6: =SUM(S6,U6) -> 2.8001635 | X6: 3.18 | Y6: - | Z6: - | AA6: -
A7: =A6+1 -> 4 | B7: W | C7: Bariera ograniczająca EH-BO4 | D7: EH-2089-1-000019-01 | F7: 0 | G7: 1.5 | H7: 0.5 | I7: 55.689645 | J7: 0 | K7: =F7*Dane!$C$14+G7*Dane!$C$15+H7*Dane!$C$16 -> 68.5 | L7: =F7*Dane!$F$14+G7*Dane!$F$15+H7*Dane!$F$17 -> 10 | M7: =F7*Dane!$H$14+G7*Dane!$H$15+H7*Dane!$H$16+(F7+G7+H7)*Dane!$C$22 -> 144 | N7: =SUM(I7:M7) -> 278.18964 | O7: =IF(B7="W",N7*Dane!$D$2,N7*Dane!$H$2) -> 55.637929 | P7: =SUM(N7:O7) -> 333.82757 | Q7: =IF(B7="W",N7*Dane!$C$23,N7*Dane!$C$23) -> 0 | R7: =IF(B7="W",(N7*Dane!$D$3)-Q7,(N7*Dane!$H$3)-Q7) -> 0 | S7: =SUM(P7:R7) -> 333.82757 | T7: =S7*0.1 -> 33.382757 | U7: =S7*0.2 -> 66.765515 | V7: =SUM(S7:T7) -> 367.21033 | W7: =SUM(S7,U7) -> 400.59309 | X7: 1118.5 | Y7: =$X$7*Dane!$D$6 -> 167.775 | Z7: =X7*Dane!$D$7 -> 335.55 | AA7: =X7*Dane!$D$8 -> 671.1
A8: =A7+1 -> 5 | B8: W | C8: Bariera ograniczająca EH-P/20/06.01 | D8: EH-2109-1-000014-01 | F8: 0 | G8: 1 | H8: 0.15 | I8: 54 | J8: 0 | K8: =F8*Dane!$C$14+G8*Dane!$C$15+H8*Dane!$C$16 -> 38.7 | L8: =F8*Dane!$F$14+G8*Dane!$F$15+H8*Dane!$F$17 -> 5.75 | M8: =F8*Dane!$H$14+G8*Dane!$H$15+H8*Dane!$H$16+(F8+G8+H8)*Dane!$C$22 -> 82.8 | N8: =SUM(I8:M8) -> 181.25 | O8: =IF(B8="W",N8*Dane!$D$2,N8*Dane!$H$2) -> 36.25 | P8: =SUM(N8:O8) -> 217.5 | Q8: =IF(B8="W",N8*Dane!$C$23,N8*Dane!$C$23) -> 0 | R8: =IF(B8="W",(N8*Dane!$D$3)-Q8,(N8*Dane!$H$3)-Q8) -> 0 | S8: =SUM(P8:R8) -> 217.5 | T8: =S8*0.1 -> 21.75 | U8: =S8*0.2 -> 43.5 | V8: =SUM(S8:T8) -> 239.25 | W8: =SUM(S8,U8) -> 261 | X8: 564 | Y8: - | Z8: - | AA8: -
A9: =A8+1 -> 6 | B9: W | C9: Bariera ograniczająca EH-P/20/02 | D9: EH-2109-1-000009-01 | F9: 0 | G9: 0.5 | H9: 0.2 | I9: 46.46004 | J9: 0 | K9: =F9*Dane!$C$14+G9*Dane!$C$15+H9*Dane!$C$16 -> 24.1 | L9: =F9*Dane!$F$14+G9*Dane!$F$15+H9*Dane!$F$17 -> 3.5 | M9: =F9*Dane!$H$14+G9*Dane!$H$15+H9*Dane!$H$16+(F9+G9+H9)*Dane!$C$22 -> 50.4 | N9: =SUM(I9:M9) -> 124.46004 | O9: =IF(B9="W",N9*Dane!$D$2,N9*Dane!$H$2) -> 24.892008 | P9: =SUM(N9:O9) -> 149.35205 | Q9: =IF(B9="W",N9*Dane!$C$23,N9*Dane!$C$23) -> 0 | R9: =IF(B9="W",(N9*Dane!$D$3)-Q9,(N9*Dane!$H$3)-Q9) -> 0 | S9: =SUM(P9:R9) -> 149.35205 | T9: =S9*0.1 -> 14.935205 | U9: =S9*0.2 -> 29.87041 | V9: =SUM(S9:T9) -> 164.28725 | W9: =SUM(S9,U9) -> 179.22246 | X9: 469.9 | Y9: =X9*Dane!$D$6 -> 70.485 | Z9: =X9*Dane!$D$7 -> 140.97 | AA9: =X9*Dane!$D$8 -> 281.94
A10: =A9+1 -> 7 | B10: Z | C10: Bezpiecznik S-301 | D10: 700-272-% | F10: 0 | G10: 0 | H10: 0 | I10: 22.76703 | J10: 0 | K10: =F10*Dane!$C$14+G10*Dane!$C$15+H10*Dane!$C$16 -> 0 | L10: =F10*Dane!$F$14+G10*Dane!$F$15+H10*Dane!$F$17 -> 0 | M10: =F10*Dane!$H$14+G10*Dane!$H$15+H10*Dane!$H$16+(F10+G10+H10)*Dane!$C$22 -> 0 | N10: =SUM(I10:M10) -> 22.76703 | O10: =IF(B10="W",N10*Dane!$D$2,N10*Dane!$H$2) -> 4.553406 | P10: =SUM(N10:O10) -> 27.320436 | Q10: =IF(B10="W",N10*Dane!$C$23,N10*Dane!$C$23) -> 0 | R10: =IF(B10="W",(N10*Dane!$D$3)-Q10,(N10*Dane!$H$3)-Q10) -> 0 | S10: =SUM(P10:R10) -> 27.320436 | T10: =S10*0.1 -> 2.7320436 | U10: =S10*0.2 -> 5.4640872 | V10: =SUM(S10:T10) -> 30.05248 | W10: =SUM(S10,U10) -> 32.784523 | X10: 52.55 | Y10: - | Z10: - | AA10: -
A11: =A10+1 -> 8 | B11: Z | C11: Bezpiecznik S-302 | D11: 700-272-% | F11: 0 | G11: 0 | H11: 0 | I11: 65.36211 | J11: 0 | K11: =F11*Dane!$C$14+G11*Dane!$C$15+H11*Dane!$C$16 -> 0 | L11: =F11*Dane!$F$14+G11*Dane!$F$15+H11*Dane!$F$17 -> 0 | M11: =F11*Dane!$H$14+G11*Dane!$H$15+H11*Dane!$H$16+(F11+G11+H11)*Dane!$C$22 -> 0 | N11: =SUM(I11:M11) -> 65.36211 | O11: =IF(B11="W",N11*Dane!$D$2,N11*Dane!$H$2) -> 13.072422 | P11: =SUM(N11:O11) -> 78.434532 | Q11: =IF(B11="W",N11*Dane!$C$23,N11*Dane!$C$23) -> 0 | R11: =IF(B11="W",(N11*Dane!$D$3)-Q11,(N11*Dane!$H$3)-Q11) -> 0 | S11: =SUM(P11:R11) -> 78.434532 | T11: =S11*0.1 -> 7.8434532 | U11: =S11*0.2 -> 15.686906 | V11: =SUM(S11:T11) -> 86.277985 | W11: =SUM(S11,U11) -> 94.121438 | X11: 88.29 | Y11: - | Z11: - | AA11: -
A12: =A11+1 -> 9 | B12: W | C12: Bezprzewodowy iskrobezpieczny przetwornik ciśnienia EH-O/08/03.01 | D12: EH-2163-1-000001-01 | F12: 0 | G12: 4.278 | H12: 0.59 | I12: 741.08595 | J12: 0 | K12: =F12*Dane!$C$14+G12*Dane!$C$15+H12*Dane!$C$16 -> 163.594 | L12: =F12*Dane!$F$14+G12*Dane!$F$15+H12*Dane!$F$17 -> 24.34 | M12: =F12*Dane!$H$14+G12*Dane!$H$15+H12*Dane!$H$16+(F12+G12+H12)*Dane!$C$22 -> 350.496 | N12: =SUM(I12:M12) -> 1279.5159 | O12: =IF(B12="W",N12*Dane!$D$2,N12*Dane!$H$2) -> 255.90319 | P12: =SUM(N12:O12) -> 1535.4191 | Q12: =IF(B12="W",N12*Dane!$C$23,N12*Dane!$C$23) -> 0 | R12: =IF(B12="W",(N12*Dane!$D$3)-Q12,(N12*Dane!$H$3)-Q12) -> 0 | S12: =SUM(P12:R12) -> 1535.4191 | T12: =S12*0.1 -> 153.54191 | U12: =S12*0.2 -> 307.08383 | V12: =SUM(S12:T12) -> 1688.9611 | W12: =SUM(S12,U12) -> 1842.503 | X12: 2314.93 | Y12: =X12*Dane!$D$6 -> 347.2395 | Z12: =X12*Dane!$D$7 -> 694.479 | AA12: =X12*Dane!$D$8 -> 1388.958
A13: =A12+1 -> 10 | B13: Z | C13: Blacha suwna blokady | D13: 642-100-20% | F13: 0 | G13: 0 | H13: 0 | I13: 182.9817 | J13: 0 | K13: =F13*Dane!$C$14+G13*Dane!$C$15+H13*Dane!$C$16 -> 0 | L13: =F13*Dane!$F$14+G13*Dane!$F$15+H13*Dane!$F$17 -> 0 | M13: =F13*Dane!$H$14+G13*Dane!$H$15+H13*Dane!$H$16+(F13+G13+H13)*Dane!$C$22 -> 0 | N13: =SUM(I13:M13) -> 182.9817 | O13: =IF(B13="W",N13*Dane!$D$2,N13*Dane!$H$2) -> 36.59634 | P13: =SUM(N13:O13) -> 219.57804 | Q13: =IF(B13="W",N13*Dane!$C$23,N13*Dane!$C$23) -> 0 | R13: =IF(B13="W",(N13*Dane!$D$3)-Q13,(N13*Dane!$H$3)-Q13) -> 0 | S13: =SUM(P13:R13) -> 219.57804 | T13: =S13*0.1 -> 21.957804 | U13: =S13*0.2 -> 43.915608 | V13: =SUM(S13:T13) -> 241.53584 | W13: =SUM(S13,U13) -> 263.49365 | X13: 429.55
A14: =A13+1 -> 11 | B14: Z | C14: Blok czasowy LAD | D14: 640-400-000% 689-190-1510 | F14: 0 | G14: 0 | H14: 0 | I14: 61.49715 | J14: 0 | K14: =F14*Dane!$C$14+G14*Dane!$C$15+H14*Dane!$C$16 -> 0 | L14: =F14*Dane!$F$14+G14*Dane!$F$15+H14*Dane!$F$17 -> 0 | M14: =F14*Dane!$H$14+G14*Dane!$H$15+H14*Dane!$H$16+(F14+G14+H14)*Dane!$C$22 -> 0 | N14: =SUM(I14:M14) -> 61.49715 | O14: =IF(B14="W",N14*Dane!$D$2,N14*Dane!$H$2) -> 12.29943 | P14: =SUM(N14:O14) -> 73.79658 | Q14: =IF(B14="W",N14*Dane!$C$23,N14*Dane!$C$23) -> 0 | R14: =IF(B14="W",(N14*Dane!$D$3)-Q14,(N14*Dane!$H$3)-Q14) -> 0 | S14: =SUM(P14:R14) -> 73.79658 | T14: =S14*0.1 -> 7.379658 | U14: =S14*0.2 -> 14.759316 | V14: =SUM(S14:T14) -> 81.176238 | W14: =SUM(S14,U14) -> 88.555896 | X14: 239.35
A15: =A14+1 -> 12 | B15: Z | C15: Blok izolacyjny + zaciski EL-Z1-315-400-450A wielkość "2" - 33mm | D15: 725-360-5011 | F15: 0 | G15: 0 | H15: 0 | I15: 175.41282 | J15: 0 | K15: =F15*Dane!$C$14+G15*Dane!$C$15+H15*Dane!$C$16 -> 0 | L15: =F15*Dane!$F$14+G15*Dane!$F$15+H15*Dane!$F$17 -> 0 | M15: =F15*Dane!$H$14+G15*Dane!$H$15+H15*Dane!$H$16+(F15+G15+H15)*Dane!$C$22 -> 0 | N15: =SUM(I15:M15) -> 175.41282 | O15: =IF(B15="W",N15*Dane!$D$2,N15*Dane!$H$2) -> 35.082564 | P15: =SUM(N15:O15) -> 210.49538 | Q15: =IF(B15="W",N15*Dane!$C$23,N15*Dane!$C$23) -> 0 | R15: =IF(B15="W",(N15*Dane!$D$3)-Q15,(N15*Dane!$H$3)-Q15) -> 0 | S15: =SUM(P15:R15) -> 210.49538 | T15: =S15*0.1 -> 21.049538 | U15: =S15*0.2 -> 42.099077 | V15: =SUM(S15:T15) -> 231.54492 | W15: =SUM(S15,U15) -> 252.59446 | X15: 262.52
A16: =A15+1 -> 13 | B16: Z | C16: Blok izolacyjny EL-Z3 1000/1140V + zaciski EL-Z1-315-400-450A wielkość "2" - 55mm | D16: 725-360-5102 | F16: 0 | G16: 0 | H16: 0 | I16: 264.7095 | J16: 0 | K16: =F16*Dane!$C$14+G16*Dane!$C$15+H16*Dane!$C$16 -> 0 | L16: =F16*Dane!$F$14+G16*Dane!$F$15+H16*Dane!$F$17 -> 0 | M16: =F16*Dane!$H$14+G16*Dane!$H$15+H16*Dane!$H$16+(F16+G16+H16)*Dane!$C$22 -> 0 | N16: =SUM(I16:M16) -> 264.7095 | O16: =IF(B16="W",N16*Dane!$D$2,N16*Dane!$H$2) -> 52.9419 | P16: =SUM(N16:O16) -> 317.6514 | Q16: =IF(B16="W",N16*Dane!$C$23,N16*Dane!$C$23) -> 0 | R16: =IF(B16="W",(N16*Dane!$D$3)-Q16,(N16*Dane!$H$3)-Q16) -> 0 | S16: =SUM(P16:R16) -> 317.6514 | T16: =S16*0.1 -> 31.76514 | U16: =S16*0.2 -> 63.53028 | V16: =SUM(S16:T16) -> 349.41654 | W16: =SUM(S16,U16) -> 381.18168 | X16: 396.15
A17: =A16+1 -> 14 | B17: Z | C17: Blok izolacyjny EL-Z6 1000/1140V + zaciski EL-Z1-315-400-450A wielkość "2" - 55mm | D17: 725-360-5104 | F17: 0 | G17: 0 | H17: 0 | I17: 361.3335 | J17: 0 | K17: =F17*Dane!$C$14+G17*Dane!$C$15+H17*Dane!$C$16 -> 0 | L17: =F17*Dane!$F$14+G17*Dane!$F$15+H17*Dane!$F$17 -> 0 | M17: =F17*Dane!$H$14+G17*Dane!$H$15+H17*Dane!$H$16+(F17+G17+H17)*Dane!$C$22 -> 0 | N17: =SUM(I17:M17) -> 361.3335 | O17: =IF(B17="W",N17*Dane!$D$2,N17*Dane!$H$2) -> 72.2667 | P17: =SUM(N17:O17) -> 433.6002 | Q17: =IF(B17="W",N17*Dane!$C$23,N17*Dane!$C$23) -> 0 | R17: =IF(B17="W",(N17*Dane!$D$3)-Q17,(N17*Dane!$H$3)-Q17) -> 0 | S17: =SUM(P17:R17) -> 433.6002 | T17: =S17*0.1 -> 43.36002 | U17: =S17*0.2 -> 86.72004 | V17: =SUM(S17:T17) -> 476.96022 | W17: =SUM(S17,U17) -> 520.32024 | X17: 540.52
A18: =A17+1 -> 15 | B18: W | C18: Blok warystorów HR-V3 | D18: 725-011-16%0 640-401-000% | F18: 0 | G18: 0 | H18: 0 | I18: 54.89451 | J18: 0 | K18: =F18*Dane!$C$14+G18*Dane!$C$15+H18*Dane!$C$16 -> 0 | L18: =F18*Dane!$F$14+G18*Dane!$F$15+H18*Dane!$F$17 -> 0 | M18: =F18*Dane!$H$14+G18*Dane!$H$15+H18*Dane!$H$16+(F18+G18+H18)*Dane!$C$22 -> 0 | N18: =SUM(I18:M18) -> 54.89451 | O18: =IF(B18="W",N18*Dane!$D$2,N18*Dane!$H$2) -> 10.978902 | P18: =SUM(N18:O18) -> 65.873412 | Q18: =IF(B18="W",N18*Dane!$C$23,N18*Dane!$C$23) -> 0 | R18: =IF(B18="W",(N18*Dane!$D$3)-Q18,(N18*Dane!$H$3)-Q18) -> 0 | S18: =SUM(P18:R18) -> 65.873412 | T18: =S18*0.1 -> 6.5873412 | U18: =S18*0.2 -> 13.174682 | V18: =SUM(S18:T18) -> 72.460753 | W18: =SUM(S18,U18) -> 79.048094 | X18: 378
A19: =A18+1 -> 16 | B19: Z | C19: Blokada centralna drzwi - zamek 2-pozycyjny | D19: 4311-3-000104-01 | F19: 0 | G19: 0 | H19: 0 | I19: 361.99779 | J19: 0 | K19: =F19*Dane!$C$14+G19*Dane!$C$15+H19*Dane!$C$16 -> 0 | L19: =F19*Dane!$F$14+G19*Dane!$F$15+H19*Dane!$F$17 -> 0 | M19: =F19*Dane!$H$14+G19*Dane!$H$15+H19*Dane!$H$16+(F19+G19+H19)*Dane!$C$22 -> 0 | N19: =SUM(I19:M19) -> 361.99779 | O19: =IF(B19="W",N19*Dane!$D$2,N19*Dane!$H$2) -> 72.399558 | P19: =SUM(N19:O19) -> 434.39735 | Q19: =IF(B19="W",N19*Dane!$C$23,N19*Dane!$C$23) -> 0 | R19: =IF(B19="W",(N19*Dane!$D$3)-Q19,(N19*Dane!$H$3)-Q19) -> 0 | S19: =SUM(P19:R19) -> 434.39735 | T19: =S19*0.1 -> 43.439735 | U19: =S19*0.2 -> 86.87947 | V19: =SUM(S19:T19) -> 477.83708 | W19: =SUM(S19,U19) -> 521.27682 | X19: 1326.31
A20: =A19+1 -> 17 | B20: Z | C20: Blokada mechaniczna LAD | D20: 640-002-3005 | F20: 0 | G20: 0 | H20: 0 | I20: 35.177175 | J20: 0 | K20: =F20*Dane!$C$14+G20*Dane!$C$15+H20*Dane!$C$16 -> 0 | L20: =F20*Dane!$F$14+G20*Dane!$F$15+H20*Dane!$F$17 -> 0 | M20: =F20*Dane!$H$14+G20*Dane!$H$15+H20*Dane!$H$16+(F20+G20+H20)*Dane!$C$22 -> 0 | N20: =SUM(I20:M20) -> 35.177175 | O20: =IF(B20="W",N20*Dane!$D$2,N20*Dane!$H$2) -> 7.035435 | P20: =SUM(N20:O20) -> 42.21261 | Q20: =IF(B20="W",N20*Dane!$C$23,N20*Dane!$C$23) -> 0 | R20: =IF(B20="W",(N20*Dane!$D$3)-Q20,(N20*Dane!$H$3)-Q20) -> 0 | S20: =SUM(P20:R20) -> 42.21261 | T20: =S20*0.1 -> 4.221261 | U20: =S20*0.2 -> 8.442522 | V20: =SUM(S20:T20) -> 46.433871 | W20: =SUM(S20,U20) -> 50.655132 | X20: 54.96
A21: =A20+1 -> 18 | B21: Z | C21: Bolec kodujący do wtyczki AMP | D21: 728-450-0510 | F21: 0 | G21: 0 | H21: 0 | I21: 0.6411405 | J21: 0 | K21: =F21*Dane!$C$14+G21*Dane!$C$15+H21*Dane!$C$16 -> 0 | L21: =F21*Dane!$F$14+G21*Dane!$F$15+H21*Dane!$F$17 -> 0 | M21: =F21*Dane!$H$14+G21*Dane!$H$15+H21*Dane!$H$16+(F21+G21+H21)*Dane!$C$22 -> 0 | N21: =SUM(I21:M21) -> 0.6411405 | O21: =IF(B21="W",N21*Dane!$D$2,N21*Dane!$H$2) -> 0.1282281 | P21: =SUM(N21:O21) -> 0.7693686 | Q21: =IF(B21="W",N21*Dane!$C$23,N21*Dane!$C$23) -> 0 | R21: =IF(B21="W",(N21*Dane!$D$3)-Q21,(N21*Dane!$H$3)-Q21) -> 0 | S21: =SUM(P21:R21) -> 0.7693686 | T21: =S21*0.1 -> 0.07693686 | U21: =S21*0.2 -> 0.15387372 | V21: =SUM(S21:T21) -> 0.84630546 | W21: =SUM(S21,U21) -> 0.92324232 | X21: 1.11
A22: =A21+1 -> 19 | B22: W | C22: Centralne zabezpieczenie upływowe typu EH-P/02/07.01 | D22: EH-2101-1-000013-01 | F22: 0 | G22: 8 | H22: 2 | I22: 1475.227 | J22: 0 | K22: =F22*Dane!$C$14+G22*Dane!$C$15+H22*Dane!$C$16 -> 340 | L22: =F22*Dane!$F$14+G22*Dane!$F$15+H22*Dane!$F$17 -> 50 | M22: =F22*Dane!$H$14+G22*Dane!$H$15+H22*Dane!$H$16+(F22+G22+H22)*Dane!$C$22 -> 720 | N22: =SUM(I22:M22) -> 2585.227 | O22: =IF(B22="W",N22*Dane!$D$2,N22*Dane!$H$2) -> 517.04541 | P22: =SUM(N22:O22) -> 3102.2725 | Q22: =IF(B22="W",N22*Dane!$C$23,N22*Dane!$C$23) -> 0 | R22: =IF(B22="W",(N22*Dane!$D$3)-Q22,(N22*Dane!$H$3)-Q22) -> 0 | S22: =SUM(P22:R22) -> 3102.2725 | T22: =S22*0.1 -> 310.22725 | U22: =S22*0.2 -> 620.45449 | V22: =SUM(S22:T22) -> 3412.4997 | W22: =SUM(S22,U22) -> 3722.727 | X22: 4615 | Y22: =X22*Dane!$D$6 -> 692.25 | Z22: =X22*Dane!$D$7 -> 1384.5 | AA22: =X22*Dane!$D$8 -> 2769
A23: =A22+1 -> 20 | B23: W | C23: Centralne zabezpieczenie upływowe EH-P/02/12.01 | D23: EH-2101-1-000015-01 | F23: 0 | G23: 12 | H23: 1.5 | I23: 835.04 | J23: 0 | K23: =F23*Dane!$C$14+G23*Dane!$C$15+H23*Dane!$C$16 -> 453 | L23: =F23*Dane!$F$14+G23*Dane!$F$15+H23*Dane!$F$17 -> 67.5 | M23: =F23*Dane!$H$14+G23*Dane!$H$15+H23*Dane!$H$16+(F23+G23+H23)*Dane!$C$22 -> 972 | N23: =SUM(I23:M23) -> 2327.54 | O23: =IF(B23="W",N23*Dane!$D$2,N23*Dane!$H$2) -> 465.508 | P23: =SUM(N23:O23) -> 2793.048 | Q23: =IF(B23="W",N23*Dane!$C$23,N23*Dane!$C$23) -> 0 | R23: =IF(B23="W",(N23*Dane!$D$3)-Q23,(N23*Dane!$H$3)-Q23) -> 0 | S23: =SUM(P23:R23) -> 2793.048 | T23: =S23*0.1 -> 279.3048 | U23: =S23*0.2 -> 558.6096 | V23: =SUM(S23:T23) -> 3072.3528 | W23: =SUM(S23,U23) -> 3351.6576 | X23: 14470
A24: =A23+1 -> 21 | B24: Z | C24: Cewka wybijakowa (wzrostowa) dla napędu T2 | D24: 685-900-0001 | F24: 0 | G24: 0 | H24: 0 | I24: 602.61168 | J24: 0 | K24: =F24*Dane!$C$14+G24*Dane!$C$15+H24*Dane!$C$16 -> 0 | L24: =F24*Dane!$F$14+G24*Dane!$F$15+H24*Dane!$F$17 -> 0 | M24: =F24*Dane!$H$14+G24*Dane!$H$15+H24*Dane!$H$16+(F24+G24+H24)*Dane!$C$22 -> 0 | N24: =SUM(I24:M24) -> 602.61168 | O24: =IF(B24="W",N24*Dane!$D$2,N24*Dane!$H$2) -> 120.52234 | P24: =SUM(N24:O24) -> 723.13402 | Q24: =IF(B24="W",N24*Dane!$C$23,N24*Dane!$C$23) -> 0 | R24: =IF(B24="W",(N24*Dane!$D$3)-Q24,(N24*Dane!$H$3)-Q24) -> 0 | S24: =SUM(P24:R24) -> 723.13402 | T24: =S24*0.1 -> 72.313402 | U24: =S24*0.2 -> 144.6268 | V24: =SUM(S24:T24) -> 795.44742 | W24: =SUM(S24,U24) -> 867.76082 | X24: 825
A25: =A24+1 -> 22 | B25: W | C25: Cewka iskrobezpieczna elektrozaworu EH-O/11/02.01 - "ia"/9W/15V | D25: EH-3194-1-000001-01 | F25: 1 | G25: 4.5 | H25: 1 | I25: 500.76394 | J25: 0 | K25: =F25*Dane!$C$14+G25*Dane!$C$15+H25*Dane!$C$16 -> 219.5 | L25: =F25*Dane!$F$14+G25*Dane!$F$15+H25*Dane!$F$17 -> 42.5 | M25: =F25*Dane!$H$14+G25*Dane!$H$15+H25*Dane!$H$16+(F25+G25+H25)*Dane!$C$22 -> 468 | N25: =SUM(I25:M25) -> 1230.7639 | O25: =IF(B25="W",N25*Dane!$D$2,N25*Dane!$H$2) -> 246.15279 | P25: =SUM(N25:O25) -> 1476.9167 | Q25: =IF(B25="W",N25*Dane!$C$23,N25*Dane!$C$23) -> 0 | R25: =IF(B25="W",(N25*Dane!$D$3)-Q25,(N25*Dane!$H$3)-Q25) -> 0 | S25: =SUM(P25:R25) -> 1476.9167 | T25: =S25*0.1 -> 147.69167 | U25: =S25*0.2 -> 295.38335 | V25: =SUM(S25:T25) -> 1624.6084 | W25: =SUM(S25,U25) -> 1772.3001 | X25: 1911.4146 | Y25: =X25*Dane!$D$6 -> 286.71219 | Z25: =X25*Dane!$D$7 -> 573.42438 | AA25: =X25*Dane!$D$8 -> 1146.8488
A26: =A25+1 -> 23 | B26: Z | C26: Cięgno blokady, uziemnika | D26: 642-121-100% | F26: 0 | G26: 0 | H26: 0 | I26: 133.8645 | J26: 0 | K26: =F26*Dane!$C$14+G26*Dane!$C$15+H26*Dane!$C$16 -> 0 | L26: =F26*Dane!$F$14+G26*Dane!$F$15+H26*Dane!$F$17 -> 0 | M26: =F26*Dane!$H$14+G26*Dane!$H$15+H26*Dane!$H$16+(F26+G26+H26)*Dane!$C$22 -> 0 | N26: =SUM(I26:M26) -> 133.8645 | O26: =IF(B26="W",N26*Dane!$D$2,N26*Dane!$H$2) -> 26.7729 | P26: =SUM(N26:O26) -> 160.6374 | Q26: =IF(B26="W",N26*Dane!$C$23,N26*Dane!$C$23) -> 0 | R26: =IF(B26="W",(N26*Dane!$D$3)-Q26,(N26*Dane!$H$3)-Q26) -> 0 | S26: =SUM(P26:R26) -> 160.6374 | T26: =S26*0.1 -> 16.06374 | U26: =S26*0.2 -> 32.12748 | V26: =SUM(S26:T26) -> 176.70114 | W26: =SUM(S26,U26) -> 192.76488 | X26: 534.74
A27: =A26+1 -> 24 | B27: W | C27: Cyfrowy wskaźnik wartości - moduł główny EH-P06/01 | D27: EH-2031-1-000007-02 | F27: 0 | G27: 1.5 | H27: 0.5 | I27: 227.40861 | J27: 0 | K27: =F27*Dane!$C$14+G27*Dane!$C$15+H27*Dane!$C$16 -> 68.5 | L27: =F27*Dane!$F$14+G27*Dane!$F$15+H27*Dane!$F$17 -> 10 | M27: =F27*Dane!$H$14+G27*Dane!$H$15+H27*Dane!$H$16+(F27+G27+H27)*Dane!$C$22 -> 144 | N27: =SUM(I27:M27) -> 449.90861 | O27: =IF(B27="W",N27*Dane!$D$2,N27*Dane!$H$2) -> 89.981722 | P27: =SUM(N27:O27) -> 539.89033 | Q27: =IF(B27="W",N27*Dane!$C$23,N27*Dane!$C$23) -> 0 | R27: =IF(B27="W",(N27*Dane!$D$3)-Q27,(N27*Dane!$H$3)-Q27) -> 0 | S27: =SUM(P27:R27) -> 539.89033 | T27: =S27*0.1 -> 53.989033 | U27: =S27*0.2 -> 107.97807 | V27: =SUM(S27:T27) -> 593.87937 | W27: =SUM(S27,U27) -> 647.8684 | X27: 2534.7 | Y27: =X27*Dane!$D$6 -> 380.205 | Z27: =X27*Dane!$D$7 -> 760.41 | AA27: =X27*Dane!$D$8 -> 1520.82
A28: =A27+1 -> 25 | B28: W | C28: Cyfrowy wskaźnik wartości - moduł woltomierza EH-P06/02 | D28: EH-2032-1-000014-02 | F28: 0 | G28: 1.5 | H28: 0.5 | I28: 77.82258 | J28: 0 | K28: =F28*Dane!$C$14+G28*Dane!$C$15+H28*Dane!$C$16 -> 68.5 | L28: =F28*Dane!$F$14+G28*Dane!$F$15+H28*Dane!$F$17 -> 10 | M28: =F28*Dane!$H$14+G28*Dane!$H$15+H28*Dane!$H$16+(F28+G28+H28)*Dane!$C$22 -> 144 | N28: =SUM(I28:M28) -> 300.32258 | O28: =IF(B28="W",N28*Dane!$D$2,N28*Dane!$H$2) -> 60.064516 | P28: =SUM(N28:O28) -> 360.3871 | Q28: =IF(B28="W",N28*Dane!$C$23,N28*Dane!$C$23) -> 0 | R28: =IF(B28="W",(N28*Dane!$D$3)-Q28,(N28*Dane!$H$3)-Q28) -> 0 | S28: =SUM(P28:R28) -> 360.3871 | T28: =S28*0.1 -> 36.03871 | U28: =S28*0.2 -> 72.077419 | V28: =SUM(S28:T28) -> 396.42581 | W28: =SUM(S28,U28) -> 432.46452 | X28: 1820.17 | Y28: =X28*Dane!$D$6 -> 273.0255 | Z28: =X28*Dane!$D$7 -> 546.051 | AA28: =X28*Dane!$D$8 -> 1092.102
A29: =A28+1 -> 26 | B29: W | C29: Cyfrowy wskaźnik wartości - moduł amperomierza EH-P06/03 | D29: EH-2031-1-000006-04 | F29: 0 | G29: 2 | H29: 0.25 | I29: 44.759055 | J29: 0 | K29: =F29*Dane!$C$14+G29*Dane!$C$15+H29*Dane!$C$16 -> 75.5 | L29: =F29*Dane!$F$14+G29*Dane!$F$15+H29*Dane!$F$17 -> 11.25 | M29: =F29*Dane!$H$14+G29*Dane!$H$15+H29*Dane!$H$16+(F29+G29+H29)*Dane!$C$22 -> 162 | N29: =SUM(I29:M29) -> 293.50905 | O29: =IF(B29="W",N29*Dane!$D$2,N29*Dane!$H$2) -> 58.701811 | P29: =SUM(N29:O29) -> 352.21087 | Q29: =IF(B29="W",N29*Dane!$C$23,N29*Dane!$C$23) -> 0 | R29: =IF(B29="W",(N29*Dane!$D$3)-Q29,(N29*Dane!$H$3)-Q29) -> 0 | S29: =SUM(P29:R29) -> 352.21087 | T29: =S29*0.1 -> 35.221087 | U29: =S29*0.2 -> 70.442173 | V29: =SUM(S29:T29) -> 387.43195 | W29: =SUM(S29,U29) -> 422.65304 | X29: 1553.99 | Y29: =X29*Dane!$D$6 -> 233.0985 | Z29: =X29*Dane!$D$7 -> 466.197 | AA29: =X29*Dane!$D$8 -> 932.394
A30: =A29+1 -> 27 | B30: W | C30: Człon sprzęgający typu EH-P/14/04.01 | D30: EH-2092-1-000036-01 | F30: 0 | G30: 2 | H30: 0.5 | I30: 53.92827 | J30: 0 | K30: =F30*Dane!$C$14+G30*Dane!$C$15+H30*Dane!$C$16 -> 85 | L30: =F30*Dane!$F$14+G30*Dane!$F$15+H30*Dane!$F$17 -> 12.5 | M30: =F30*Dane!$H$14+G30*Dane!$H$15+H30*Dane!$H$16+(F30+G30+H30)*Dane!$C$22 -> 180 | N30: =SUM(I30:M30) -> 331.42827 | O30: =IF(B30="W",N30*Dane!$D$2,N30*Dane!$H$2) -> 66.285654 | P30: =SUM(N30:O30) -> 397.71392 | Q30: =IF(B30="W",N30*Dane!$C$23,N30*Dane!$C$23) -> 0 | R30: =IF(B30="W",(N30*Dane!$D$3)-Q30,(N30*Dane!$H$3)-Q30) -> 0 | S30: =SUM(P30:R30) -> 397.71392 | T30: =S30*0.1 -> 39.771392 | U30: =S30*0.2 -> 79.542785 | V30: =SUM(S30:T30) -> 437.48532 | W30: =SUM(S30,U30) -> 477.25671 | X30: 496.79696 | Y30: =X30*Dane!$D$6 -> 74.519544 | Z30: =X30*Dane!$D$7 -> 149.03909 | AA30: =X30*Dane!$D$8 -> 298.07818
A31: =A30+1 -> 28 | B31: Z | C31: Człon sprzęgający (separator programowalny) mFK A101/d/E | D31: 689-002-0002 | F31: 0 | G31: 0 | H31: 0 | I31: =3707*Dane!$D$4 -> 17655.7 | J31: 0 | K31: =F31*Dane!$C$14+G31*Dane!$C$15+H31*Dane!$C$16 -> 0 | L31: =F31*Dane!$F$14+G31*Dane!$F$15+H31*Dane!$F$17 -> 0 | M31: =F31*Dane!$H$14+G31*Dane!$H$15+H31*Dane!$H$16+(F31+G31+H31)*Dane!$C$22 -> 0 | N31: =SUM(I31:M31) -> 17655.7 | O31: =IF(B31="W",N31*Dane!$D$2,N31*Dane!$H$2) -> 3531.1399 | P31: =SUM(N31:O31) -> 21186.84 | Q31: =IF(B31="W",N31*Dane!$C$23,N31*Dane!$C$23) -> 0 | R31: =IF(B31="W",(N31*Dane!$D$3)-Q31,(N31*Dane!$H$3)-Q31) -> 0 | S31: =SUM(P31:R31) -> 21186.84 | T31: =S31*0.1 -> 2118.684 | U31: =S31*0.2 -> 4237.3679 | V31: =SUM(S31:T31) -> 23305.523 | W31: =SUM(S31,U31) -> 25424.207 | X31: 29829.48 | Y31: =X31*Dane!$D$6 -> 4474.422 | Z31: =X31*Dane!$D$7 -> 8948.844 | AA31: =X31*Dane!$D$8 -> 17897.688
A32: =A31+1 -> 29 | B32: W | C32: Czujnik poziomu cieczy typu EH-O/08/06.01 | D32: EH-1362-1-000027-01 | F32: 0.6 | G32: 1.1 | H32: 0.3 | I32: 1206.2601 | J32: 0 | K32: =F32*Dane!$C$14+G32*Dane!$C$15+H32*Dane!$C$16 -> 67.5 | L32: =F32*Dane!$F$14+G32*Dane!$F$15+H32*Dane!$F$17 -> 16 | M32: =F32*Dane!$H$14+G32*Dane!$H$15+H32*Dane!$H$16+(F32+G32+H32)*Dane!$C$22 -> 144 | N32: =SUM(I32:M32) -> 1433.7601 | O32: =IF(B32="W",N32*Dane!$D$2,N32*Dane!$H$2) -> 286.75201 | P32: =SUM(N32:O32) -> 1720.5121 | Q32: =IF(B32="W",N32*Dane!$C$23,N32*Dane!$C$23) -> 0 | R32: =IF(B32="W",(N32*Dane!$D$3)-Q32,(N32*Dane!$H$3)-Q32) -> 0 | S32: =SUM(P32:R32) -> 1720.5121 | T32: =S32*0.1 -> 172.05121 | U32: =S32*0.2 -> 344.10241 | V32: =SUM(S32:T32) -> 1892.5633 | W32: =SUM(S32,U32) -> 2064.6145 | X32: 2224.2594 | Y32: =X32*Dane!$D$6 -> 333.6389 | Z32: =X32*Dane!$D$7 -> 667.27781 | AA32: =X32*Dane!$D$8 -> 1334.5556
A33: =A32+1 -> 30 | B33: W | C33: Czujnik temperatury typu EH-P/22/04.01 | D33: EH-2093-1-000008-01 | F33: 0 | G33: 0.3 | H33: 0 | I33: 12.96372 | J33: 0 | K33: =F33*Dane!$C$14+G33*Dane!$C$15+H33*Dane!$C$16 -> 9.9 | L33: =F33*Dane!$F$14+G33*Dane!$F$15+H33*Dane!$F$17 -> 1.5 | M33: =F33*Dane!$H$14+G33*Dane!$H$15+H33*Dane!$H$16+(F33+G33+H33)*Dane!$C$22 -> 21.6 | N33: =SUM(I33:M33) -> 45.96372 | O33: =IF(B33="W",N33*Dane!$D$2,N33*Dane!$H$2) -> 9.192744 | P33: =SUM(N33:O33) -> 55.156464 | Q33: =IF(B33="W",N33*Dane!$C$23,N33*Dane!$C$23) -> 0 | R33: =IF(B33="W",(N33*Dane!$D$3)-Q33,(N33*Dane!$H$3)-Q33) -> 0 | S33: =SUM(P33:R33) -> 55.156464 | T33: =S33*0.1 -> 5.5156464 | U33: =S33*0.2 -> 11.031293 | V33: =SUM(S33:T33) -> 60.67211 | W33: =SUM(S33,U33) -> 66.187757 | X33: 79.118027 | Y33: =X33*Dane!$D$6 -> 11.867704 | Z33: =X33*Dane!$D$7 -> 23.735408 | AA33: =X33*Dane!$D$8 -> 47.470816
A34: =A33+1 -> 31 | B34: W | C34: Diodowy ogranicznik napięcia EH-P/20/01 | D34: EH-1319-1-000003-01 | F34: 0 | G34: 1 | H34: 0 | I34: 19.717335 | J34: 0 | K34: =F34*Dane!$C$14+G34*Dane!$C$15+H34*Dane!$C$16 -> 33 | L34: =F34*Dane!$F$14+G34*Dane!$F$15+H34*Dane!$F$17 -> 5 | M34: =F34*Dane!$H$14+G34*Dane!$H$15+H34*Dane!$H$16+(F34+G34+H34)*Dane!$C$22 -> 72 | N34: =SUM(I34:M34) -> 129.71733 | O34: =IF(B34="W",N34*Dane!$D$2,N34*Dane!$H$2) -> 25.943467 | P34: =SUM(N34:O34) -> 155.6608 | Q34: =IF(B34="W",N34*Dane!$C$23,N34*Dane!$C$23) -> 0 | R34: =IF(B34="W",(N34*Dane!$D$3)-Q34,(N34*Dane!$H$3)-Q34) -> 0 | S34: =SUM(P34:R34) -> 155.6608 | T34: =S34*0.1 -> 15.56608 | U34: =S34*0.2 -> 31.13216 | V34: =SUM(S34:T34) -> 171.22688 | W34: =SUM(S34,U34) -> 186.79296 | X34: 560.55 | Y34: =X34*Dane!$D$6 -> 84.0825 | Z34: =X34*Dane!$D$7 -> 168.165 | AA34: =X34*Dane!$D$8 -> 336.33
A35: =A34+1 -> 32 | B35: Z | C35: Dławik DŁ-10 1000V | D35: 700-137-0510 | F35: 0 | G35: 0 | H35: 0 | I35: 40.15935 | J35: 0 | K35: =F35*Dane!$C$14+G35*Dane!$C$15+H35*Dane!$C$16 -> 0 | L35: =F35*Dane!$F$14+G35*Dane!$F$15+H35*Dane!$F$17 -> 0 | M35: =F35*Dane!$H$14+G35*Dane!$H$15+H35*Dane!$H$16+(F35+G35+H35)*Dane!$C$22 -> 0 | N35: =SUM(I35:M35) -> 40.15935 | O35: =IF(B35="W",N35*Dane!$D$2,N35*Dane!$H$2) -> 8.03187 | P35: =SUM(N35:O35) -> 48.19122 | Q35: =IF(B35="W",N35*Dane!$C$23,N35*Dane!$C$23) -> 0 | R35: =IF(B35="W",(N35*Dane!$D$3)-Q35,(N35*Dane!$H$3)-Q35) -> 0 | S35: =SUM(P35:R35) -> 48.19122 | T35: =S35*0.1 -> 4.819122 | U35: =S35*0.2 -> 9.638244 | V35: =SUM(S35:T35) -> 53.010342 | W35: =SUM(S35,U35) -> 57.829464 | X35: 128
A36: =A35+1 -> 33 | B36: Z | C36: Dławik DŁ-3,3 kV | D36: 700-137-0520 | F36: 0 | G36: 0 | H36: 0 | I36: 568.6725 | J36: 0 | K36: =F36*Dane!$C$14+G36*Dane!$C$15+H36*Dane!$C$16 -> 0 | L36: =F36*Dane!$F$14+G36*Dane!$F$15+H36*Dane!$F$17 -> 0 | M36: =F36*Dane!$H$14+G36*Dane!$H$15+H36*Dane!$H$16+(F36+G36+H36)*Dane!$C$22 -> 0 | N36: =SUM(I36:M36) -> 568.6725 | O36: =IF(B36="W",N36*Dane!$D$2,N36*Dane!$H$2) -> 113.7345 | P36: =SUM(N36:O36) -> 682.407 | Q36: =IF(B36="W",N36*Dane!$C$23,N36*Dane!$C$23) -> 0 | R36: =IF(B36="W",(N36*Dane!$D$3)-Q36,(N36*Dane!$H$3)-Q36) -> 0 | S36: =SUM(P36:R36) -> 682.407 | T36: =S36*0.1 -> 68.2407 | U36: =S36*0.2 -> 136.4814 | V36: =SUM(S36:T36) -> 750.6477 | W36: =SUM(S36,U36) -> 818.8884 | X36: 2345.58
A37: =A36+1 -> 34 | B37: Z | C37: Dławik DŁ-6 kV | D37: 700-156-0005 | F37: 0 | G37: 0 | H37: 0 | I37: 654.225 | J37: 0 | K37: =F37*Dane!$C$14+G37*Dane!$C$15+H37*Dane!$C$16 -> 0 | L37: =F37*Dane!$F$14+G37*Dane!$F$15+H37*Dane!$F$17 -> 0 | M37: =F37*Dane!$H$14+G37*Dane!$H$15+H37*Dane!$H$16+(F37+G37+H37)*Dane!$C$22 -> 0 | N37: =SUM(I37:M37) -> 654.225 | O37: =IF(B37="W",N37*Dane!$D$2,N37*Dane!$H$2) -> 130.845 | P37: =SUM(N37:O37) -> 785.07 | Q37: =IF(B37="W",N37*Dane!$C$23,N37*Dane!$C$23) -> 0 | R37: =IF(B37="W",(N37*Dane!$D$3)-Q37,(N37*Dane!$H$3)-Q37) -> 0 | S37: =SUM(P37:R37) -> 785.07 | T37: =S37*0.1 -> 78.507 | U37: =S37*0.2 -> 157.014 | V37: =SUM(S37:T37) -> 863.577 | W37: =SUM(S37,U37) -> 942.084 | X37: 2363
